BEGIN:VCALENDAR
VERSION:2.0
PRODID:-//Go Batroun - ECPv6.14.2//NONSGML v1.0//EN
CALSCALE:GREGORIAN
METHOD:PUBLISH
X-ORIGINAL-URL:https://gobatroun.com
X-WR-CALDESC:Events for Go Batroun
REFRESH-INTERVAL;VALUE=DURATION:PT1H
X-Robots-Tag:noindex
X-PUBLISHED-TTL:PT1H
BEGIN:VTIMEZONE
TZID:Asia/Beirut
BEGIN:DAYLIGHT
TZOFFSETFROM:+0200
TZOFFSETTO:+0300
TZNAME:EEST
DTSTART:20220326T220000
END:DAYLIGHT
BEGIN:STANDARD
TZOFFSETFROM:+0300
TZOFFSETTO:+0200
TZNAME:EET
DTSTART:20221029T210000
END:STANDARD
END:VTIMEZONE
BEGIN:VEVENT
DTSTART;TZID=Asia/Beirut:20220818T200000
DTEND;TZID=Asia/Beirut:20220818T200000
DTSTAMP:20260419T162344
CREATED:20220817T074838Z
LAST-MODIFIED:20220817T074838Z
UID:10001002-1660852800-1660852800@gobatroun.com
SUMMARY:Burger Night at Pine Straw Douma
DESCRIPTION:
URL:https://gobatroun.com/event/burger-night-at-pine-straw-douma/
LOCATION:Pine Straw Douma
CATEGORIES:Performing Arts
ATTACH;FMTTYPE=image/png:https://gobatroun.com/wp-content/uploads/2022/08/Screenshot-1316.png
END:VEVENT
BEGIN:VEVENT
DTSTART;TZID=Asia/Beirut:20220819T180000
DTEND;TZID=Asia/Beirut:20220819T180000
DTSTAMP:20260419T162344
CREATED:20220813T112134Z
LAST-MODIFIED:20220813T112134Z
UID:10001140-1660932000-1660932000@gobatroun.com
SUMMARY:Kfarabida Summer Festival 2022
DESCRIPTION:We are delighted to announce ‘Kfarabida Summer Festival 2022’ in collaboration with Kfarabida Solidarity Sporting Club (CSSK) that will take place on Friday & Saturday 19 and 20 August from 6 pm to 12 am at Kfarabida Burj\, seaside road.\nAt the festival\, you’ll be able to enjoy food live stations\, music\, performances\, fun activities\, refreshing summer snacks\, competitions\, activities\, and much more!\nBring your kids and families to enjoy the festival!\nFor details\, please contact us on 81839376.
URL:https://gobatroun.com/event/kfarabida-summer-festival-2022/
LOCATION:Kfarabida
CATEGORIES:Festivals,Performing Arts
ATTACH;FMTTYPE=image/png:https://gobatroun.com/wp-content/uploads/2022/08/Screenshot-162.png
END:VEVENT
BEGIN:VEVENT
DTSTART;TZID=Asia/Beirut:20220820T203000
DTEND;TZID=Asia/Beirut:20220820T203000
DTSTAMP:20260419T162344
CREATED:20220816T100310Z
LAST-MODIFIED:20220816T100310Z
UID:10001155-1661027400-1661027400@gobatroun.com
SUMMARY:Cheryl Ghostine at Vine Wine Bar
DESCRIPTION:Join us this Saturday August 20 for some pop funk – electro – nu disco – with D-Che 🎶- @cherylghostine – starting 8:30 pm\n.\nFor bookings – 71 455 882
URL:https://gobatroun.com/event/cheryl-ghostine-at-vine-wine-bar-2/
LOCATION:Vine\, Smar Jbeil\, 6M9R+95 Smar Jbeil\, Smar Jbeil\, Lebanon
CATEGORIES:Performing Arts
ATTACH;FMTTYPE=image/png:https://gobatroun.com/wp-content/uploads/2022/08/Screenshot-1279.png
END:VEVENT
BEGIN:VEVENT
DTSTART;TZID=Asia/Beirut:20220820T203000
DTEND;TZID=Asia/Beirut:20220820T203000
DTSTAMP:20260419T162344
CREATED:20220817T060326Z
LAST-MODIFIED:20220817T060326Z
UID:10001176-1661027400-1661027400@gobatroun.com
SUMMARY:Arabian Night at Gass Camping
DESCRIPTION:One thousand and one night at its best version this Saturday at Gass camping !! ✨ \nJoin us for an Arabian night to remember ✨\nEnjoy the Oriental music vibes and belly dance show in the heart of nature 🏕️\n✨ Free henna station ✨ \nDelicious food and drinks are waiting for you too!!
URL:https://gobatroun.com/event/arabian-night-at-gass-camping/
LOCATION:Gass Camping
CATEGORIES:Performing Arts
ATTACH;FMTTYPE=image/png:https://gobatroun.com/wp-content/uploads/2022/08/Screenshot-1293.png
END:VEVENT
END:VCALENDAR