BEGIN:VCALENDAR
VERSION:2.0
PRODID:-//Go Batroun - ECPv6.14.2//NONSGML v1.0//EN
CALSCALE:GREGORIAN
METHOD:PUBLISH
X-WR-CALNAME:Go Batroun
X-ORIGINAL-URL:https://gobatroun.com
X-WR-CALDESC:Events for Go Batroun
REFRESH-INTERVAL;VALUE=DURATION:PT1H
X-Robots-Tag:noindex
X-PUBLISHED-TTL:PT1H
BEGIN:VTIMEZONE
TZID:Asia/Beirut
BEGIN:DAYLIGHT
TZOFFSETFROM:+0200
TZOFFSETTO:+0300
TZNAME:EEST
DTSTART:20220326T220000
END:DAYLIGHT
BEGIN:STANDARD
TZOFFSETFROM:+0300
TZOFFSETTO:+0200
TZNAME:EET
DTSTART:20221029T210000
END:STANDARD
END:VTIMEZONE
BEGIN:VEVENT
DTSTART;TZID=Asia/Beirut:20220708T193000
DTEND;TZID=Asia/Beirut:20220709T233000
DTSTAMP:20260420T090616
CREATED:20220708T061508Z
LAST-MODIFIED:20220708T061801Z
UID:10000914-1657308600-1657409400@gobatroun.com
SUMMARY:Charly at Casa Cartel
DESCRIPTION:It’s the weekend! \nAnd we’re playing happy tunes\, serving bright cocktails 🍹\, serving 🌈 food\, and wearing our smiles up.
URL:https://gobatroun.com/event/charly-at-casa-cartel/
LOCATION:Casa Cartel Batroun
CATEGORIES:Performing Arts,Sports
ATTACH;FMTTYPE=image/png:https://gobatroun.com/wp-content/uploads/2022/07/Screenshot-902.png
END:VEVENT
BEGIN:VEVENT
DTSTART;TZID=Asia/Beirut:20220709T210000
DTEND;TZID=Asia/Beirut:20220709T210000
DTSTAMP:20260420T090616
CREATED:20220708T084346Z
LAST-MODIFIED:20220708T084346Z
UID:10000806-1657400400-1657400400@gobatroun.com
SUMMARY:Joelle Makhoul at Snaw Bar Camping
DESCRIPTION:Join us this Saturday 9th of July at 9:00 pm. \nLet’s sit around the bonfire and sing with @joelle__makhoul\n@snaw_bar_camping\, so grab your friends and join us to spread some positive vibes together 🍻 \nWe are waiting for you.\nTo reserve call us on : 🔸 RSVP : 71942776 \n❗Bring a jacket or blanket if you’d like!❗ \n💠 band charge: 90\,000 LBP per person \n🔸 Camping spot 🏕\n🔸 bonfire 🔥\n🔸 bar 🍻\n🔸 food 🥙🌮🍳\n🔸 game board ♟🎲🎯\n🔸 Toilets available\n🔸 tent rental is available upon reservation .🏕
URL:https://gobatroun.com/event/joelle-makhoul-at-snaw-bar-camping/
LOCATION:Snaw Bar
CATEGORIES:Performing Arts,Sports
ATTACH;FMTTYPE=image/png:https://gobatroun.com/wp-content/uploads/2022/07/Screenshot-907.png
END:VEVENT
END:VCALENDAR