BEGIN:VCALENDAR
VERSION:2.0
PRODID:-//Go Batroun - ECPv6.14.2//NONSGML v1.0//EN
CALSCALE:GREGORIAN
METHOD:PUBLISH
X-WR-CALNAME:Go Batroun
X-ORIGINAL-URL:https://gobatroun.com
X-WR-CALDESC:Events for Go Batroun
REFRESH-INTERVAL;VALUE=DURATION:PT1H
X-Robots-Tag:noindex
X-PUBLISHED-TTL:PT1H
BEGIN:VTIMEZONE
TZID:Asia/Beirut
BEGIN:DAYLIGHT
TZOFFSETFROM:+0200
TZOFFSETTO:+0300
TZNAME:EEST
DTSTART:20230325T220000
END:DAYLIGHT
BEGIN:STANDARD
TZOFFSETFROM:+0300
TZOFFSETTO:+0200
TZNAME:EET
DTSTART:20231028T210000
END:STANDARD
END:VTIMEZONE
BEGIN:VEVENT
DTSTART;VALUE=DATE:20230213
DTEND;VALUE=DATE:20230214
DTSTAMP:20260419T204913
CREATED:20230210T073551Z
LAST-MODIFIED:20230210T073551Z
UID:10001927-1676246400-1676332799@gobatroun.com
SUMMARY:Indian Night at Mayouli
DESCRIPTION:Spice up your Valentine’s celebration with a delicious dinner catered by @getgrilledlb 😉🥰 \n📅 Monday 13 January 2023\n🕧 Starting 6:00 PM \n💵 Prices: 50$ per couple\n60$ per couple wih a Wine\nBottle 🍷 \nLimited Seats available\nFor reservation: 71 000 516
URL:https://gobatroun.com/event/indian-night-at-mayouli/
LOCATION:Mayouli\, 7M88+PP Batroun\, Batroun\, Lebanon
CATEGORIES:Performing Arts
ATTACH;FMTTYPE=image/png:https://gobatroun.com/wp-content/uploads/2023/02/Screenshot-2718.png
GEO:34.266795819013;35.666856562531
X-APPLE-STRUCTURED-LOCATION;VALUE=URI;X-ADDRESS=Mayouli 7M88+PP Batroun Batroun Lebanon;X-APPLE-RADIUS=500;X-TITLE=7M88+PP Batroun:geo:35.666856562531,34.266795819013
END:VEVENT
BEGIN:VEVENT
DTSTART;VALUE=DATE:20230213
DTEND;VALUE=DATE:20230215
DTSTAMP:20260419T204913
CREATED:20230213T075524Z
LAST-MODIFIED:20230213T075524Z
UID:10001947-1676246400-1676419199@gobatroun.com
SUMMARY:Valentine's date at Bario67
DESCRIPTION:
URL:https://gobatroun.com/event/valentines-date-at-bario67/
LOCATION:Barrio67
CATEGORIES:Performing Arts
ATTACH;FMTTYPE=image/png:https://gobatroun.com/wp-content/uploads/2023/02/Screenshot-2733.png
END:VEVENT
END:VCALENDAR