BEGIN:VCALENDAR
VERSION:2.0
PRODID:-//Go Batroun - ECPv6.14.2//NONSGML v1.0//EN
CALSCALE:GREGORIAN
METHOD:PUBLISH
X-WR-CALNAME:Go Batroun
X-ORIGINAL-URL:https://gobatroun.com
X-WR-CALDESC:Events for Go Batroun
REFRESH-INTERVAL;VALUE=DURATION:PT1H
X-Robots-Tag:noindex
X-PUBLISHED-TTL:PT1H
BEGIN:VTIMEZONE
TZID:Asia/Beirut
BEGIN:DAYLIGHT
TZOFFSETFROM:+0200
TZOFFSETTO:+0300
TZNAME:EEST
DTSTART:20220326T220000
END:DAYLIGHT
BEGIN:STANDARD
TZOFFSETFROM:+0300
TZOFFSETTO:+0200
TZNAME:EET
DTSTART:20221029T210000
END:STANDARD
END:VTIMEZONE
BEGIN:VEVENT
DTSTART;TZID=Asia/Beirut:20220910T193000
DTEND;TZID=Asia/Beirut:20220910T193000
DTSTAMP:20260420T165909
CREATED:20220908T061155Z
LAST-MODIFIED:20220908T061155Z
UID:10001320-1662838200-1662838200@gobatroun.com
SUMMARY:The Amberjacks at Green House
DESCRIPTION:Join the awesome Band @theamberjacks at @greenhousecafeandbar this Saturday 10 September.
URL:https://gobatroun.com/event/the-amberjacks-at-green-house-4/
LOCATION:Green House Batroun
CATEGORIES:Performing Arts
ATTACH;FMTTYPE=image/png:https://gobatroun.com/wp-content/uploads/2022/09/Screenshot-1582.png
END:VEVENT
BEGIN:VEVENT
DTSTART;TZID=Asia/Beirut:20220910T200000
DTEND;TZID=Asia/Beirut:20220910T200000
DTSTAMP:20260420T165909
CREATED:20220907T125455Z
LAST-MODIFIED:20220907T125455Z
UID:10001318-1662840000-1662840000@gobatroun.com
SUMMARY:Open Prime BBQ and Open Bar with Hostile Kitchen at Pine Straw Douma
DESCRIPTION:Join us this Saturday 10 September at Pine Straw Douma.
URL:https://gobatroun.com/event/open-prime-bbq-and-open-bar-with-hostile-kitchen-at-pine-straw-douma/
LOCATION:Pine Straw Douma
CATEGORIES:Performing Arts
ATTACH;FMTTYPE=image/png:https://gobatroun.com/wp-content/uploads/2022/09/Screenshot-1578.png
END:VEVENT
BEGIN:VEVENT
DTSTART;TZID=Asia/Beirut:20220910T210000
DTEND;TZID=Asia/Beirut:20220910T210000
DTSTAMP:20260420T165909
CREATED:20220907T072931Z
LAST-MODIFIED:20220907T072931Z
UID:10001315-1662843600-1662843600@gobatroun.com
SUMMARY:Allo Beirut Band at Tramway Batroun
DESCRIPTION:This Saturday\, September 10 with Allo Beirut Band at Tramway Batroun\, Ft. @dj_chub_official \n✨ Starting 9:00PM\n✨ Valet Parking service available \n📲 +961 03 51 41 01
URL:https://gobatroun.com/event/allo-beirut-band-at-tramway-batroun/
LOCATION:Tramway Gastro Pub\, 7M45+CQ Batroun\, Batroun\, Lebanon
CATEGORIES:Performing Arts
ATTACH;FMTTYPE=image/png:https://gobatroun.com/wp-content/uploads/2022/09/Screenshot-1567.png
END:VEVENT
BEGIN:VEVENT
DTSTART;TZID=Asia/Beirut:20220910T230000
DTEND;TZID=Asia/Beirut:20220910T230000
DTSTAMP:20260420T165909
CREATED:20220907T061907Z
LAST-MODIFIED:20220907T061907Z
UID:10001310-1662850800-1662850800@gobatroun.com
SUMMARY:DARKnRAW at Pine Straw Douma
DESCRIPTION:Known as the “cherry on top”\, @darknrawofficial will be taking over the stage by their known talent! Catch them at 12:00 – 3:00 AM for an epic episode 🌩
URL:https://gobatroun.com/event/darknraw-at-pine-straw-douma/
LOCATION:Pine Straw Douma
CATEGORIES:Performing Arts
ATTACH;FMTTYPE=image/png:https://gobatroun.com/wp-content/uploads/2022/09/Screenshot-1562.png
END:VEVENT
END:VCALENDAR