BEGIN:VCALENDAR
VERSION:2.0
PRODID:-//Go Batroun - ECPv6.14.2//NONSGML v1.0//EN
CALSCALE:GREGORIAN
METHOD:PUBLISH
X-ORIGINAL-URL:https://gobatroun.com
X-WR-CALDESC:Events for Go Batroun
REFRESH-INTERVAL;VALUE=DURATION:PT1H
X-Robots-Tag:noindex
X-PUBLISHED-TTL:PT1H
BEGIN:VTIMEZONE
TZID:Asia/Beirut
BEGIN:DAYLIGHT
TZOFFSETFROM:+0200
TZOFFSETTO:+0300
TZNAME:EEST
DTSTART:20220326T220000
END:DAYLIGHT
BEGIN:STANDARD
TZOFFSETFROM:+0300
TZOFFSETTO:+0200
TZNAME:EET
DTSTART:20221029T210000
END:STANDARD
END:VTIMEZONE
BEGIN:VEVENT
DTSTART;TZID=Asia/Beirut:20220619T093000
DTEND;TZID=Asia/Beirut:20220619T170000
DTSTAMP:20260420T220216
CREATED:20220615T103452Z
LAST-MODIFIED:20220617T111809Z
UID:10000854-1655631000-1655658000@gobatroun.com
SUMMARY:International Yoga Day
DESCRIPTION:Let’s celebrate international yoga day THIS SUNDAY with Sarah @sarahsyogalb in nature. Bring your mats and join our morning yoga session at 9:30 am followed by our farm-to-table buffet! 🧘‍♀️🧘 \nLet’s introduce you to Sarah! 🙋‍♀️ \nSarah has been a Yoga teacher for 5 years. She started her journey in Dubai with 300 hours of teacher training from Mysore India. She also added to her training a 100 hours of Yin and Aerial Yoga training in Rishikesh.\nShe will be offering an all-level gentle morning flow! 🌿
URL:https://gobatroun.com/event/international-yoga-day/
LOCATION:Biomass Restaurant
CATEGORIES:Sports
ATTACH;FMTTYPE=image/png:https://gobatroun.com/wp-content/uploads/2022/06/Screenshot-23.png
END:VEVENT
END:VCALENDAR