BEGIN:VCALENDAR
VERSION:2.0
PRODID:-//Go Batroun - ECPv6.14.2//NONSGML v1.0//EN
CALSCALE:GREGORIAN
METHOD:PUBLISH
X-WR-CALNAME:Go Batroun
X-ORIGINAL-URL:https://gobatroun.com
X-WR-CALDESC:Events for Go Batroun
REFRESH-INTERVAL;VALUE=DURATION:PT1H
X-Robots-Tag:noindex
X-PUBLISHED-TTL:PT1H
BEGIN:VTIMEZONE
TZID:Asia/Beirut
BEGIN:DAYLIGHT
TZOFFSETFROM:+0200
TZOFFSETTO:+0300
TZNAME:EEST
DTSTART:20240330T220000
END:DAYLIGHT
BEGIN:STANDARD
TZOFFSETFROM:+0300
TZOFFSETTO:+0200
TZNAME:EET
DTSTART:20241026T210000
END:STANDARD
END:VTIMEZONE
BEGIN:VEVENT
DTSTART;TZID=Asia/Beirut:20240803T160000
DTEND;TZID=Asia/Beirut:20240803T160000
DTSTAMP:20260423T151324
CREATED:20240724T070216Z
LAST-MODIFIED:20240724T070508Z
UID:10006452-1722700800-1722700800@gobatroun.com
SUMMARY:Foamtastic Colorful Party
DESCRIPTION:Foamtastic Colorful Party \nGet ready for a foamtastic colorful party with Kids Factory at Batroun Village Club! \nDate: August 3\nStarting at 4 p.m.\n️ Ticket: $20 per kid\, $5 per adult\nDress Code: Swimsuit \n**Activities:**\n– Soap Soccer\n– Foam Party\n– Color Fight\n– Slime and Art Station\n– Crazy Hair Station\n– Many Surprises! \nFood and beverage\, and shisha station available\n⚠️ Note: No pool access \nFor reservations\, contact us at +961 71 599 262
URL:https://gobatroun.com/event/foamtastic-colorful-party/
LOCATION:Kids Factory\, 7M45+MGJ Batroun\, Batroun\, Lebanon
CATEGORIES:Performing Arts
ATTACH;FMTTYPE=image/jpeg:https://gobatroun.com/wp-content/uploads/2024/07/August-3-Event.jpg
END:VEVENT
END:VCALENDAR