BEGIN:VCALENDAR
VERSION:2.0
PRODID:-//Go Batroun - ECPv6.14.2//NONSGML v1.0//EN
CALSCALE:GREGORIAN
METHOD:PUBLISH
X-WR-CALNAME:Go Batroun
X-ORIGINAL-URL:https://gobatroun.com
X-WR-CALDESC:Events for Go Batroun
REFRESH-INTERVAL;VALUE=DURATION:PT1H
X-Robots-Tag:noindex
X-PUBLISHED-TTL:PT1H
BEGIN:VTIMEZONE
TZID:Asia/Beirut
BEGIN:DAYLIGHT
TZOFFSETFROM:+0200
TZOFFSETTO:+0300
TZNAME:EEST
DTSTART:20240330T220000
END:DAYLIGHT
BEGIN:STANDARD
TZOFFSETFROM:+0300
TZOFFSETTO:+0200
TZNAME:EET
DTSTART:20241026T210000
END:STANDARD
END:VTIMEZONE
BEGIN:VEVENT
DTSTART;VALUE=DATE:20240602
DTEND;VALUE=DATE:20240603
DTSTAMP:20260422T233719
CREATED:20240422T100939Z
LAST-MODIFIED:20240422T100939Z
UID:10006077-1717315200-1717315200@gobatroun.com
SUMMARY:Kids\, Youth and Parents Climbing Day
DESCRIPTION:We have two outdoor climbing trips planned for kids\, youth and parents ⛰️ \nJoins us with your kids or send them with us for an unforgettable adventure ‍♂️ \nContact us to book\, spots are limited
URL:https://gobatroun.com/event/kids-youth-and-parents-climbing-day/2024-06-02/
LOCATION:Chatine
CATEGORIES:Sports
ATTACH;FMTTYPE=image/webp:https://gobatroun.com/wp-content/uploads/2024/04/May-6-June-2-Parent-Kids-Climbing.webp
END:VEVENT
BEGIN:VEVENT
DTSTART;TZID=Asia/Beirut:20240512T080000
DTEND;TZID=Asia/Beirut:20240512T170000
DTSTAMP:20260422T233719
CREATED:20240507T065935Z
LAST-MODIFIED:20240507T065935Z
UID:10006100-1715500800-1715533200@gobatroun.com
SUMMARY:Open Buffet
DESCRIPTION:Open Buffet and Joyful festivities with kids Factory \nBook at +961 71 003 350
URL:https://gobatroun.com/event/open-buffet/
LOCATION:Batroun Village Club
CATEGORIES:Performing Arts
ATTACH;FMTTYPE=image/webp:https://gobatroun.com/wp-content/uploads/2024/05/Open-Buffet-May-12th-2024.webp
END:VEVENT
BEGIN:VEVENT
DTSTART;VALUE=DATE:20240506
DTEND;VALUE=DATE:20240508
DTSTAMP:20260422T233719
CREATED:20240422T100939Z
LAST-MODIFIED:20240422T100939Z
UID:10006076-1714975200-1715061599@gobatroun.com
SUMMARY:Kids\, Youth and Parents Climbing Day
DESCRIPTION:We have two outdoor climbing trips planned for kids\, youth and parents ⛰️ \nJoins us with your kids or send them with us for an unforgettable adventure ‍♂️ \nContact us to book\, spots are limited
URL:https://gobatroun.com/event/kids-youth-and-parents-climbing-day/2024-05-06/
LOCATION:Chatine
CATEGORIES:Sports
ATTACH;FMTTYPE=image/webp:https://gobatroun.com/wp-content/uploads/2024/04/May-6-June-2-Parent-Kids-Climbing.webp
END:VEVENT
BEGIN:VEVENT
DTSTART;VALUE=DATE:20240505
DTEND;VALUE=DATE:20240507
DTSTAMP:20260422T233719
CREATED:20240430T074344Z
LAST-MODIFIED:20240430T074344Z
UID:10006093-1714888800-1714975199@gobatroun.com
SUMMARY:Open Buffet Easter Sunday
DESCRIPTION:Open Buffet \nEaster Sunday \nMany Surprises Await you
URL:https://gobatroun.com/event/open-buffet-easter-sunday/
LOCATION:Kids Factory\, 7M45+MGJ Batroun\, Batroun\, Lebanon
CATEGORIES:Performing Arts
ATTACH;FMTTYPE=image/webp:https://gobatroun.com/wp-content/uploads/2024/04/Open-Buffet-May-5.webp
END:VEVENT
BEGIN:VEVENT
DTSTART;TZID=Asia/Beirut:20240417T080000
DTEND;TZID=Asia/Beirut:20240417T170000
DTSTAMP:20260422T233719
CREATED:20240417T104520Z
LAST-MODIFIED:20240417T104557Z
UID:10006074-1713340800-1713373200@gobatroun.com
SUMMARY:Sunset Yoga with Joanna
DESCRIPTION:Saturday Sunset Yoga Session with @massoudjoanna \nFee 10$ \nFoods and drinks are available all day \nBring a jacket or blanket if you’d like! \n\n Camping Spot\n Bonfire\n Bar\n Food\n Game Board\n Toilets available\n Tent rental is available upon reservation\n RSVP : +961 71 942 776
URL:https://gobatroun.com/event/sunset-yoga-with-joanna/
LOCATION:Snaw Bar Camping\, 6MRV+PW Ijdabra\, Ijdabra\, Lebanon
CATEGORIES:Sports
ATTACH;FMTTYPE=image/webp:https://gobatroun.com/wp-content/uploads/2024/04/Snawbar-Yoga-April-20.webp
GEO:34.241856415941;35.694771331139
X-APPLE-STRUCTURED-LOCATION;VALUE=URI;X-ADDRESS=Snaw Bar Camping 6MRV+PW Ijdabra Ijdabra Lebanon;X-APPLE-RADIUS=500;X-TITLE=6MRV+PW Ijdabra:geo:35.694771331139,34.241856415941
END:VEVENT
END:VCALENDAR