BEGIN:VCALENDAR
VERSION:2.0
PRODID:-//Go Batroun - ECPv6.14.2//NONSGML v1.0//EN
CALSCALE:GREGORIAN
METHOD:PUBLISH
X-WR-CALNAME:Go Batroun
X-ORIGINAL-URL:https://gobatroun.com
X-WR-CALDESC:Events for Go Batroun
REFRESH-INTERVAL;VALUE=DURATION:PT1H
X-Robots-Tag:noindex
X-PUBLISHED-TTL:PT1H
BEGIN:VTIMEZONE
TZID:Asia/Beirut
BEGIN:DAYLIGHT
TZOFFSETFROM:+0200
TZOFFSETTO:+0300
TZNAME:EEST
DTSTART:20240330T220000
END:DAYLIGHT
BEGIN:STANDARD
TZOFFSETFROM:+0300
TZOFFSETTO:+0200
TZNAME:EET
DTSTART:20241026T210000
END:STANDARD
END:VTIMEZONE
BEGIN:VEVENT
DTSTART;TZID=Asia/Beirut:20241130T130000
DTEND;TZID=Asia/Beirut:20241130T150000
DTSTAMP:20260425T190315
CREATED:20241127T065305Z
LAST-MODIFIED:20241127T065724Z
UID:10006677-1732971600-1732978800@gobatroun.com
SUMMARY:Saint Barbara Event at Pine Roots
DESCRIPTION:Saint Barbara Event at Pine Roots \nSaint Barbara Event at Pine Roots – Batroun! \nJoin us on Saturday\, November 30th from 1 PM to 3 PM for a day packed with festive fun and activities! \nCostume Catwalk\nConfetti Party\nWheat Planting & Decoration\nArts & Crafts\nMandala Coloring\nSurprising Characters\nFunny Games\nPlayground & Playhouse Access\nDelicious Wheat Treat \nDon’t forget to come wearing your funniest costume for the catwalk! \nFees: $20 per kid | Adults Free!\nRSVP: +961 71 599 262 \nLet’s celebrate Saint Barbara in style with creativity\, laughter\, and surprises! \n 
URL:https://gobatroun.com/event/saint-barbara-event-at-pine-roots/
LOCATION:Pine Roots
CATEGORIES:Performing Arts
ATTACH;FMTTYPE=image/jpeg:https://gobatroun.com/wp-content/uploads/2024/11/November-30-Event-1.jpg
END:VEVENT
END:VCALENDAR