BEGIN:VCALENDAR
VERSION:2.0
PRODID:-//Go Batroun - ECPv6.14.2//NONSGML v1.0//EN
CALSCALE:GREGORIAN
METHOD:PUBLISH
X-WR-CALNAME:Go Batroun
X-ORIGINAL-URL:https://gobatroun.com
X-WR-CALDESC:Events for Go Batroun
REFRESH-INTERVAL;VALUE=DURATION:PT1H
X-Robots-Tag:noindex
X-PUBLISHED-TTL:PT1H
BEGIN:VTIMEZONE
TZID:Asia/Beirut
BEGIN:DAYLIGHT
TZOFFSETFROM:+0200
TZOFFSETTO:+0300
TZNAME:EEST
DTSTART:20250329T220000
END:DAYLIGHT
BEGIN:STANDARD
TZOFFSETFROM:+0300
TZOFFSETTO:+0200
TZNAME:EET
DTSTART:20251025T210000
END:STANDARD
END:VTIMEZONE
BEGIN:VEVENT
DTSTART;TZID=Asia/Beirut:20250607T090000
DTEND;TZID=Asia/Beirut:20250607T090000
DTSTAMP:20260421T181227
CREATED:20250605T130347Z
LAST-MODIFIED:20250605T130347Z
UID:10007002-1749286800-1749286800@gobatroun.com
SUMMARY:Weekly Yoga Schedule
DESCRIPTION:A new class will be offered in Batroun at the Diaspora Village every Saturday at 9 AM\, starting June 7th.
URL:https://gobatroun.com/event/weekly-yoga-schedule/
LOCATION:Diaspora Village\, 7M44+5WG 1400\, Batroun\, Batroun\, Lebanon
CATEGORIES:Sports
ATTACH;FMTTYPE=image/webp:https://gobatroun.com/wp-content/uploads/2025/06/Diaspora-7-june.webp
ORGANIZER;CN="Diaspora Village":MAILTO:info@lebanesediasporavillage.com
GEO:34.255439713586;35.657307550695
X-APPLE-STRUCTURED-LOCATION;VALUE=URI;X-ADDRESS=Diaspora Village 7M44+5WG 1400 Batroun Batroun Lebanon;X-APPLE-RADIUS=500;X-TITLE=7M44+5WG 1400\, Batroun:geo:35.657307550695,34.255439713586
END:VEVENT
END:VCALENDAR