BEGIN:VCALENDAR
VERSION:2.0
PRODID:-//Go Batroun - ECPv6.14.2//NONSGML v1.0//EN
CALSCALE:GREGORIAN
METHOD:PUBLISH
X-WR-CALNAME:Go Batroun
X-ORIGINAL-URL:https://gobatroun.com
X-WR-CALDESC:Events for Go Batroun
REFRESH-INTERVAL;VALUE=DURATION:PT1H
X-Robots-Tag:noindex
X-PUBLISHED-TTL:PT1H
BEGIN:VTIMEZONE
TZID:Asia/Beirut
BEGIN:DAYLIGHT
TZOFFSETFROM:+0200
TZOFFSETTO:+0300
TZNAME:EEST
DTSTART:20240330T220000
END:DAYLIGHT
BEGIN:STANDARD
TZOFFSETFROM:+0300
TZOFFSETTO:+0200
TZNAME:EET
DTSTART:20241026T210000
END:STANDARD
END:VTIMEZONE
BEGIN:VEVENT
DTSTART;TZID=Asia/Beirut:20240731T200000
DTEND;TZID=Asia/Beirut:20240731T200000
DTSTAMP:20260426T012854
CREATED:20240617T103133Z
LAST-MODIFIED:20240722T190810Z
UID:10006210-1722456000-1722456000@gobatroun.com
SUMMARY:Batroun International Festival 2024- August\, September
DESCRIPTION:Batroun International Festival \nJuly 31 Till August 31: Batroun Photo\, Batroun Old Streets \nAugust 10: Wind Rose 2024\,  Batroun Capital Of Sailing\, Bahsa Bay \nSpetember 5\,6\,7\, 8: Batroun Mediterranean Film Festival\, Dispora Village حارة القلعة
URL:https://gobatroun.com/event/batroun-international-festival-2024-2/
LOCATION:Mina Batroun
CATEGORIES:Festivals|Performing Arts
ATTACH;FMTTYPE=image/jpeg:https://gobatroun.com/wp-content/uploads/2024/05/Schedule-2.jpg
END:VEVENT
BEGIN:VEVENT
DTSTART;TZID=Asia/Beirut:20240721T200000
DTEND;TZID=Asia/Beirut:20240721T200000
DTSTAMP:20260426T012854
CREATED:20240610T085249Z
LAST-MODIFIED:20240722T112918Z
UID:10006207-1721592000-1721592000@gobatroun.com
SUMMARY:BIF24- Omar Rahbany In Concert
DESCRIPTION:BIF24- Omar Rahbany In Concert \nReady for a night of magic and wonder ! Brace yourself as we immerse into a night of the Best Lebanese melodies with omarrahbany \nGet Your Tickets  \n 
URL:https://gobatroun.com/event/omar-rahbany-in-concert/
LOCATION:Mina Batroun
CATEGORIES:Festivals
ATTACH;FMTTYPE=image/jpeg:https://gobatroun.com/wp-content/uploads/2024/06/Omar-Rahbani-In-Concert-1.jpg
END:VEVENT
END:VCALENDAR