BEGIN:VCALENDAR
VERSION:2.0
PRODID:-//Go Batroun - ECPv6.14.2//NONSGML v1.0//EN
CALSCALE:GREGORIAN
METHOD:PUBLISH
X-ORIGINAL-URL:https://gobatroun.com
X-WR-CALDESC:Events for Go Batroun
REFRESH-INTERVAL;VALUE=DURATION:PT1H
X-Robots-Tag:noindex
X-PUBLISHED-TTL:PT1H
BEGIN:VTIMEZONE
TZID:Asia/Beirut
BEGIN:DAYLIGHT
TZOFFSETFROM:+0200
TZOFFSETTO:+0300
TZNAME:EEST
DTSTART:20220326T220000
END:DAYLIGHT
BEGIN:STANDARD
TZOFFSETFROM:+0300
TZOFFSETTO:+0200
TZNAME:EET
DTSTART:20221029T210000
END:STANDARD
BEGIN:DAYLIGHT
TZOFFSETFROM:+0200
TZOFFSETTO:+0300
TZNAME:EEST
DTSTART:20230325T220000
END:DAYLIGHT
BEGIN:STANDARD
TZOFFSETFROM:+0300
TZOFFSETTO:+0200
TZNAME:EET
DTSTART:20231028T210000
END:STANDARD
BEGIN:DAYLIGHT
TZOFFSETFROM:+0200
TZOFFSETTO:+0300
TZNAME:EEST
DTSTART:20240330T220000
END:DAYLIGHT
BEGIN:STANDARD
TZOFFSETFROM:+0300
TZOFFSETTO:+0200
TZNAME:EET
DTSTART:20241026T210000
END:STANDARD
BEGIN:DAYLIGHT
TZOFFSETFROM:+0200
TZOFFSETTO:+0300
TZNAME:EEST
DTSTART:20250329T220000
END:DAYLIGHT
BEGIN:STANDARD
TZOFFSETFROM:+0300
TZOFFSETTO:+0200
TZNAME:EET
DTSTART:20251025T210000
END:STANDARD
END:VTIMEZONE
BEGIN:VEVENT
DTSTART;TZID=Asia/Beirut:20250308T150000
DTEND;TZID=Asia/Beirut:20250308T150000
DTSTAMP:20260420T101645
CREATED:20250228T093425Z
LAST-MODIFIED:20250228T093425Z
UID:10006860-1741446000-1741446000@gobatroun.com
SUMMARY:CJS Basketball Tryouts U16 (2009/2010)
DESCRIPTION:CJS Batroun Basketball Academy: \nU16 TRYOUTS – JOIN THE FUTURE OF BASKETBALL! \nAre you ready to take your game to the next level? We’re looking for talented young athletes born in 2009-2010 to join our basketball academy! \nTryout Details:\nDate: Saturday 08 March\nTime: 3:00 pm\nLocation: Cjs court \nCome showcase your skills\, learn from top coaches\, and be part of a growing basketball culture!
URL:https://gobatroun.com/event/cjs-basketball-tryouts-u16-2009-2010/
LOCATION:CJS\, CJS Court\, Batroun\, Lebanon
CATEGORIES:Sports
ATTACH;FMTTYPE=image/webp:https://gobatroun.com/wp-content/uploads/2025/02/cjs.webp
END:VEVENT
BEGIN:VEVENT
DTSTART;TZID=Asia/Beirut:20250215T123000
DTEND;TZID=Asia/Beirut:20250215T123000
DTSTAMP:20260420T101645
CREATED:20250211T124658Z
LAST-MODIFIED:20250211T124800Z
UID:10006838-1739622600-1739622600@gobatroun.com
SUMMARY:CJS Basketball Tryouts U12 (2013/2014)
DESCRIPTION:CJS Batroun Basketball Academy: \nU12 TRYOUTS – JOIN THE FUTURE OF BASKETBALL! \nAre you ready to take your game to the next level? We’re looking for talented young athletes born in 2013-2014 to join our basketball academy! \nTryout Details:\nDate: Saturday 15 February\nTime: 12:30 pm\nLocation: Cjs court \nCome showcase your skills\, learn from top coaches\, and be part of a growing basketball culture!
URL:https://gobatroun.com/event/basketball-tryouts-u12-2013-2014/
LOCATION:CJS\, CJS Court\, Batroun\, Lebanon
CATEGORIES:Sports
ATTACH;FMTTYPE=image/webp:https://gobatroun.com/wp-content/uploads/2025/02/cjs-15-feb.webp
END:VEVENT
BEGIN:VEVENT
DTSTART;TZID=Asia/Beirut:20250213T163000
DTEND;TZID=Asia/Beirut:20250213T163000
DTSTAMP:20260420T101645
CREATED:20250211T125007Z
LAST-MODIFIED:20250211T125439Z
UID:10006839-1739464200-1739464200@gobatroun.com
SUMMARY:CJS Basketball Tryouts U10 (2015/2016)
DESCRIPTION:CJS Batroun Basketball Academy: \nU10 TRYOUTS – JOIN THE FUTURE OF BASKETBALL! \nAre you ready to take your game to the next level? We’re looking for talented young athletes born in 2015-2016 to join our basketball academy! \nTryout Details:\nDate: Thursday 13 February\nTime: 4:30 pm\nLocation: CJS court \nCome showcase your skills\, learn from top coaches\, and be part of a growing basketball culture!
URL:https://gobatroun.com/event/cjs-basketball-tryouts-u10-2015-2016/
LOCATION:CJS\, CJS Court\, Batroun\, Lebanon
CATEGORIES:Sports
ATTACH;FMTTYPE=image/webp:https://gobatroun.com/wp-content/uploads/2025/02/cjs-13-feb.webp
END:VEVENT
BEGIN:VEVENT
DTSTART;TZID=Asia/Beirut:20250106T090000
DTEND;TZID=Asia/Beirut:20250106T150000
DTSTAMP:20260420T101645
CREATED:20241204T065416Z
LAST-MODIFIED:20241204T065416Z
UID:10006695-1736154000-1736175600@gobatroun.com
SUMMARY:Elite Basketball Camp
DESCRIPTION:Elite Basketball Camp \nHoliday Hoops Alert!\nThis Christmas\, take your game to the next level at our Basketball Christmas Camp!\nJoin us for:\nSkill-building drills\nCompetitive games\nFun holiday vibes \nDon’t miss the chance to train\, compete\, and celebrate basketball this holiday season! \n2/3/6 January\nClub Jeunesse Sportif Batroun\nRegister now to secure your spot! \nLimited Places \nDeadline 20 December \nReserve your spot on +961 71 041 087
URL:https://gobatroun.com/event/elite-basketball-camp/2025-01-06/
LOCATION:Club Jeunesse Sportif Batroun\, 7M68+QCX\, Batroun\, Batroun\, Lebanon
CATEGORIES:Sports
ATTACH;FMTTYPE=image/jpeg:https://gobatroun.com/wp-content/uploads/2024/12/Basketball-Camp.jpg
ORGANIZER;CN="Douma Club":MAILTO:clubdouma@gmail.com
GEO:34.261999867948;35.66615409094
X-APPLE-STRUCTURED-LOCATION;VALUE=URI;X-ADDRESS=Club Jeunesse Sportif Batroun 7M68+QCX Batroun Batroun Lebanon;X-APPLE-RADIUS=500;X-TITLE=7M68+QCX\, Batroun:geo:35.66615409094,34.261999867948
END:VEVENT
BEGIN:VEVENT
DTSTART;TZID=Asia/Beirut:20250103T090000
DTEND;TZID=Asia/Beirut:20250103T150000
DTSTAMP:20260420T101645
CREATED:20241204T065416Z
LAST-MODIFIED:20241204T065416Z
UID:10006694-1735894800-1735916400@gobatroun.com
SUMMARY:Elite Basketball Camp
DESCRIPTION:Elite Basketball Camp \nHoliday Hoops Alert!\nThis Christmas\, take your game to the next level at our Basketball Christmas Camp!\nJoin us for:\nSkill-building drills\nCompetitive games\nFun holiday vibes \nDon’t miss the chance to train\, compete\, and celebrate basketball this holiday season! \n2/3/6 January\nClub Jeunesse Sportif Batroun\nRegister now to secure your spot! \nLimited Places \nDeadline 20 December \nReserve your spot on +961 71 041 087
URL:https://gobatroun.com/event/elite-basketball-camp/2025-01-03/
LOCATION:Club Jeunesse Sportif Batroun\, 7M68+QCX\, Batroun\, Batroun\, Lebanon
CATEGORIES:Sports
ATTACH;FMTTYPE=image/jpeg:https://gobatroun.com/wp-content/uploads/2024/12/Basketball-Camp.jpg
ORGANIZER;CN="Douma Club":MAILTO:clubdouma@gmail.com
GEO:34.261999867948;35.66615409094
X-APPLE-STRUCTURED-LOCATION;VALUE=URI;X-ADDRESS=Club Jeunesse Sportif Batroun 7M68+QCX Batroun Batroun Lebanon;X-APPLE-RADIUS=500;X-TITLE=7M68+QCX\, Batroun:geo:35.66615409094,34.261999867948
END:VEVENT
BEGIN:VEVENT
DTSTART;TZID=Asia/Beirut:20250102T090000
DTEND;TZID=Asia/Beirut:20250102T150000
DTSTAMP:20260420T101645
CREATED:20241204T065416Z
LAST-MODIFIED:20241204T065416Z
UID:10006693-1735808400-1735830000@gobatroun.com
SUMMARY:Elite Basketball Camp
DESCRIPTION:Elite Basketball Camp \nHoliday Hoops Alert!\nThis Christmas\, take your game to the next level at our Basketball Christmas Camp!\nJoin us for:\nSkill-building drills\nCompetitive games\nFun holiday vibes \nDon’t miss the chance to train\, compete\, and celebrate basketball this holiday season! \n2/3/6 January\nClub Jeunesse Sportif Batroun\nRegister now to secure your spot! \nLimited Places \nDeadline 20 December \nReserve your spot on +961 71 041 087
URL:https://gobatroun.com/event/elite-basketball-camp/2025-01-02/
LOCATION:Club Jeunesse Sportif Batroun\, 7M68+QCX\, Batroun\, Batroun\, Lebanon
CATEGORIES:Sports
ATTACH;FMTTYPE=image/jpeg:https://gobatroun.com/wp-content/uploads/2024/12/Basketball-Camp.jpg
ORGANIZER;CN="Douma Club":MAILTO:clubdouma@gmail.com
GEO:34.261999867948;35.66615409094
X-APPLE-STRUCTURED-LOCATION;VALUE=URI;X-ADDRESS=Club Jeunesse Sportif Batroun 7M68+QCX Batroun Batroun Lebanon;X-APPLE-RADIUS=500;X-TITLE=7M68+QCX\, Batroun:geo:35.66615409094,34.261999867948
END:VEVENT
BEGIN:VEVENT
DTSTART;VALUE=DATE:20240813
DTEND;VALUE=DATE:20240815
DTSTAMP:20260420T101645
CREATED:20240801T053336Z
LAST-MODIFIED:20240801T053336Z
UID:10006477-1723528800-1723615199@gobatroun.com
SUMMARY:Streetball 3x3
DESCRIPTION:Streetball 3×3 August 13 \nU12 \nU14 –> 10$ / PERSON \nU16 \nU18 –> 15$ / PERSON \n1ST Place Trophy +100$ \n2nd Place Vouchers \nCJS Batroun \n+961 71 803 043 or +961 81 523 267
URL:https://gobatroun.com/event/streetball-3x3/
LOCATION:Club Jeunesse Sportif Batroun\, 7M68+QCX\, Batroun\, Batroun\, Lebanon
ATTACH;FMTTYPE=image/jpeg:https://gobatroun.com/wp-content/uploads/2024/08/August-13-event.jpg
GEO:34.261999867948;35.66615409094
X-APPLE-STRUCTURED-LOCATION;VALUE=URI;X-ADDRESS=Club Jeunesse Sportif Batroun 7M68+QCX Batroun Batroun Lebanon;X-APPLE-RADIUS=500;X-TITLE=7M68+QCX\, Batroun:geo:35.66615409094,34.261999867948
END:VEVENT
BEGIN:VEVENT
DTSTART;TZID=Asia/Beirut:20240731T200000
DTEND;TZID=Asia/Beirut:20240731T200000
DTSTAMP:20260420T101645
CREATED:20240729T102422Z
LAST-MODIFIED:20240729T102422Z
UID:10006461-1722456000-1722456000@gobatroun.com
SUMMARY:Batroun vs Champville
DESCRIPTION:U16 Championship Final \nBatroun vs Champville
URL:https://gobatroun.com/event/batroun-vs-champville/
LOCATION:Club Jeunesse Sportif Batroun\, 7M68+QCX\, Batroun\, Batroun\, Lebanon
CATEGORIES:Performing Arts
ATTACH;FMTTYPE=image/jpeg:https://gobatroun.com/wp-content/uploads/2024/07/July-31-Event.jpg
GEO:34.261999867948;35.66615409094
X-APPLE-STRUCTURED-LOCATION;VALUE=URI;X-ADDRESS=Club Jeunesse Sportif Batroun 7M68+QCX Batroun Batroun Lebanon;X-APPLE-RADIUS=500;X-TITLE=7M68+QCX\, Batroun:geo:35.66615409094,34.261999867948
END:VEVENT
BEGIN:VEVENT
DTSTART;TZID=Asia/Beirut:20240701T090000
DTEND;TZID=Asia/Beirut:20240701T130000
DTSTAMP:20260420T101645
CREATED:20240521T065247Z
LAST-MODIFIED:20240521T065247Z
UID:10006128-1719824400-1719838800@gobatroun.com
SUMMARY:Summer Basketball Program
DESCRIPTION:Elevate your game with elite coaching at our summer basketball camp!  #EliteCoaches #SummerHoops \n6 weeks program- 3 levels : \nBasic: Mastering the fundamentals\, games\, and competitions \nAdvanced: Strength and conditioning\, individual skills and games. \nOff-Season: Strength and conditioning\, mobility\, injury prevention\, game situation\, and skills development. \n 
URL:https://gobatroun.com/event/summer-basketball-program/
LOCATION:Club Jeunesse Sportif Batroun\, 7M68+QCX\, Batroun\, Batroun\, Lebanon
CATEGORIES:Sports
ATTACH;FMTTYPE=image/jpeg:https://gobatroun.com/wp-content/uploads/2024/05/Basketball-Program-1-july.jpg
GEO:34.261999867948;35.66615409094
X-APPLE-STRUCTURED-LOCATION;VALUE=URI;X-ADDRESS=Club Jeunesse Sportif Batroun 7M68+QCX Batroun Batroun Lebanon;X-APPLE-RADIUS=500;X-TITLE=7M68+QCX\, Batroun:geo:35.66615409094,34.261999867948
END:VEVENT
BEGIN:VEVENT
DTSTART;TZID=Asia/Beirut:20230827T160000
DTEND;TZID=Asia/Beirut:20230827T160000
DTSTAMP:20260420T101645
CREATED:20230731T113714Z
LAST-MODIFIED:20230731T113714Z
UID:10004448-1693152000-1693152000@gobatroun.com
SUMMARY:Streetball Tournament at Beit El Fersen
DESCRIPTION:Get ready to ball like never before! 🙌 Join our adrenaline-pumping streetball tournament and showcase your skills on the court. 🏆 Hurry up and don’t miss this chance to hoop it up with the best! Register now and let the streetball magic begin! 🔥
URL:https://gobatroun.com/event/streetball-tournament-at-beit-el-fersen/2023-08-27/
LOCATION:MCM Batroun
CATEGORIES:Performing Arts,Sports
ATTACH;FMTTYPE=image/png:https://gobatroun.com/wp-content/uploads/2023/07/Screenshot-1533.png
END:VEVENT
BEGIN:VEVENT
DTSTART;TZID=Asia/Beirut:20230826T160000
DTEND;TZID=Asia/Beirut:20230826T160000
DTSTAMP:20260420T101645
CREATED:20230731T113714Z
LAST-MODIFIED:20230731T113714Z
UID:10004447-1693065600-1693065600@gobatroun.com
SUMMARY:Streetball Tournament at Beit El Fersen
DESCRIPTION:Get ready to ball like never before! 🙌 Join our adrenaline-pumping streetball tournament and showcase your skills on the court. 🏆 Hurry up and don’t miss this chance to hoop it up with the best! Register now and let the streetball magic begin! 🔥
URL:https://gobatroun.com/event/streetball-tournament-at-beit-el-fersen/2023-08-26/
LOCATION:MCM Batroun
CATEGORIES:Performing Arts,Sports
ATTACH;FMTTYPE=image/png:https://gobatroun.com/wp-content/uploads/2023/07/Screenshot-1533.png
END:VEVENT
BEGIN:VEVENT
DTSTART;TZID=Asia/Beirut:20230819T080000
DTEND;TZID=Asia/Beirut:20230819T170000
DTSTAMP:20260420T101645
CREATED:20230808T113626Z
LAST-MODIFIED:20230808T113626Z
UID:10004529-1692432000-1692464400@gobatroun.com
SUMMARY:Basketball tournament in Rachkide
DESCRIPTION:
URL:https://gobatroun.com/event/basketball-tournament-in-rachkide/
LOCATION:Rachkide
CATEGORIES:Sports
ATTACH;FMTTYPE=image/png:https://gobatroun.com/wp-content/uploads/2023/08/Screenshot-1716.png
END:VEVENT
BEGIN:VEVENT
DTSTART;TZID=Asia/Beirut:20230605T210000
DTEND;TZID=Asia/Beirut:20230605T210000
DTSTAMP:20260420T101645
CREATED:20230605T132423Z
LAST-MODIFIED:20230713T100912Z
UID:10003528-1685998800-1685998800@gobatroun.com
SUMMARY:Mayrouba Vs Batroun BasketBall Game
DESCRIPTION:
URL:https://gobatroun.com/event/mayrouba-vs-batroun-basketball-game/
LOCATION:Club Jeunesse Sportif Batroun\, 7M68+QCX\, Batroun\, Batroun\, Lebanon
CATEGORIES:Performing Arts|Sports
ATTACH;FMTTYPE=image/png:https://gobatroun.com/wp-content/uploads/2023/06/Screenshot-906.png
GEO:34.261999867948;35.66615409094
X-APPLE-STRUCTURED-LOCATION;VALUE=URI;X-ADDRESS=Club Jeunesse Sportif Batroun 7M68+QCX Batroun Batroun Lebanon;X-APPLE-RADIUS=500;X-TITLE=7M68+QCX\, Batroun:geo:35.66615409094,34.261999867948
END:VEVENT
BEGIN:VEVENT
DTSTART;TZID=Asia/Beirut:20230419T203000
DTEND;TZID=Asia/Beirut:20230419T203000
DTSTAMP:20260420T101645
CREATED:20230419T134212Z
LAST-MODIFIED:20230419T134212Z
UID:10002232-1681936200-1681936200@gobatroun.com
SUMMARY:Basketball Game Batroun vs Amchit
DESCRIPTION:
URL:https://gobatroun.com/event/basketball-game-batroun-vs-amchit/
LOCATION:Club Jeunesse Sportif Batroun\, 7M68+QCX\, Batroun\, Batroun\, Lebanon
CATEGORIES:Performing Arts
ATTACH;FMTTYPE=image/png:https://gobatroun.com/wp-content/uploads/2023/04/Screenshot-435.png
GEO:34.261999867948;35.66615409094
X-APPLE-STRUCTURED-LOCATION;VALUE=URI;X-ADDRESS=Club Jeunesse Sportif Batroun 7M68+QCX Batroun Batroun Lebanon;X-APPLE-RADIUS=500;X-TITLE=7M68+QCX\, Batroun:geo:35.66615409094,34.261999867948
END:VEVENT
BEGIN:VEVENT
DTSTART;TZID=Asia/Beirut:20221113T210000
DTEND;TZID=Asia/Beirut:20221113T210000
DTSTAMP:20260420T101645
CREATED:20221108T144234Z
LAST-MODIFIED:20221108T144234Z
UID:10001539-1668373200-1668373200@gobatroun.com
SUMMARY:Lebanon cv India at Seven Doors
DESCRIPTION:
URL:https://gobatroun.com/event/lebanon-cv-india-at-seven-doors/
LOCATION:Seven Doors
CATEGORIES:Performing Arts,Sports
ATTACH;FMTTYPE=image/png:https://gobatroun.com/wp-content/uploads/2022/11/Screenshot-2057.png
END:VEVENT
BEGIN:VEVENT
DTSTART;TZID=Asia/Beirut:20221110T210000
DTEND;TZID=Asia/Beirut:20221110T210000
DTSTAMP:20260420T101645
CREATED:20221108T144000Z
LAST-MODIFIED:20221108T144000Z
UID:10001537-1668114000-1668114000@gobatroun.com
SUMMARY:Lebanon cv New Zealand at Seven Doors
DESCRIPTION:
URL:https://gobatroun.com/event/lebanon-cv-new-zealand-at-seven-doors/
LOCATION:Seven Doors
CATEGORIES:Performing Arts,Sports
ATTACH;FMTTYPE=image/png:https://gobatroun.com/wp-content/uploads/2022/11/Screenshot-2056.png
END:VEVENT
BEGIN:VEVENT
DTSTART;TZID=Asia/Beirut:20220924T180000
DTEND;TZID=Asia/Beirut:20220924T180000
DTSTAMP:20260420T101645
CREATED:20220919T105032Z
LAST-MODIFIED:20220919T105032Z
UID:10001371-1664042400-1664042400@gobatroun.com
SUMMARY:Sagesse VS Antranik at Club Jeunesse Sportif Batroun
DESCRIPTION:
URL:https://gobatroun.com/event/sagesse-vs-antranik-at-club-jeunesse-sportif-batroun/
LOCATION:Club Jeunesse Sportif Batroun\, 7M68+QCX\, Batroun\, Batroun\, Lebanon
CATEGORIES:Sports
ATTACH;FMTTYPE=image/png:https://gobatroun.com/wp-content/uploads/2022/09/Screenshot-169.png
GEO:34.261999867948;35.66615409094
X-APPLE-STRUCTURED-LOCATION;VALUE=URI;X-ADDRESS=Club Jeunesse Sportif Batroun 7M68+QCX Batroun Batroun Lebanon;X-APPLE-RADIUS=500;X-TITLE=7M68+QCX\, Batroun:geo:35.66615409094,34.261999867948
END:VEVENT
BEGIN:VEVENT
DTSTART;TZID=Asia/Beirut:20220730T090000
DTEND;TZID=Asia/Beirut:20220730T170000
DTSTAMP:20260420T101645
CREATED:20220713T152053Z
LAST-MODIFIED:20220713T152053Z
UID:10000819-1659171600-1659200400@gobatroun.com
SUMMARY:Batroun Streetballs
DESCRIPTION:Batroun Streetballs!! @bat.streetballs \n  \nSaturday 30 July 2022\, 9:00 Am Location: @cjs_batroun \n  \n@joseph_jammal \n  \n@jammalgeorges
URL:https://gobatroun.com/event/batroun-streetballs/
LOCATION:Club Jeunesse Sportif Batroun\, 7M68+QCX\, Batroun\, Batroun\, Lebanon
CATEGORIES:Sports
ATTACH;FMTTYPE=image/jpeg:https://gobatroun.com/wp-content/uploads/2022/07/Screenshot_20220713-181127_Instagram.jpg
GEO:34.261999867948;35.66615409094
X-APPLE-STRUCTURED-LOCATION;VALUE=URI;X-ADDRESS=Club Jeunesse Sportif Batroun 7M68+QCX Batroun Batroun Lebanon;X-APPLE-RADIUS=500;X-TITLE=7M68+QCX\, Batroun:geo:35.66615409094,34.261999867948
END:VEVENT
BEGIN:VEVENT
DTSTART;TZID=Asia/Beirut:20220723T150000
DTEND;TZID=Asia/Beirut:20220723T150000
DTSTAMP:20260420T101645
CREATED:20220715T053048Z
LAST-MODIFIED:20220715T053058Z
UID:10000927-1658588400-1658588400@gobatroun.com
SUMMARY:Basketball Tournament
DESCRIPTION:Men and Women Above 18. \n500.000L.L per team. \nGames start at 3:00 P.M \nInformation and Registration: 03579999
URL:https://gobatroun.com/event/basketball-tournament/
LOCATION:Saints Coeurs Batroun
CATEGORIES:Sports
ATTACH;FMTTYPE=image/jpeg:https://gobatroun.com/wp-content/uploads/2022/07/WhatsApp-Image-2022-07-15-at-7.37.21-AM.jpeg
END:VEVENT
BEGIN:VEVENT
DTSTART;TZID=Asia/Beirut:20220611T180000
DTEND;TZID=Asia/Beirut:20220611T230000
DTSTAMP:20260420T101645
CREATED:20220610T113041Z
LAST-MODIFIED:20220615T060630Z
UID:10000835-1654970400-1654988400@gobatroun.com
SUMMARY:Club Jeunesse Sportif Batroun
DESCRIPTION:Health Club\nBasketball-Volleyball-Football-Table Tennis-Judo-Tennis
URL:https://gobatroun.com/event/club-jeunesse-sportif-batroun/
LOCATION:Club Jeunesse Sportif Batroun\, 7M68+QCX\, Batroun\, Batroun\, Lebanon
CATEGORIES:Sports
ATTACH;FMTTYPE=image/jpeg:https://gobatroun.com/wp-content/uploads/2022/06/WhatsApp-Image-2022-06-10-at-2.22.55-PM.jpeg
GEO:34.261999867948;35.66615409094
X-APPLE-STRUCTURED-LOCATION;VALUE=URI;X-ADDRESS=Club Jeunesse Sportif Batroun 7M68+QCX Batroun Batroun Lebanon;X-APPLE-RADIUS=500;X-TITLE=7M68+QCX\, Batroun:geo:35.66615409094,34.261999867948
END:VEVENT
END:VCALENDAR