BEGIN:VCALENDAR
VERSION:2.0
PRODID:-//Go Batroun - ECPv6.14.2//NONSGML v1.0//EN
CALSCALE:GREGORIAN
METHOD:PUBLISH
X-ORIGINAL-URL:https://gobatroun.com
X-WR-CALDESC:Events for Go Batroun
REFRESH-INTERVAL;VALUE=DURATION:PT1H
X-Robots-Tag:noindex
X-PUBLISHED-TTL:PT1H
BEGIN:VTIMEZONE
TZID:Asia/Beirut
BEGIN:DAYLIGHT
TZOFFSETFROM:+0200
TZOFFSETTO:+0300
TZNAME:EEST
DTSTART:20240330T220000
END:DAYLIGHT
BEGIN:STANDARD
TZOFFSETFROM:+0300
TZOFFSETTO:+0200
TZNAME:EET
DTSTART:20241026T210000
END:STANDARD
END:VTIMEZONE
BEGIN:VEVENT
DTSTART;TZID=Asia/Beirut:20241119T093000
DTEND;TZID=Asia/Beirut:20241119T093000
DTSTAMP:20260419T183128
CREATED:20241113T091552Z
LAST-MODIFIED:20241113T091552Z
UID:10006663-1732008600-1732008600@gobatroun.com
SUMMARY:Mat Pilates
DESCRIPTION:Join at 9:30 am for Pilates classes at the gym! \nLet’s build strength\, flexibility\, and find balance together.
URL:https://gobatroun.com/event/mat-pilates/
LOCATION:360 Fit
CATEGORIES:Sports
ATTACH;FMTTYPE=image/jpeg:https://gobatroun.com/wp-content/uploads/2024/11/Tuesday-Pilates.jpg
END:VEVENT
END:VCALENDAR