BEGIN:VCALENDAR
VERSION:2.0
PRODID:-//Go Batroun - ECPv6.14.2//NONSGML v1.0//EN
CALSCALE:GREGORIAN
METHOD:PUBLISH
X-WR-CALNAME:Go Batroun
X-ORIGINAL-URL:https://gobatroun.com
X-WR-CALDESC:Events for Go Batroun
REFRESH-INTERVAL;VALUE=DURATION:PT1H
X-Robots-Tag:noindex
X-PUBLISHED-TTL:PT1H
BEGIN:VTIMEZONE
TZID:Asia/Beirut
BEGIN:DAYLIGHT
TZOFFSETFROM:+0200
TZOFFSETTO:+0300
TZNAME:EEST
DTSTART:20250329T220000
END:DAYLIGHT
BEGIN:STANDARD
TZOFFSETFROM:+0300
TZOFFSETTO:+0200
TZNAME:EET
DTSTART:20251025T210000
END:STANDARD
END:VTIMEZONE
BEGIN:VEVENT
DTSTART;TZID=Asia/Beirut:20250404T070000
DTEND;TZID=Asia/Beirut:20250404T070000
DTSTAMP:20260426T070737
CREATED:20250403T102415Z
LAST-MODIFIED:20250403T102415Z
UID:10006920-1743750000-1743750000@gobatroun.com
SUMMARY:The Corner Hub April Workshops
DESCRIPTION:April schedule announced  Come to sunny Batroun ☀️ and enjoy our cultural workshops\nRegister to reserve your spot.
URL:https://gobatroun.com/event/the-corner-hub-april-workshops/2025-04-04/
LOCATION:The Corner Hub\, 7M45+FH Batroun\, Batroun\, Lebanon
CATEGORIES:Performing Arts
ATTACH;FMTTYPE=image/webp:https://gobatroun.com/wp-content/uploads/2025/04/the-corner-hub-apr-schedule.webp
END:VEVENT
BEGIN:VEVENT
DTSTART;TZID=Asia/Beirut:20250401T220000
DTEND;TZID=Asia/Beirut:20250401T220000
DTSTAMP:20260426T070737
CREATED:20250327T092214Z
LAST-MODIFIED:20250327T092214Z
UID:10006905-1743544800-1743544800@gobatroun.com
SUMMARY:Adam at Tramway
DESCRIPTION:Adam at Tramway \nFor reservations +961 03 514 101
URL:https://gobatroun.com/event/adam-at-tramway-4/
LOCATION:Tramway Gastro Pub\, 7M45+CQ Batroun\, Batroun\, Lebanon
CATEGORIES:Performing Arts
ATTACH;FMTTYPE=image/webp:https://gobatroun.com/wp-content/uploads/2025/03/tramway-1-april.webp
END:VEVENT
BEGIN:VEVENT
DTSTART;TZID=Asia/Beirut:20250401T080000
DTEND;TZID=Asia/Beirut:20250401T140000
DTSTAMP:20260426T070737
CREATED:20250327T092852Z
LAST-MODIFIED:20250327T092852Z
UID:10006909-1743494400-1743516000@gobatroun.com
SUMMARY:Dream Ville Fitr Vacation
DESCRIPTION:Dream Ville Fitr Vacation: \nMon 31 Sports Day \nTue 01 Brain Day \nWed 02 Arts Day
URL:https://gobatroun.com/event/dream-ville-fitr-vacation/2025-04-01/
LOCATION:Dream Ville
CATEGORIES:Performing Arts
ATTACH;FMTTYPE=image/webp:https://gobatroun.com/wp-content/uploads/2025/03/dream-ville-schedule.webp
END:VEVENT
BEGIN:VEVENT
DTSTART;TZID=Asia/Beirut:20250331T220000
DTEND;TZID=Asia/Beirut:20250331T220000
DTSTAMP:20260426T070737
CREATED:20250327T092054Z
LAST-MODIFIED:20250327T092054Z
UID:10006904-1743458400-1743458400@gobatroun.com
SUMMARY:Joud Dallal at Tramway
DESCRIPTION:Joud Dallal at Tramway \nFor reservations +961 03 514 101
URL:https://gobatroun.com/event/joud-dallal-at-tramway-5/
LOCATION:Tramway Gastro Pub\, 7M45+CQ Batroun\, Batroun\, Lebanon
CATEGORIES:Performing Arts
ATTACH;FMTTYPE=image/webp:https://gobatroun.com/wp-content/uploads/2025/03/tramway-31-mar.webp
END:VEVENT
BEGIN:VEVENT
DTSTART;TZID=Asia/Beirut:20250331T080000
DTEND;TZID=Asia/Beirut:20250331T140000
DTSTAMP:20260426T070737
CREATED:20250327T092852Z
LAST-MODIFIED:20250327T092852Z
UID:10006908-1743408000-1743429600@gobatroun.com
SUMMARY:Dream Ville Fitr Vacation
DESCRIPTION:Dream Ville Fitr Vacation: \nMon 31 Sports Day \nTue 01 Brain Day \nWed 02 Arts Day
URL:https://gobatroun.com/event/dream-ville-fitr-vacation/2025-03-31/
LOCATION:Dream Ville
CATEGORIES:Performing Arts
ATTACH;FMTTYPE=image/webp:https://gobatroun.com/wp-content/uploads/2025/03/dream-ville-schedule.webp
END:VEVENT
BEGIN:VEVENT
DTSTART;TZID=Asia/Beirut:20250330T230000
DTEND;TZID=Asia/Beirut:20250330T230000
DTSTAMP:20260426T070737
CREATED:20250327T093711Z
LAST-MODIFIED:20250327T093711Z
UID:10006913-1743375600-1743375600@gobatroun.com
SUMMARY:Jad At Fiction
DESCRIPTION:All night energy with JĀd this Sunday.\nDoors open at 9 pm. \nFor info & reservations\, call +961 81 544 533.
URL:https://gobatroun.com/event/jad-at-fiction/
LOCATION:Fiction Batroun\, 7M36+848\, Batroun\, Batroun\, Lebanon
CATEGORIES:Performing Arts
ATTACH;FMTTYPE=image/webp:https://gobatroun.com/wp-content/uploads/2025/03/fiction-30-mar.webp
END:VEVENT
BEGIN:VEVENT
DTSTART;TZID=Asia/Beirut:20250330T220000
DTEND;TZID=Asia/Beirut:20250330T220000
DTSTAMP:20260426T070737
CREATED:20250327T093054Z
LAST-MODIFIED:20250327T093054Z
UID:10006910-1743372000-1743372000@gobatroun.com
SUMMARY:Mario Hadsheety at Leyl
DESCRIPTION:@mariohadsheety takes the stage this Saturday at Léyl.\nReserve on 76181 999
URL:https://gobatroun.com/event/mario-hadsheety-at-leyl-2/
LOCATION:Léyl
CATEGORIES:Performing Arts
ATTACH;FMTTYPE=image/webp:https://gobatroun.com/wp-content/uploads/2025/03/leyl-22-mar.webp
END:VEVENT
BEGIN:VEVENT
DTSTART;TZID=Asia/Beirut:20250329T230000
DTEND;TZID=Asia/Beirut:20250329T230000
DTSTAMP:20260426T070737
CREATED:20250327T093533Z
LAST-MODIFIED:20250327T093533Z
UID:10006912-1743289200-1743289200@gobatroun.com
SUMMARY:Nic Merheb & Gio at Fiction
DESCRIPTION:The journey continues next Saturday\nYour night’s guides\, @nicolasmerheb and @georgesabou_issa \, await to lead the way. \nDoors open at 11 pm.\nFor info & reservations\, call +961 81 544 533.
URL:https://gobatroun.com/event/nic-merheb-gio-at-fiction/
LOCATION:Fiction Batroun\, 7M36+848\, Batroun\, Batroun\, Lebanon
CATEGORIES:Performing Arts
ATTACH;FMTTYPE=image/webp:https://gobatroun.com/wp-content/uploads/2025/03/fiction-29-mar.webp
END:VEVENT
BEGIN:VEVENT
DTSTART;TZID=Asia/Beirut:20250329T220000
DTEND;TZID=Asia/Beirut:20250329T220000
DTSTAMP:20260426T070737
CREATED:20250327T091906Z
LAST-MODIFIED:20250327T091906Z
UID:10006903-1743285600-1743285600@gobatroun.com
SUMMARY:Shadi Al Saghir at Tramway
DESCRIPTION:Shadi Al Saghir at Tramway \nFor reservations +961 03 514 101
URL:https://gobatroun.com/event/shadi-al-saghir-at-tramway/
LOCATION:Tramway Gastro Pub\, 7M45+CQ Batroun\, Batroun\, Lebanon
CATEGORIES:Performing Arts
ATTACH;FMTTYPE=image/webp:https://gobatroun.com/wp-content/uploads/2025/03/tramway-29-mar.webp
END:VEVENT
BEGIN:VEVENT
DTSTART;TZID=Asia/Beirut:20250329T130000
DTEND;TZID=Asia/Beirut:20250329T233000
DTSTAMP:20260426T070737
CREATED:20250327T092446Z
LAST-MODIFIED:20250327T092446Z
UID:10006906-1743253200-1743291000@gobatroun.com
SUMMARY:Brunch Party at Hangloose
DESCRIPTION:This Saturday\, March 29\, the Hangover Brunch Party is back. From 1 PM till late—BBQ brunch\, endless cocktails\, and beats by Daddy B ft. MÜR. You know the drill.\nRSVP: 71 872 417
URL:https://gobatroun.com/event/brunch-party-at-hangloose/
LOCATION:HANGLOOSE\, 6MW6+PQ Batroun\, Batroun\, Lebanon
CATEGORIES:Performing Arts
ATTACH;FMTTYPE=image/webp:https://gobatroun.com/wp-content/uploads/2025/03/hangloose-29-mar.webp
ORGANIZER;CN="HANGLOOSE":MAILTO:contact@info.com
GEO:34.246771332534;35.661930198875
X-APPLE-STRUCTURED-LOCATION;VALUE=URI;X-ADDRESS=HANGLOOSE 6MW6+PQ Batroun Batroun Lebanon;X-APPLE-RADIUS=500;X-TITLE=6MW6+PQ Batroun:geo:35.661930198875,34.246771332534
END:VEVENT
BEGIN:VEVENT
DTSTART;TZID=Asia/Beirut:20250322T233000
DTEND;TZID=Asia/Beirut:20250322T233000
DTSTAMP:20260426T070737
CREATED:20250320T092026Z
LAST-MODIFIED:20250320T092026Z
UID:10006902-1742686200-1742686200@gobatroun.com
SUMMARY:Jad & Tia at Fiction
DESCRIPTION:Unleash the vibe this Saturday\nThe favorite duo\, JĀd and TIA\, are back on deck to set the tone. \nDoors open at 11pm.\nFor info & reservations\, call +961 81 544 533.
URL:https://gobatroun.com/event/jad-tia-at-fiction/
LOCATION:Fiction Batroun\, 7M36+848\, Batroun\, Batroun\, Lebanon
CATEGORIES:Performing Arts
ATTACH;FMTTYPE=image/webp:https://gobatroun.com/wp-content/uploads/2025/03/fiction-22-mar.webp
END:VEVENT
BEGIN:VEVENT
DTSTART;TZID=Asia/Beirut:20250322T230000
DTEND;TZID=Asia/Beirut:20250322T230000
DTSTAMP:20260426T070737
CREATED:20250313T095857Z
LAST-MODIFIED:20250313T095857Z
UID:10006890-1742684400-1742684400@gobatroun.com
SUMMARY:Mom & Me Day at The Corner Hub
DESCRIPTION:Hey Mami\, you are an angel sent on earth to make it a better place! Spend time with your mom making flower bouquets\, doing pottery and having a healthy brunch at the Hub\n22 March – 11 pm\nThe Corner Hub\nDM to reserve your spot.
URL:https://gobatroun.com/event/mom-me-day-at-the-corner-hub/
LOCATION:The Corner Hub\, 7M45+FH Batroun\, Batroun\, Lebanon
CATEGORIES:Performing Arts
ATTACH;FMTTYPE=image/webp:https://gobatroun.com/wp-content/uploads/2025/03/the-corner-hub-22-mar.webp
END:VEVENT
BEGIN:VEVENT
DTSTART;TZID=Asia/Beirut:20250322T140000
DTEND;TZID=Asia/Beirut:20250322T160000
DTSTAMP:20260426T070737
CREATED:20250221T173829Z
LAST-MODIFIED:20250314T095907Z
UID:10006851-1742652000-1742659200@gobatroun.com
SUMMARY:The Corner Hub March Workshop
DESCRIPTION:March schedule is out early! Reserve your spot and join our community
URL:https://gobatroun.com/event/the-corner-hub-march-wordshop/2025-03-22/
LOCATION:The Corner Hub\, 7M45+FH Batroun\, Batroun\, Lebanon
CATEGORIES:Performing Arts
ATTACH;FMTTYPE=image/webp:https://gobatroun.com/wp-content/uploads/2025/02/the-corner-hub-march-schedule.webp
END:VEVENT
BEGIN:VEVENT
DTSTART;TZID=Asia/Beirut:20250322T133000
DTEND;TZID=Asia/Beirut:20250322T133000
DTSTAMP:20260426T070737
CREATED:20250320T085955Z
LAST-MODIFIED:20250320T085955Z
UID:10006896-1742650200-1742650200@gobatroun.com
SUMMARY:Mother's Day at Green House Cafe
DESCRIPTION:Celebrate Mother’s Day in style this Saturday\, March 22nd\, at Greenhouse!  Enjoy a delicious lunch and live performance by Ralph C\n________________________\nSaturday 22 April\nStarting 1:30 pm\nRsv 70 125 310
URL:https://gobatroun.com/event/mothers-day-at-green-house-cafe/
LOCATION:Green House Batroun
CATEGORIES:Performing Arts
ATTACH;FMTTYPE=image/webp:https://gobatroun.com/wp-content/uploads/2025/03/green-house-3-mar.webp
END:VEVENT
BEGIN:VEVENT
DTSTART;TZID=Asia/Beirut:20250322T100000
DTEND;TZID=Asia/Beirut:20250322T123000
DTSTAMP:20260426T070737
CREATED:20250320T090509Z
LAST-MODIFIED:20250320T090509Z
UID:10006899-1742637600-1742646600@gobatroun.com
SUMMARY:Mother’s Day at Dream Ville
DESCRIPTION:‘Every dream begins with a mother’s belief.’ \nJoin Dream Ville for a special Mother’s Day celebration! This is more than just an event\nit’s a day where both moms and kids come together to create\, connect\, and have fun.\nDon’t miss this unforgettable experience!\nSecure your spot today.
URL:https://gobatroun.com/event/mothers-day-at-dream-ville/
LOCATION:Dream Ville
CATEGORIES:Performing Arts
ATTACH;FMTTYPE=image/webp:https://gobatroun.com/wp-content/uploads/2025/03/dream-ville-22-mar.webp
END:VEVENT
BEGIN:VEVENT
DTSTART;TZID=Asia/Beirut:20250322T093000
DTEND;TZID=Asia/Beirut:20250322T213000
DTSTAMP:20260426T070737
CREATED:20250320T090156Z
LAST-MODIFIED:20250320T090156Z
UID:10006897-1742635800-1742679000@gobatroun.com
SUMMARY:Mario Hadshity at Leyl
DESCRIPTION:@mariohadsheety takes the stage this Saturday at Léyl.\nReserve on 76181 999 \n 
URL:https://gobatroun.com/event/mario-hadshity-at-leyl-2/
LOCATION:Léyl
CATEGORIES:Performing Arts
ATTACH;FMTTYPE=image/webp:https://gobatroun.com/wp-content/uploads/2025/03/leyl-22-mar.webp
END:VEVENT
BEGIN:VEVENT
DTSTART;TZID=Asia/Beirut:20250321T213000
DTEND;TZID=Asia/Beirut:20250321T213000
DTSTAMP:20260426T070737
CREATED:20250320T090322Z
LAST-MODIFIED:20250320T090322Z
UID:10006898-1742592600-1742592600@gobatroun.com
SUMMARY:Ralph C & Nick at Hangloose
DESCRIPTION:Hanglive with Ralph C & Nick this Friday\, March 21\, at Hangloose. Don’t miss the vibe!\nRSVP now on 71 872 417
URL:https://gobatroun.com/event/ralph-c-nick-at-hangloose/
LOCATION:HANGLOOSE\, 6MW6+PQ Batroun\, Batroun\, Lebanon
CATEGORIES:Performing Arts
ATTACH;FMTTYPE=image/webp:https://gobatroun.com/wp-content/uploads/2025/03/hangloose-21-mar.webp
ORGANIZER;CN="HANGLOOSE":MAILTO:contact@info.com
GEO:34.246771332534;35.661930198875
X-APPLE-STRUCTURED-LOCATION;VALUE=URI;X-ADDRESS=HANGLOOSE 6MW6+PQ Batroun Batroun Lebanon;X-APPLE-RADIUS=500;X-TITLE=6MW6+PQ Batroun:geo:35.661930198875,34.246771332534
END:VEVENT
BEGIN:VEVENT
DTSTART;TZID=Asia/Beirut:20250321T193000
DTEND;TZID=Asia/Beirut:20250321T193000
DTSTAMP:20260426T070737
CREATED:20250320T091217Z
LAST-MODIFIED:20250320T092129Z
UID:10006901-1742585400-1742585400@gobatroun.com
SUMMARY:A Night On Everest With Avedis Kalpaklian
DESCRIPTION:A night on Everest \nA Call for all outdoor lovers and adventure seekers! we are is bringing mountain guru Avedis to Batroun for a special night filled with inspiration\, adventure\, and good vibes. \nJoin us as we dive into the full Everest experience step by step\, from the toughest challenges to the most breathtaking moments through an exclusive documentary screening. \nBut this isn’t just a film it’s a journey. Feel the breeze of the Himalayas\, the weight of every step\, and the rush of standing at the summit. \nAvedis will share it all the emotions\, the struggles\, the magic. Got a question? Ask away. \nThis is your chance to connect\, learn\, and experience Everest like never before. \nFriday\, 21 march\n7:30 PM\nBatroun – HangLoose \nTo confirm your attendance\, contact Routes Team at 76338762 (Call or WhatsApp) \nFree entrance\,\nSee you
URL:https://gobatroun.com/event/a-night-on-everest-with-avedis-kalpaklian/
LOCATION:HANGLOOSE\, 6MW6+PQ Batroun\, Batroun\, Lebanon
CATEGORIES:Performing Arts
ATTACH;FMTTYPE=image/webp:https://gobatroun.com/wp-content/uploads/2025/03/routes-21-mar.webp
GEO:34.246771332534;35.661930198875
X-APPLE-STRUCTURED-LOCATION;VALUE=URI;X-ADDRESS=HANGLOOSE 6MW6+PQ Batroun Batroun Lebanon;X-APPLE-RADIUS=500;X-TITLE=6MW6+PQ Batroun:geo:35.661930198875,34.246771332534
END:VEVENT
BEGIN:VEVENT
DTSTART;TZID=Asia/Beirut:20250316T213000
DTEND;TZID=Asia/Beirut:20250316T213000
DTSTAMP:20260426T070737
CREATED:20250313T095133Z
LAST-MODIFIED:20250313T095133Z
UID:10006886-1742160600-1742160600@gobatroun.com
SUMMARY:Saint Patrick's Day Bash at Barrio67
DESCRIPTION:Saint Patrick’s Day Party this Sunday\, March 16\nFood & Carlsberg beer à gogo!\nLive music by Elias Bluesician & Friends \nReserve now: +961 70 211 299
URL:https://gobatroun.com/event/saint-patricks-day-bash-at-barrio67/
LOCATION:Barrio67
CATEGORIES:Performing Arts
ATTACH;FMTTYPE=image/webp:https://gobatroun.com/wp-content/uploads/2025/03/barrio67-16-mar.webp
END:VEVENT
BEGIN:VEVENT
DTSTART;TZID=Asia/Beirut:20250315T230000
DTEND;TZID=Asia/Beirut:20250315T230000
DTSTAMP:20260426T070737
CREATED:20250313T094932Z
LAST-MODIFIED:20250313T094932Z
UID:10006885-1742079600-1742079600@gobatroun.com
SUMMARY:Hanna Abi Hanna at Taiga Batroun
DESCRIPTION:Hanna Abi Hanna live performance at Taiga Batroun \nReservation on +961 3 499 408
URL:https://gobatroun.com/event/hanna-abi-hanna-at-taiga-batroun-2/
LOCATION:TAIGA BATROUN CLUB\, 7M46+23 Batroun\, Batroun\, Lebanon
CATEGORIES:Performing Arts
ATTACH;FMTTYPE=image/webp:https://gobatroun.com/wp-content/uploads/2025/02/taiga-batroun.webp
GEO:34.255082353874;35.660243950604
X-APPLE-STRUCTURED-LOCATION;VALUE=URI;X-ADDRESS=TAIGA BATROUN CLUB 7M46+23 Batroun Batroun Lebanon;X-APPLE-RADIUS=500;X-TITLE=7M46+23 Batroun:geo:35.660243950604,34.255082353874
END:VEVENT
BEGIN:VEVENT
DTSTART;TZID=Asia/Beirut:20250315T220000
DTEND;TZID=Asia/Beirut:20250315T220000
DTSTAMP:20260426T070737
CREATED:20250313T094446Z
LAST-MODIFIED:20250313T094446Z
UID:10006882-1742076000-1742076000@gobatroun.com
SUMMARY:Joud Dallal at Tramway
DESCRIPTION:Joud Dallal at Tramway \nFor reservations +961 03 514 101
URL:https://gobatroun.com/event/joud-dallal-at-tramway-4/
LOCATION:Tramway Gastro Pub\, 7M45+CQ Batroun\, Batroun\, Lebanon
CATEGORIES:Performing Arts
ATTACH;FMTTYPE=image/webp:https://gobatroun.com/wp-content/uploads/2025/03/tramway-3-mar-2.webp
END:VEVENT
BEGIN:VEVENT
DTSTART;TZID=Asia/Beirut:20250315T160000
DTEND;TZID=Asia/Beirut:20250315T180000
DTSTAMP:20260426T070737
CREATED:20250313T095405Z
LAST-MODIFIED:20250313T095405Z
UID:10006887-1742054400-1742061600@gobatroun.com
SUMMARY:St. Patrick's Day at Dream Ville
DESCRIPTION:Shamrock Pretzels \nLeprechaun Gold Hunt \nPainting \nCraft \nFor RSV: 70 224 987
URL:https://gobatroun.com/event/st-patricks-day-at-dream-ville/
LOCATION:Dream Ville
CATEGORIES:Performing Arts
ATTACH;FMTTYPE=image/webp:https://gobatroun.com/wp-content/uploads/2025/03/dreamville-15-mar.webp
END:VEVENT
BEGIN:VEVENT
DTSTART;TZID=Asia/Beirut:20250315T140000
DTEND;TZID=Asia/Beirut:20250315T160000
DTSTAMP:20260426T070737
CREATED:20250221T173829Z
LAST-MODIFIED:20250314T095907Z
UID:10006850-1742047200-1742054400@gobatroun.com
SUMMARY:The Corner Hub March Workshop
DESCRIPTION:March schedule is out early! Reserve your spot and join our community
URL:https://gobatroun.com/event/the-corner-hub-march-wordshop/2025-03-15/
LOCATION:The Corner Hub\, 7M45+FH Batroun\, Batroun\, Lebanon
CATEGORIES:Performing Arts
ATTACH;FMTTYPE=image/webp:https://gobatroun.com/wp-content/uploads/2025/02/the-corner-hub-march-schedule.webp
END:VEVENT
BEGIN:VEVENT
DTSTART;TZID=Asia/Beirut:20250315T130000
DTEND;TZID=Asia/Beirut:20250315T220000
DTSTAMP:20260426T070737
CREATED:20250313T095704Z
LAST-MODIFIED:20250313T095704Z
UID:10006889-1742043600-1742076000@gobatroun.com
SUMMARY:BBQ Bunch at Hangloose
DESCRIPTION:This Saturday\, March 15\, the Hangover Brunch Party is back! 1 PM – 10 PM—BBQ brunch\, endless cocktails\, and beats by Viv x Average A x Daddy B. Don’t miss out!\nRSVP: 71 872 417
URL:https://gobatroun.com/event/bbq-bunch-at-hangloose/
LOCATION:HANGLOOSE\, 6MW6+PQ Batroun\, Batroun\, Lebanon
CATEGORIES:Performing Arts
ATTACH;FMTTYPE=image/webp:https://gobatroun.com/wp-content/uploads/2025/03/hangloose-15-mar.webp
ORGANIZER;CN="HANGLOOSE":MAILTO:contact@info.com
GEO:34.246771332534;35.661930198875
X-APPLE-STRUCTURED-LOCATION;VALUE=URI;X-ADDRESS=HANGLOOSE 6MW6+PQ Batroun Batroun Lebanon;X-APPLE-RADIUS=500;X-TITLE=6MW6+PQ Batroun:geo:35.661930198875,34.246771332534
END:VEVENT
BEGIN:VEVENT
DTSTART;TZID=Asia/Beirut:20250314T213000
DTEND;TZID=Asia/Beirut:20250314T213000
DTSTAMP:20260426T070737
CREATED:20250313T095543Z
LAST-MODIFIED:20250313T095543Z
UID:10006888-1741987800-1741987800@gobatroun.com
SUMMARY:Sana & The Band at Hangloose
DESCRIPTION:Join Hangloose this Friday\, March 14\, for a special Hanglive performance by Sana and the Band\, starting at 9:30 PM.\nRSVP: 71 872 417
URL:https://gobatroun.com/event/sana-the-band-at-hangloose/
LOCATION:HANGLOOSE\, 6MW6+PQ Batroun\, Batroun\, Lebanon
CATEGORIES:Performing Arts
ATTACH;FMTTYPE=image/webp:https://gobatroun.com/wp-content/uploads/2025/03/hangloose-14-mar.webp
ORGANIZER;CN="HANGLOOSE":MAILTO:contact@info.com
GEO:34.246771332534;35.661930198875
X-APPLE-STRUCTURED-LOCATION;VALUE=URI;X-ADDRESS=HANGLOOSE 6MW6+PQ Batroun Batroun Lebanon;X-APPLE-RADIUS=500;X-TITLE=6MW6+PQ Batroun:geo:35.661930198875,34.246771332534
END:VEVENT
BEGIN:VEVENT
DTSTART;TZID=Asia/Beirut:20250309T120000
DTEND;TZID=Asia/Beirut:20250309T170000
DTSTAMP:20260426T070737
CREATED:20250307T112032Z
LAST-MODIFIED:20250307T114310Z
UID:10006877-1741521600-1741539600@gobatroun.com
SUMMARY:Fay Batroun Week 2 Schedule
DESCRIPTION:RSVP 71 614 162
URL:https://gobatroun.com/event/fay-batroun-week-2-schedule/2025-03-09/
LOCATION:Fay Batroun\, 7M46+Q2 Batroun\, Batroun\, Lebanon
CATEGORIES:Performing Arts
ATTACH;FMTTYPE=image/webp:https://gobatroun.com/wp-content/uploads/2025/03/fay-batroun-weekend-schedule.webp
END:VEVENT
BEGIN:VEVENT
DTSTART;TZID=Asia/Beirut:20250309T110000
DTEND;TZID=Asia/Beirut:20250309T110000
DTSTAMP:20260426T070737
CREATED:20250307T111528Z
LAST-MODIFIED:20250307T111528Z
UID:10006873-1741518000-1741518000@gobatroun.com
SUMMARY:Root & Rise at Colonel Reef
DESCRIPTION:Root & Rise taking place in BATROUN on the beach of @colonelreefbatroun \nOpening up the beach season with the sunny days coming up \nCelebrating life\, art and music together \n Camping on the beach (book ur tent spot)\n Bungalows (limited to 6)
URL:https://gobatroun.com/event/root-rise-at-colonel-reef/2025-03-09/
LOCATION:Colonel Reef\, 6MX5+R2 Batroun\, Batroun\, Lebanon
CATEGORIES:Performing Arts
ATTACH;FMTTYPE=image/webp:https://gobatroun.com/wp-content/uploads/2025/03/colonel-8-9-mar.webp
GEO:34.249604995751;35.657635266722
X-APPLE-STRUCTURED-LOCATION;VALUE=URI;X-ADDRESS=Colonel Reef 6MX5+R2 Batroun Batroun Lebanon;X-APPLE-RADIUS=500;X-TITLE=6MX5+R2 Batroun:geo:35.657635266722,34.249604995751
END:VEVENT
BEGIN:VEVENT
DTSTART;TZID=Asia/Beirut:20250308T230000
DTEND;TZID=Asia/Beirut:20250308T230000
DTSTAMP:20260426T070737
CREATED:20250307T111720Z
LAST-MODIFIED:20250307T111720Z
UID:10006874-1741474800-1741474800@gobatroun.com
SUMMARY:Rudy J & Ohmar at Fiction
DESCRIPTION:Fiction awaits this Saturday ✨\nYour sound conductors @rudyj.ofc and @its__ohmar are ready to guide your journey. \nDoors open at 11pm.\nFor info & reservations\, call +961 81 544 533.
URL:https://gobatroun.com/event/rudy-j-ohmar-at-fiction/
LOCATION:Fiction Batroun\, 7M36+848\, Batroun\, Batroun\, Lebanon
CATEGORIES:Performing Arts
END:VEVENT
BEGIN:VEVENT
DTSTART;TZID=Asia/Beirut:20250308T223000
DTEND;TZID=Asia/Beirut:20250308T223000
DTSTAMP:20260426T070737
CREATED:20250307T112346Z
LAST-MODIFIED:20250307T112346Z
UID:10006879-1741473000-1741473000@gobatroun.com
SUMMARY:Adam at Tramway
DESCRIPTION:Adam at Tramway \nFor reservations +961 03 514 101
URL:https://gobatroun.com/event/adam-at-tramway-3/
LOCATION:Tramway Gastro Pub\, 7M45+CQ Batroun\, Batroun\, Lebanon
CATEGORIES:Performing Arts
ATTACH;FMTTYPE=image/webp:https://gobatroun.com/wp-content/uploads/2025/03/tramway-8-mar.webp
END:VEVENT
BEGIN:VEVENT
DTSTART;TZID=Asia/Beirut:20250308T213000
DTEND;TZID=Asia/Beirut:20250308T213000
DTSTAMP:20260426T070737
CREATED:20250307T112520Z
LAST-MODIFIED:20250307T112520Z
UID:10006880-1741469400-1741469400@gobatroun.com
SUMMARY:Leo & Elio at Hangloose
DESCRIPTION:Don’t miss out on the beats! Join us for the Leo x Elio Dib Hangover Event this Saturday\, March 8th. It’s all about the music and good vibes!\nRSVP 71 872 417
URL:https://gobatroun.com/event/leo-elio-at-hangloose/
LOCATION:HANGLOOSE\, 6MW6+PQ Batroun\, Batroun\, Lebanon
CATEGORIES:Performing Arts
ATTACH;FMTTYPE=image/webp:https://gobatroun.com/wp-content/uploads/2025/03/hangloose-8-mar.webp
ORGANIZER;CN="HANGLOOSE":MAILTO:contact@info.com
GEO:34.246771332534;35.661930198875
X-APPLE-STRUCTURED-LOCATION;VALUE=URI;X-ADDRESS=HANGLOOSE 6MW6+PQ Batroun Batroun Lebanon;X-APPLE-RADIUS=500;X-TITLE=6MW6+PQ Batroun:geo:35.661930198875,34.246771332534
END:VEVENT
END:VCALENDAR