BEGIN:VCALENDAR
VERSION:2.0
PRODID:-//Go Batroun - ECPv6.14.2//NONSGML v1.0//EN
CALSCALE:GREGORIAN
METHOD:PUBLISH
X-WR-CALNAME:Go Batroun
X-ORIGINAL-URL:https://gobatroun.com
X-WR-CALDESC:Events for Go Batroun
REFRESH-INTERVAL;VALUE=DURATION:PT1H
X-Robots-Tag:noindex
X-PUBLISHED-TTL:PT1H
BEGIN:VTIMEZONE
TZID:Asia/Beirut
BEGIN:DAYLIGHT
TZOFFSETFROM:+0200
TZOFFSETTO:+0300
TZNAME:EEST
DTSTART:20250329T220000
END:DAYLIGHT
BEGIN:STANDARD
TZOFFSETFROM:+0300
TZOFFSETTO:+0200
TZNAME:EET
DTSTART:20251025T210000
END:STANDARD
END:VTIMEZONE
BEGIN:VEVENT
DTSTART;TZID=Asia/Beirut:20250518T200000
DTEND;TZID=Asia/Beirut:20250518T200000
DTSTAMP:20260425T173058
CREATED:20250515T085710Z
LAST-MODIFIED:20250515T085710Z
UID:10006980-1747598400-1747598400@gobatroun.com
SUMMARY:Après Sea at Pierrre & Friends
DESCRIPTION:Let’s kick off summer this Sunday with our first Après Sea on the deck! Nazir\, Jād\, and Dany set the vibes starting at 6 PM ☀ \nReservations ‪‪+961 3 352 930‬‬
URL:https://gobatroun.com/event/apres-sea-at-pierrre-friends/
LOCATION:Pierre and Friends\, 6J6X+XQ Madfoun\, Batroun\, Lebanon
CATEGORIES:Performing Arts
ATTACH;FMTTYPE=image/webp:https://gobatroun.com/wp-content/uploads/2025/05/pierre-18-may.webp
GEO:34.212423239859;35.649460262694
X-APPLE-STRUCTURED-LOCATION;VALUE=URI;X-ADDRESS=Pierre and Friends 6J6X+XQ Madfoun Batroun Lebanon;X-APPLE-RADIUS=500;X-TITLE=6J6X+XQ Madfoun:geo:35.649460262694,34.212423239859
END:VEVENT
BEGIN:VEVENT
DTSTART;TZID=Asia/Beirut:20250517T230000
DTEND;TZID=Asia/Beirut:20250517T230000
DTSTAMP:20260425T173058
CREATED:20250515T085535Z
LAST-MODIFIED:20250515T085535Z
UID:10006979-1747522800-1747522800@gobatroun.com
SUMMARY:Youhanna Saad at Taiga Batroun
DESCRIPTION:TaiGa Batroun\nThis Saturday Night
URL:https://gobatroun.com/event/youhanna-saad-at-taiga-batroun/
LOCATION:TAIGA BATROUN CLUB\, 7M46+23 Batroun\, Batroun\, Lebanon
CATEGORIES:Performing Arts
ATTACH;FMTTYPE=image/webp:https://gobatroun.com/wp-content/uploads/2025/05/taiga-17-may.webp
GEO:34.255082353874;35.660243950604
X-APPLE-STRUCTURED-LOCATION;VALUE=URI;X-ADDRESS=TAIGA BATROUN CLUB 7M46+23 Batroun Batroun Lebanon;X-APPLE-RADIUS=500;X-TITLE=7M46+23 Batroun:geo:35.660243950604,34.255082353874
END:VEVENT
BEGIN:VEVENT
DTSTART;TZID=Asia/Beirut:20250517T230000
DTEND;TZID=Asia/Beirut:20250517T230000
DTSTAMP:20260425T173058
CREATED:20250515T085028Z
LAST-MODIFIED:20250515T085028Z
UID:10006975-1747522800-1747522800@gobatroun.com
SUMMARY:ET B2B ANM at Fiction
DESCRIPTION:Three frequencies\, one dimension.\n@elietarabine b2b @djanm1 in flow. @georgesabou_issa joins in. This Saturday at Fiction. \nDoors open at 11 pm.\nFor info & reservations\, call +961 81 544 533.
URL:https://gobatroun.com/event/et-b2b-anm-at-fiction/
LOCATION:Fiction Batroun\, 7M36+848\, Batroun\, Batroun\, Lebanon
CATEGORIES:Performing Arts
ATTACH;FMTTYPE=image/webp:https://gobatroun.com/wp-content/uploads/2025/05/fiction-17-may.webp
END:VEVENT
BEGIN:VEVENT
DTSTART;TZID=Asia/Beirut:20250517T210000
DTEND;TZID=Asia/Beirut:20250517T210000
DTSTAMP:20260425T173058
CREATED:20250515T085829Z
LAST-MODIFIED:20250515T085855Z
UID:10006981-1747515600-1747515600@gobatroun.com
SUMMARY:Elias Bluesician at Colonel Reef
DESCRIPTION:Elias Bluesician live at Colonel Reef this Saturday May 17th \nExperience a night of raw bluesand blues rockwith Elias & Friends \nStarting 9PM\, see you at the reef
URL:https://gobatroun.com/event/elias-bluesician-live-at-colonel-reef/
LOCATION:Colonel Reef\, 6MX5+R2 Batroun\, Batroun\, Lebanon
CATEGORIES:Performing Arts
ATTACH;FMTTYPE=image/webp:https://gobatroun.com/wp-content/uploads/2025/05/colonel-17-may.webp
GEO:34.249604995751;35.657635266722
X-APPLE-STRUCTURED-LOCATION;VALUE=URI;X-ADDRESS=Colonel Reef 6MX5+R2 Batroun Batroun Lebanon;X-APPLE-RADIUS=500;X-TITLE=6MX5+R2 Batroun:geo:35.657635266722,34.249604995751
END:VEVENT
BEGIN:VEVENT
DTSTART;TZID=Asia/Beirut:20250517T210000
DTEND;TZID=Asia/Beirut:20250517T210000
DTSTAMP:20260425T173058
CREATED:20250515T085142Z
LAST-MODIFIED:20250515T085940Z
UID:10006976-1747515600-1747515600@gobatroun.com
SUMMARY:Garden Groove at Fay Batroun
DESCRIPTION:Get ready to see our garden turn into a dance floor because the first edition of Garden Groove is here! \nDance\, sing\, and relive the glory days. \n@__dj_michael__ is spinning fusion 80s & 90s hits you love\, and the ones you forgot you loved. \nRSVP 71 614 162
URL:https://gobatroun.com/event/garden-groove-at-fay-batroun/
LOCATION:Fay Batroun\, 7M46+Q2 Batroun\, Batroun\, Lebanon
CATEGORIES:Performing Arts
ATTACH;FMTTYPE=image/webp:https://gobatroun.com/wp-content/uploads/2025/05/fay-batroun-17-may.webp
END:VEVENT
BEGIN:VEVENT
DTSTART;TZID=Asia/Beirut:20250517T180000
DTEND;TZID=Asia/Beirut:20250517T180000
DTSTAMP:20260425T173058
CREATED:20250515T085438Z
LAST-MODIFIED:20250515T085438Z
UID:10006978-1747504800-1747504800@gobatroun.com
SUMMARY:Daddy B at Hangloose
DESCRIPTION:Daddy B is back for a whole new vibe! Join us this Saturday\, May 17 for a Hangloose Sunset starting 6:00PM! Music\, energy\, and your favorite tribe.\nRSVP: 71 872 417
URL:https://gobatroun.com/event/daddy-b-at-hangloose/
LOCATION:HANGLOOSE\, 6MW6+PQ Batroun\, Batroun\, Lebanon
CATEGORIES:Performing Arts
ATTACH;FMTTYPE=image/webp:https://gobatroun.com/wp-content/uploads/2025/05/hangloose-17-may.webp
ORGANIZER;CN="HANGLOOSE":MAILTO:contact@info.com
GEO:34.246771332534;35.661930198875
X-APPLE-STRUCTURED-LOCATION;VALUE=URI;X-ADDRESS=HANGLOOSE 6MW6+PQ Batroun Batroun Lebanon;X-APPLE-RADIUS=500;X-TITLE=6MW6+PQ Batroun:geo:35.661930198875,34.246771332534
END:VEVENT
BEGIN:VEVENT
DTSTART;TZID=Asia/Beirut:20250517T110000
DTEND;TZID=Asia/Beirut:20250517T133000
DTSTAMP:20260425T173058
CREATED:20250515T085322Z
LAST-MODIFIED:20250515T085352Z
UID:10006977-1747479600-1747488600@gobatroun.com
SUMMARY:Brunch & Connect Painting
DESCRIPTION:Paint\, brunch & good vibes in the heart of Batroun’s Old Town this Saturday! ☕️\nIntroducing #JiranBrunchClub\, your new creative escape by @fuaki.lb and @thecornerhub.lb \nThis Saturday\, May 17 | ⏰ 11:00 AM – 1:30 PM\nExpect painting\, smoothies\, coffee\, & a cozy community vibe. No experience needed! \n$30 includes:\n✔️ Paint workshop + materials\n✔️ Brunch\, smoothies & coffee\n✔️ Sunny vibes & music \nLimited spots — DM to book\, contact +961 81 868 947
URL:https://gobatroun.com/event/brunch-connect-painting/
LOCATION:The Corner Hub\, 7M45+FH Batroun\, Batroun\, Lebanon
CATEGORIES:Performing Arts
ATTACH;FMTTYPE=image/webp:https://gobatroun.com/wp-content/uploads/2025/05/the-corner-hub-17-may-1.webp
END:VEVENT
BEGIN:VEVENT
DTSTART;TZID=Asia/Beirut:20250510T210000
DTEND;TZID=Asia/Beirut:20250510T210000
DTSTAMP:20260425T173058
CREATED:20250509T134128Z
LAST-MODIFIED:20250509T134128Z
UID:10006967-1746910800-1746910800@gobatroun.com
SUMMARY:Ronald Hosri feat Chris Saab & Guy Ramy at Colonel Reef
DESCRIPTION:Let the waves meet the music on Saturday\, May 10th\, at Colonel Reef!  \nRonald Hosri feat Chris Saab & Guy Ramy are bringing good vibes\, cold drinks\, and acoustic pop under the stars.  \nIt all starts at 9PM! \nCome early\, grab a beer\, and let the night do the rest.  \nReserve at 03743543 !
URL:https://gobatroun.com/event/ronald-hosri-feat-chris-saab-guy-ramy-at-colonel-reef/
LOCATION:Colonel Reef\, 6MX5+R2 Batroun\, Batroun\, Lebanon
CATEGORIES:Performing Arts
ATTACH;FMTTYPE=image/webp:https://gobatroun.com/wp-content/uploads/2025/05/colonel-9-may.webp
GEO:34.249604995751;35.657635266722
X-APPLE-STRUCTURED-LOCATION;VALUE=URI;X-ADDRESS=Colonel Reef 6MX5+R2 Batroun Batroun Lebanon;X-APPLE-RADIUS=500;X-TITLE=6MX5+R2 Batroun:geo:35.657635266722,34.249604995751
END:VEVENT
BEGIN:VEVENT
DTSTART;TZID=Asia/Beirut:20250509T230000
DTEND;TZID=Asia/Beirut:20250509T230000
DTSTAMP:20260425T173058
CREATED:20250509T134355Z
LAST-MODIFIED:20250509T134355Z
UID:10006968-1746831600-1746831600@gobatroun.com
SUMMARY:Audiokult at Fiction
DESCRIPTION:Fiction ignites this Friday ✨\n@audiokult_ofc & @micho_boutros soundtrack the night. \nDoors open at 11pm.\nFor info & reservations\, call +961 81 544 533.
URL:https://gobatroun.com/event/audiokult-at-fiction/
LOCATION:Fiction Batroun\, 7M36+848\, Batroun\, Batroun\, Lebanon
CATEGORIES:Performing Arts
ATTACH;FMTTYPE=image/webp:https://gobatroun.com/wp-content/uploads/2025/05/fiction-9-may.webp
END:VEVENT
BEGIN:VEVENT
DTSTART;TZID=Asia/Beirut:20250509T210000
DTEND;TZID=Asia/Beirut:20250509T210000
DTSTAMP:20260425T173058
CREATED:20250509T134632Z
LAST-MODIFIED:20250509T134632Z
UID:10006970-1746824400-1746824400@gobatroun.com
SUMMARY:Fusion Night at Fay Batroun
DESCRIPTION:This Friday @ralphcmusic brings fusion beats to Fay.\nEnjoy a smooth blend of French\, English\, and Arabic hits\, from timeless oldies to fresh new hits.\nDon’t miss it.
URL:https://gobatroun.com/event/fusion-night-at-fay-batroun/
LOCATION:Fay Batroun\, 7M46+Q2 Batroun\, Batroun\, Lebanon
CATEGORIES:Performing Arts
ATTACH;FMTTYPE=image/webp:https://gobatroun.com/wp-content/uploads/2025/05/fay-batroun-9-may.webp
END:VEVENT
BEGIN:VEVENT
DTSTART;TZID=Asia/Beirut:20250509T190000
DTEND;TZID=Asia/Beirut:20250509T190000
DTSTAMP:20260425T173058
CREATED:20250509T134527Z
LAST-MODIFIED:20250509T134527Z
UID:10006969-1746817200-1746817200@gobatroun.com
SUMMARY:À La Terrace - Pierre & Friends
DESCRIPTION:This Friday\, we kick off À La Terrace with live music by Reina Najjar & the band\, followed by DJ Gaby  Don’t miss it! \n Reservations +961 3 352 930\n Cheers!
URL:https://gobatroun.com/event/a-la-terrace-pierre-friends/
LOCATION:Pierre and Friends\, 6J6X+XQ Madfoun\, Batroun\, Lebanon
CATEGORIES:Performing Arts
ATTACH;FMTTYPE=image/webp:https://gobatroun.com/wp-content/uploads/2025/05/pierre-and-friends-9-may.webp
GEO:34.212423239859;35.649460262694
X-APPLE-STRUCTURED-LOCATION;VALUE=URI;X-ADDRESS=Pierre and Friends 6J6X+XQ Madfoun Batroun Lebanon;X-APPLE-RADIUS=500;X-TITLE=6J6X+XQ Madfoun:geo:35.649460262694,34.212423239859
END:VEVENT
BEGIN:VEVENT
DTSTART;TZID=Asia/Beirut:20250503T230000
DTEND;TZID=Asia/Beirut:20250503T230000
DTSTAMP:20260425T173058
CREATED:20250502T071917Z
LAST-MODIFIED:20250502T071917Z
UID:10006964-1746313200-1746313200@gobatroun.com
SUMMARY:Jad & Ohmar at Fiction
DESCRIPTION:Shit’s about to hit the fan this Saturday at Fiction ️ @its__ohmar & @jadtannous9 bringing the chaos. \nDoors open at 11pm.\nFor info & reservations\, call +961 81 544 533.
URL:https://gobatroun.com/event/jad-ohmar-at-fiction/
LOCATION:Fiction Batroun\, 7M36+848\, Batroun\, Batroun\, Lebanon
CATEGORIES:Performing Arts
ATTACH;FMTTYPE=image/webp:https://gobatroun.com/wp-content/uploads/2025/05/Fiction-3-may.webp
END:VEVENT
BEGIN:VEVENT
DTSTART;TZID=Asia/Beirut:20250503T210000
DTEND;TZID=Asia/Beirut:20250503T210000
DTSTAMP:20260425T173058
CREATED:20250502T072028Z
LAST-MODIFIED:20250502T072028Z
UID:10006965-1746306000-1746306000@gobatroun.com
SUMMARY:Band Night at Fay Batroun
DESCRIPTION:Join us this Saturday for an unforgettable Band Night\nLive with Anis & the Band\, followed by DJ Michael.\n️ May 3 | Starting 9 PM\n RSVP 71 614 162
URL:https://gobatroun.com/event/band-night-at-fay-batroun-2/
LOCATION:Fay Batroun\, 7M46+Q2 Batroun\, Batroun\, Lebanon
CATEGORIES:Performing Arts
ATTACH;FMTTYPE=image/webp:https://gobatroun.com/wp-content/uploads/2025/05/Fay-batroun-3-may.webp
END:VEVENT
BEGIN:VEVENT
DTSTART;TZID=Asia/Beirut:20250503T190000
DTEND;TZID=Asia/Beirut:20250503T190000
DTSTAMP:20260425T173058
CREATED:20250502T071736Z
LAST-MODIFIED:20250502T071736Z
UID:10006963-1746298800-1746298800@gobatroun.com
SUMMARY:Hangover Sunset ft. Daddy B
DESCRIPTION:Hangover Sunset ft. Daddy B\nThis Saturday\, May 3 | 7:00 PM till 2:00 AM\nVibes\, beats\, and unforgettable moments—don’t miss it!\nRSVP: 71 872 417
URL:https://gobatroun.com/event/hangover-sunset-ft-daddy-b/
LOCATION:HANGLOOSE\, 6MW6+PQ Batroun\, Batroun\, Lebanon
CATEGORIES:Performing Arts
ATTACH;FMTTYPE=image/webp:https://gobatroun.com/wp-content/uploads/2025/05/Hangloose-3-may.webp
ORGANIZER;CN="HANGLOOSE":MAILTO:contact@info.com
GEO:34.246771332534;35.661930198875
X-APPLE-STRUCTURED-LOCATION;VALUE=URI;X-ADDRESS=HANGLOOSE 6MW6+PQ Batroun Batroun Lebanon;X-APPLE-RADIUS=500;X-TITLE=6MW6+PQ Batroun:geo:35.661930198875,34.246771332534
END:VEVENT
BEGIN:VEVENT
DTSTART;TZID=Asia/Beirut:20250430T200000
DTEND;TZID=Asia/Beirut:20250430T200000
DTSTAMP:20260425T173058
CREATED:20250428T180436Z
LAST-MODIFIED:20250428T180436Z
UID:10006962-1746043200-1746043200@gobatroun.com
SUMMARY:A Tribute to Habib Mansour Al-Rihani
DESCRIPTION:Saint Coeur Ain Najm Alumni Association – Beirut\nTribute to Habib Mansour Al-Rihani\nOn the Anniversary of His Passing \n“Words and Melodies” \n Date: April 30\, 2025\n Time: 8:00 PM\n Location: Mar Estephan Cathedral – Al-Batron \nRSVP: +961 06 740 201
URL:https://gobatroun.com/event/a-tribute-to-habib-mansour-al-rihani/
LOCATION:St. Stephen Cathedral\, 7M45+RFX \, Batroun\, Batroun\, Lebanon
CATEGORIES:Performing Arts
ATTACH;FMTTYPE=image/webp:https://gobatroun.com/wp-content/uploads/2025/04/Tannourine-cedar-3-may.webp
GEO:34.257127548512;35.658741221432
X-APPLE-STRUCTURED-LOCATION;VALUE=URI;X-ADDRESS=St. Stephen Cathedral 7M45+RFX  Batroun Batroun Lebanon;X-APPLE-RADIUS=500;X-TITLE=7M45+RFX \, Batroun:geo:35.658741221432,34.257127548512
END:VEVENT
BEGIN:VEVENT
DTSTART;TZID=Asia/Beirut:20250427T140000
DTEND;TZID=Asia/Beirut:20250427T140000
DTSTAMP:20260425T173058
CREATED:20250424T100408Z
LAST-MODIFIED:20250424T100408Z
UID:10006955-1745762400-1745762400@gobatroun.com
SUMMARY:6th Anniversary Lunch & Jazz Week Celebration
DESCRIPTION:6th Anniversary Lunch & Jazz Week Celebration Join us on Sunday\, April 27 at 2 PM for a special event featuring: \n-Buffet & Live BBQ\n-Open Regular Bar\n-Live Set by Elias Bluesician & Friends \nAll for $50 per person.\nReserve your spot now: ‪‪+961 70 211 299
URL:https://gobatroun.com/event/6th-anniversary-lunch-jazz-week-celebration/
LOCATION:Barrio67
CATEGORIES:Performing Arts
ATTACH;FMTTYPE=image/webp:https://gobatroun.com/wp-content/uploads/2025/04/barrio-26-apr.webp
END:VEVENT
BEGIN:VEVENT
DTSTART;TZID=Asia/Beirut:20250427T110000
DTEND;TZID=Asia/Beirut:20250427T110000
DTSTAMP:20260425T173058
CREATED:20250424T095559Z
LAST-MODIFIED:20250424T095559Z
UID:10006953-1745751600-1745751600@gobatroun.com
SUMMARY:Latin Jazz at Bolero
DESCRIPTION:LATIN JAZZ at BOLERO. \nIn celebration of the @intljazzday and part of the Beirut International Jazz Week\, in collaboration with @beirutjazzsociety\, the Arthur Satyan Acoustic Trio will jazz up the morning at Boléro on Sunday\, April 27. \nTime: 11AM \n. Concert ticket $30\n. Concert ticket including: Boléro and Woka’s BBQ buffet with Elmir Craft Beer and our Carmina House Cocktails $50\n Call 03 30 29 29 for reservations – limited spots!
URL:https://gobatroun.com/event/latin-jazz-at-bolero/
LOCATION:Boléro Batroun\, 7M25+J6 Batroun\, Batroun\, Lebanon
CATEGORIES:Performing Arts
ATTACH;FMTTYPE=image/webp:https://gobatroun.com/wp-content/uploads/2025/04/bolero-27-apr.webp
GEO:34.25161416179;35.658026615144
X-APPLE-STRUCTURED-LOCATION;VALUE=URI;X-ADDRESS=Boléro Batroun 7M25+J6 Batroun Batroun Lebanon;X-APPLE-RADIUS=500;X-TITLE=7M25+J6 Batroun:geo:35.658026615144,34.25161416179
END:VEVENT
BEGIN:VEVENT
DTSTART;TZID=Asia/Beirut:20250426T230000
DTEND;TZID=Asia/Beirut:20250426T230000
DTSTAMP:20260425T173058
CREATED:20250424T101147Z
LAST-MODIFIED:20250424T101147Z
UID:10006957-1745708400-1745708400@gobatroun.com
SUMMARY:Nareg Torossian & Micho Boutros at Fiction
DESCRIPTION:Two conductors. One journey.\n@dimelonareg and @micho_boutros take over Fiction this Saturday. \nDoors open at 11pm.\nFor info & reservations\, call +961 81 544 533.
URL:https://gobatroun.com/event/nareg-torossian-micho-boutros-at-fiction/
LOCATION:Fiction Batroun\, 7M36+848\, Batroun\, Batroun\, Lebanon
CATEGORIES:Performing Arts
ATTACH;FMTTYPE=image/webp:https://gobatroun.com/wp-content/uploads/2025/04/fiction-26-apr.webp
END:VEVENT
BEGIN:VEVENT
DTSTART;TZID=Asia/Beirut:20250426T220000
DTEND;TZID=Asia/Beirut:20250426T220000
DTSTAMP:20260425T173058
CREATED:20250424T091016Z
LAST-MODIFIED:20250424T091016Z
UID:10006952-1745704800-1745704800@gobatroun.com
SUMMARY:Chadi Saghir at Tramway
DESCRIPTION:Chadi Saghir at Tramway \nFor reservation: +961 3 514 101
URL:https://gobatroun.com/event/chadi-saghir-at-tramway/
LOCATION:Tramway Gastro Pub\, 7M45+CQ Batroun\, Batroun\, Lebanon
CATEGORIES:Performing Arts
ATTACH;FMTTYPE=image/webp:https://gobatroun.com/wp-content/uploads/2025/04/tramway-26-apr.webp
END:VEVENT
BEGIN:VEVENT
DTSTART;TZID=Asia/Beirut:20250426T210000
DTEND;TZID=Asia/Beirut:20250426T210000
DTSTAMP:20260425T173058
CREATED:20250424T101255Z
LAST-MODIFIED:20250424T101255Z
UID:10006958-1745701200-1745701200@gobatroun.com
SUMMARY:Band Night at Fay Batroun
DESCRIPTION:Join us this Saturday for an unforgettable Band Night\nLive with Anis & the Band\, followed by DJ Michael. \n️ April 26 | Starting 9 PM\n RSVP 71 614 162
URL:https://gobatroun.com/event/band-night-at-fay-batroun/
LOCATION:Fay Batroun\, 7M46+Q2 Batroun\, Batroun\, Lebanon
CATEGORIES:Performing Arts
ATTACH;FMTTYPE=image/webp:https://gobatroun.com/wp-content/uploads/2025/04/fay-batroun-26-apr.webp
END:VEVENT
BEGIN:VEVENT
DTSTART;TZID=Asia/Beirut:20250426T160000
DTEND;TZID=Asia/Beirut:20250426T160000
DTSTAMP:20260425T173058
CREATED:20250424T101505Z
LAST-MODIFIED:20250424T101505Z
UID:10006959-1745683200-1745683200@gobatroun.com
SUMMARY:Daddy B & Mür at Hangloose
DESCRIPTION:Hangover Day Party going down this Saturday\, April 26! Featuring Daddy B & Mür Kicking off at 4:00 PM — good vibes only.\nRSVP now: 71 872 417
URL:https://gobatroun.com/event/daddy-b-mur-at-hangloose/
LOCATION:HANGLOOSE\, 6MW6+PQ Batroun\, Batroun\, Lebanon
CATEGORIES:Performing Arts
ATTACH;FMTTYPE=image/webp:https://gobatroun.com/wp-content/uploads/2025/04/hangloose-26-apr.webp
ORGANIZER;CN="HANGLOOSE":MAILTO:contact@info.com
GEO:34.246771332534;35.661930198875
X-APPLE-STRUCTURED-LOCATION;VALUE=URI;X-ADDRESS=HANGLOOSE 6MW6+PQ Batroun Batroun Lebanon;X-APPLE-RADIUS=500;X-TITLE=6MW6+PQ Batroun:geo:35.661930198875,34.246771332534
END:VEVENT
BEGIN:VEVENT
DTSTART;TZID=Asia/Beirut:20250426T110000
DTEND;TZID=Asia/Beirut:20250426T130000
DTSTAMP:20260425T173058
CREATED:20250403T102415Z
LAST-MODIFIED:20250403T102415Z
UID:10006923-1745665200-1745672400@gobatroun.com
SUMMARY:The Corner Hub April Workshops
DESCRIPTION:April schedule announced  Come to sunny Batroun ☀️ and enjoy our cultural workshops\nRegister to reserve your spot.
URL:https://gobatroun.com/event/the-corner-hub-april-workshops/2025-04-26/
LOCATION:The Corner Hub\, 7M45+FH Batroun\, Batroun\, Lebanon
CATEGORIES:Performing Arts
ATTACH;FMTTYPE=image/webp:https://gobatroun.com/wp-content/uploads/2025/04/the-corner-hub-apr-schedule.webp
END:VEVENT
BEGIN:VEVENT
DTSTART;TZID=Asia/Beirut:20250426T080000
DTEND;TZID=Asia/Beirut:20250426T080000
DTSTAMP:20260425T173058
CREATED:20250424T100002Z
LAST-MODIFIED:20250424T100042Z
UID:10006954-1745654400-1745654400@gobatroun.com
SUMMARY:Morning of Breathwork & Journaling
DESCRIPTION:Ready to Reset & Recharge by the Sea? \nJoin me for a magical morning of Breathwork & Journaling on the beach\nSaturday\, April 26 | 8 AM\nColonel Beach – Batroun \nLet the sound of the waves guide your breath.\nLet the morning light illuminate your inner world.\nLet go of what no longer serves you. \nWhat’s included:\n• Guided breathwork journey\n• Reflective journaling prompts\n• Supportive group energy\n• Beautiful seaside setting \nOptional add-ons:\n• Brunch by the beach – $12\n• Chill all day with us – swimming\, sun\, and optional water activities \nEnergy exchange: $10\nSpots are limited – payment via Whish Money to confirm your spot.\nDM to book – come solo or bring a friend! \nLet’s rise with the sun and set our hearts free.
URL:https://gobatroun.com/event/morning-of-breathwork-journaling/
LOCATION:Colonel Reef\, 6MX5+R2 Batroun\, Batroun\, Lebanon
CATEGORIES:Performing Arts
ATTACH;FMTTYPE=image/webp:https://gobatroun.com/wp-content/uploads/2025/04/colonel-reef-26-apr.webp
GEO:34.249604995751;35.657635266722
X-APPLE-STRUCTURED-LOCATION;VALUE=URI;X-ADDRESS=Colonel Reef 6MX5+R2 Batroun Batroun Lebanon;X-APPLE-RADIUS=500;X-TITLE=6MX5+R2 Batroun:geo:35.657635266722,34.249604995751
END:VEVENT
BEGIN:VEVENT
DTSTART;TZID=Asia/Beirut:20250425T230000
DTEND;TZID=Asia/Beirut:20250425T230000
DTSTAMP:20260425T173058
CREATED:20250424T100904Z
LAST-MODIFIED:20250424T100927Z
UID:10006956-1745622000-1745622000@gobatroun.com
SUMMARY:Charly Hakim at Fiction
DESCRIPTION:Time Machine jumps back this Friday with Charly Hakim ⌛ \nDoors open at 11 pm.\nFor info & reservations\, call +961 81 544 533.
URL:https://gobatroun.com/event/charly-hakim-at-fiction/
LOCATION:Fiction Batroun\, 7M36+848\, Batroun\, Batroun\, Lebanon
CATEGORIES:Performing Arts
ATTACH;FMTTYPE=image/webp:https://gobatroun.com/wp-content/uploads/2025/04/fiction-25-apr.webp
END:VEVENT
BEGIN:VEVENT
DTSTART;TZID=Asia/Beirut:20250425T070000
DTEND;TZID=Asia/Beirut:20250425T070000
DTSTAMP:20260425T173058
CREATED:20250403T102415Z
LAST-MODIFIED:20250403T102415Z
UID:10006922-1745564400-1745564400@gobatroun.com
SUMMARY:The Corner Hub April Workshops
DESCRIPTION:April schedule announced  Come to sunny Batroun ☀️ and enjoy our cultural workshops\nRegister to reserve your spot.
URL:https://gobatroun.com/event/the-corner-hub-april-workshops/2025-04-25/
LOCATION:The Corner Hub\, 7M45+FH Batroun\, Batroun\, Lebanon
CATEGORIES:Performing Arts
ATTACH;FMTTYPE=image/webp:https://gobatroun.com/wp-content/uploads/2025/04/the-corner-hub-apr-schedule.webp
END:VEVENT
BEGIN:VEVENT
DTSTART;TZID=Asia/Beirut:20250422T090000
DTEND;TZID=Asia/Beirut:20250422T130000
DTSTAMP:20260425T173058
CREATED:20250402T091752Z
LAST-MODIFIED:20250402T091752Z
UID:10006916-1745312400-1745326800@gobatroun.com
SUMMARY:Easter Camp – Robotics & STEM
DESCRIPTION:Easter Camp 2025 – Robotics & STEM Adventure!\n April 22 – April 25\, 2025\n 9:00 AM – 1:00 PM\n Robotics\, AI\, Coding\n Science Experiments & Laboratories\n 3D Printing\, Engineering Workshops ️\n✨ Limited Seats Available! ✨\n Reserve Now: 71-749387\n Learn. Build. Innovate. Don’t miss out!
URL:https://gobatroun.com/event/easter-camp-robotics-stem/
LOCATION:Minds Craft\, Batroun City\, Batroun\, Lebanon
CATEGORIES:Performing Arts
ATTACH;FMTTYPE=image/webp:https://gobatroun.com/wp-content/uploads/2025/04/Minds-Craft-Easter-Camp.webp
END:VEVENT
BEGIN:VEVENT
DTSTART;VALUE=DATE:20250422
DTEND;VALUE=DATE:20250424
DTSTAMP:20260425T173058
CREATED:20250421T113657Z
LAST-MODIFIED:20250421T113657Z
UID:10006944-1745301600-1745387999@gobatroun.com
SUMMARY:Minds' Craft Easter Camp Program
DESCRIPTION:Let your kids explore\, create\, and discover with us this Easter!\nOnly 2 days and the fun begins !\nLimited seats available. Call us for reservation.
URL:https://gobatroun.com/event/minds-craft-easter-camp-program/
LOCATION:Minds Craft\, Batroun City\, Batroun\, Lebanon
CATEGORIES:Performing Arts
ATTACH;FMTTYPE=image/png:https://gobatroun.com/wp-content/uploads/2025/04/Minds-craft.png
END:VEVENT
BEGIN:VEVENT
DTSTART;TZID=Asia/Beirut:20250420T220000
DTEND;TZID=Asia/Beirut:20250420T220000
DTSTAMP:20260425T173058
CREATED:20250403T103109Z
LAST-MODIFIED:20250403T103109Z
UID:10006926-1745186400-1745186400@gobatroun.com
SUMMARY:Carlos Hikri at Léÿl (Easter Eve)
DESCRIPTION:Mark your calendars!\nCarlos live at Léÿl Sunday\, April 20th\, Easter Eve\n@carlos.hikri\nRsvp: 76 181 999
URL:https://gobatroun.com/event/carlos-hikri-at-leyl-easter-eve/
LOCATION:Léyl
CATEGORIES:Performing Arts
ATTACH;FMTTYPE=image/webp:https://gobatroun.com/wp-content/uploads/2025/04/leyl-20-apr.webp
END:VEVENT
BEGIN:VEVENT
DTSTART;TZID=Asia/Beirut:20250420T220000
DTEND;TZID=Asia/Beirut:20250420T220000
DTSTAMP:20260425T173058
CREATED:20250403T101755Z
LAST-MODIFIED:20250403T102906Z
UID:10006918-1745186400-1745186400@gobatroun.com
SUMMARY:Adam at Tramway (Easter Eve)
DESCRIPTION:Adam at Tramway \nFor reservations +961 03 514 101
URL:https://gobatroun.com/event/adam-at-tramway-easter-eve/
LOCATION:Tramway Gastro Pub\, 7M45+CQ Batroun\, Batroun\, Lebanon
CATEGORIES:Performing Arts
ATTACH;FMTTYPE=image/webp:https://gobatroun.com/wp-content/uploads/2025/04/tramway-20-apr.webp
END:VEVENT
BEGIN:VEVENT
DTSTART;TZID=Asia/Beirut:20250420T210000
DTEND;TZID=Asia/Beirut:20250420T210000
DTSTAMP:20260425T173058
CREATED:20250415T082116Z
LAST-MODIFIED:20250415T082116Z
UID:10006941-1745182800-1745182800@gobatroun.com
SUMMARY:Sunday Easter Band Night at Fay Batroun
DESCRIPTION:Anis & The Band \nApril 20\, starting 9 pm \nRSVP: 71 614 162
URL:https://gobatroun.com/event/sunday-easter-band-night-at-fay-batroun/
LOCATION:Fay Batroun\, 7M46+Q2 Batroun\, Batroun\, Lebanon
CATEGORIES:Performing Arts
ATTACH;FMTTYPE=image/webp:https://gobatroun.com/wp-content/uploads/2025/04/fay-batroun-20-apr.webp
END:VEVENT
END:VCALENDAR