BEGIN:VCALENDAR
VERSION:2.0
PRODID:-//Go Batroun - ECPv6.14.2//NONSGML v1.0//EN
CALSCALE:GREGORIAN
METHOD:PUBLISH
X-ORIGINAL-URL:https://gobatroun.com
X-WR-CALDESC:Events for Go Batroun
REFRESH-INTERVAL;VALUE=DURATION:PT1H
X-Robots-Tag:noindex
X-PUBLISHED-TTL:PT1H
BEGIN:VTIMEZONE
TZID:Asia/Beirut
BEGIN:DAYLIGHT
TZOFFSETFROM:+0200
TZOFFSETTO:+0300
TZNAME:EEST
DTSTART:20230325T220000
END:DAYLIGHT
BEGIN:STANDARD
TZOFFSETFROM:+0300
TZOFFSETTO:+0200
TZNAME:EET
DTSTART:20231028T210000
END:STANDARD
END:VTIMEZONE
BEGIN:VEVENT
DTSTART;TZID=Asia/Beirut:20231125T180000
DTEND;TZID=Asia/Beirut:20231125T180000
DTSTAMP:20260421T235239
CREATED:20231116T062341Z
LAST-MODIFIED:20231116T062341Z
UID:10005213-1700935200-1700935200@gobatroun.com
SUMMARY:Alchemy: Objects and Images at Dar Al Mouna
DESCRIPTION:Six artists from diverse backgrounds converge in a memorable display of modern art! \nFind a unique early Christmas gift from an array of objects and visual artworks\, while you sip on some delicious @montdalmaz wine 🌟 \nJoin us for the opening\, Saturday November 25 at 6 PM\nat Dar al Mona\, Batroun \nThe exhibition remains open till December 3\n2 to 6 PM (closed Monday)
URL:https://gobatroun.com/event/alchemy-objects-and-images-at-dar-al-mouna/
LOCATION:Dar Al Mona\, 7M35+PM Batroun\, Batroun\, Lebanon
CATEGORIES:Festivals,Performing Arts
ATTACH;FMTTYPE=image/png:https://gobatroun.com/wp-content/uploads/2023/11/Screenshot-2506.png
GEO:34.254368398216;35.659186434674
X-APPLE-STRUCTURED-LOCATION;VALUE=URI;X-ADDRESS=Dar Al Mona 7M35+PM Batroun Batroun Lebanon;X-APPLE-RADIUS=500;X-TITLE=7M35+PM Batroun:geo:35.659186434674,34.254368398216
END:VEVENT
BEGIN:VEVENT
DTSTART;TZID=Asia/Beirut:20231007T210000
DTEND;TZID=Asia/Beirut:20231007T210000
DTSTAMP:20260421T235239
CREATED:20231002T053612Z
LAST-MODIFIED:20231002T053612Z
UID:10004991-1696712400-1696712400@gobatroun.com
SUMMARY:Feast of Saint Sarkis and Bakhus at Chabtine
DESCRIPTION:بمناسبة عيد مار سركيس وباخوس\nتدعوكم لجنة وقف مار إدنا شبطين بالتعاون مع لجنة مهرجانات مار سركيس وباخوس الى العشاء القروي السنوي
URL:https://gobatroun.com/event/feast-of-saint-sarkis-and-bakhus-at-chabtine/
LOCATION:chabtine
CATEGORIES:Festivals,Performing Arts
ATTACH;FMTTYPE=image/jpeg:https://gobatroun.com/wp-content/uploads/2023/10/WhatsApp-Image-2023-10-01-at-09.12.33.jpg
END:VEVENT
BEGIN:VEVENT
DTSTART;TZID=Asia/Beirut:20230910T080000
DTEND;TZID=Asia/Beirut:20230910T170000
DTSTAMP:20260421T235239
CREATED:20230509T094219Z
LAST-MODIFIED:20230808T081113Z
UID:10004522-1694332800-1694365200@gobatroun.com
SUMMARY:BIF 2023: Batroun Mediterranean Film Festival
DESCRIPTION:We are one month away and we are so excited 🐙🐚🍻 \nThe 7th edition of the Batroun Mediterranean Film Festival will take place from September 7 till September 10. \nVisual Identity and Design by the talented @michelledaou \nPhoto Archive @alfredmoussaphotography collection.
URL:https://gobatroun.com/event/batroun-international-festival-2023-4/2023-09-10/
LOCATION:Batroun\, 6MX6+79V Batroun\, Batroun\, 1400\, Lebanon
CATEGORIES:Festivals,Performing Arts
ATTACH;FMTTYPE=image/png:https://gobatroun.com/wp-content/uploads/2023/05/Screenshot-1681.png
GEO:34.248237811542;35.660916328184
X-APPLE-STRUCTURED-LOCATION;VALUE=URI;X-ADDRESS=Batroun 6MX6+79V Batroun Batroun 1400 Lebanon;X-APPLE-RADIUS=500;X-TITLE=6MX6+79V Batroun:geo:35.660916328184,34.248237811542
END:VEVENT
BEGIN:VEVENT
DTSTART;TZID=Asia/Beirut:20230909T080000
DTEND;TZID=Asia/Beirut:20230909T170000
DTSTAMP:20260421T235239
CREATED:20230509T094219Z
LAST-MODIFIED:20230808T081113Z
UID:10004521-1694246400-1694278800@gobatroun.com
SUMMARY:BIF 2023: Batroun Mediterranean Film Festival
DESCRIPTION:We are one month away and we are so excited 🐙🐚🍻 \nThe 7th edition of the Batroun Mediterranean Film Festival will take place from September 7 till September 10. \nVisual Identity and Design by the talented @michelledaou \nPhoto Archive @alfredmoussaphotography collection.
URL:https://gobatroun.com/event/batroun-international-festival-2023-4/2023-09-09/
LOCATION:Batroun\, 6MX6+79V Batroun\, Batroun\, 1400\, Lebanon
CATEGORIES:Festivals,Performing Arts
ATTACH;FMTTYPE=image/png:https://gobatroun.com/wp-content/uploads/2023/05/Screenshot-1681.png
GEO:34.248237811542;35.660916328184
X-APPLE-STRUCTURED-LOCATION;VALUE=URI;X-ADDRESS=Batroun 6MX6+79V Batroun Batroun 1400 Lebanon;X-APPLE-RADIUS=500;X-TITLE=6MX6+79V Batroun:geo:35.660916328184,34.248237811542
END:VEVENT
BEGIN:VEVENT
DTSTART;TZID=Asia/Beirut:20230908T080000
DTEND;TZID=Asia/Beirut:20230908T170000
DTSTAMP:20260421T235239
CREATED:20230509T094219Z
LAST-MODIFIED:20230808T081113Z
UID:10004520-1694160000-1694192400@gobatroun.com
SUMMARY:BIF 2023: Batroun Mediterranean Film Festival
DESCRIPTION:We are one month away and we are so excited 🐙🐚🍻 \nThe 7th edition of the Batroun Mediterranean Film Festival will take place from September 7 till September 10. \nVisual Identity and Design by the talented @michelledaou \nPhoto Archive @alfredmoussaphotography collection.
URL:https://gobatroun.com/event/batroun-international-festival-2023-4/2023-09-08/
LOCATION:Batroun\, 6MX6+79V Batroun\, Batroun\, 1400\, Lebanon
CATEGORIES:Festivals,Performing Arts
ATTACH;FMTTYPE=image/png:https://gobatroun.com/wp-content/uploads/2023/05/Screenshot-1681.png
GEO:34.248237811542;35.660916328184
X-APPLE-STRUCTURED-LOCATION;VALUE=URI;X-ADDRESS=Batroun 6MX6+79V Batroun Batroun 1400 Lebanon;X-APPLE-RADIUS=500;X-TITLE=6MX6+79V Batroun:geo:35.660916328184,34.248237811542
END:VEVENT
BEGIN:VEVENT
DTSTART;TZID=Asia/Beirut:20230907T080000
DTEND;TZID=Asia/Beirut:20230907T170000
DTSTAMP:20260421T235239
CREATED:20230509T094219Z
LAST-MODIFIED:20230808T081113Z
UID:10002305-1694073600-1694106000@gobatroun.com
SUMMARY:BIF 2023: Batroun Mediterranean Film Festival
DESCRIPTION:We are one month away and we are so excited 🐙🐚🍻 \nThe 7th edition of the Batroun Mediterranean Film Festival will take place from September 7 till September 10. \nVisual Identity and Design by the talented @michelledaou \nPhoto Archive @alfredmoussaphotography collection.
URL:https://gobatroun.com/event/batroun-international-festival-2023-4/2023-09-07/
LOCATION:Batroun\, 6MX6+79V Batroun\, Batroun\, 1400\, Lebanon
CATEGORIES:Festivals,Performing Arts
ATTACH;FMTTYPE=image/png:https://gobatroun.com/wp-content/uploads/2023/05/Screenshot-1681.png
GEO:34.248237811542;35.660916328184
X-APPLE-STRUCTURED-LOCATION;VALUE=URI;X-ADDRESS=Batroun 6MX6+79V Batroun Batroun 1400 Lebanon;X-APPLE-RADIUS=500;X-TITLE=6MX6+79V Batroun:geo:35.660916328184,34.248237811542
END:VEVENT
BEGIN:VEVENT
DTSTART;TZID=Asia/Beirut:20230903T170000
DTEND;TZID=Asia/Beirut:20230903T220000
DTSTAMP:20260421T235239
CREATED:20230828T105836Z
LAST-MODIFIED:20230828T105836Z
UID:10004754-1693760400-1693778400@gobatroun.com
SUMMARY:Kfarabida Club’s Kermesse
DESCRIPTION:Kfarabida Club’s Kermesse 1st\, 2nd and 3rd of September!! Join them
URL:https://gobatroun.com/event/kfarabida-clubs-kermesse/2023-09-03/
LOCATION:Kfarabida
CATEGORIES:Festivals,Performing Arts
ATTACH;FMTTYPE=image/png:https://gobatroun.com/wp-content/uploads/2023/08/Screenshot-2008.png
END:VEVENT
BEGIN:VEVENT
DTSTART;TZID=Asia/Beirut:20230902T170000
DTEND;TZID=Asia/Beirut:20230902T220000
DTSTAMP:20260421T235239
CREATED:20230828T105836Z
LAST-MODIFIED:20230828T105836Z
UID:10004753-1693674000-1693692000@gobatroun.com
SUMMARY:Kfarabida Club’s Kermesse
DESCRIPTION:Kfarabida Club’s Kermesse 1st\, 2nd and 3rd of September!! Join them
URL:https://gobatroun.com/event/kfarabida-clubs-kermesse/2023-09-02/
LOCATION:Kfarabida
CATEGORIES:Festivals,Performing Arts
ATTACH;FMTTYPE=image/png:https://gobatroun.com/wp-content/uploads/2023/08/Screenshot-2008.png
END:VEVENT
BEGIN:VEVENT
DTSTART;TZID=Asia/Beirut:20230902T170000
DTEND;TZID=Asia/Beirut:20230902T170000
DTSTAMP:20260421T235239
CREATED:20230828T105302Z
LAST-MODIFIED:20230828T105302Z
UID:10004751-1693674000-1693674000@gobatroun.com
SUMMARY:Kermes 2023 at Kfour al Arabi
DESCRIPTION:MAR SEMAAN AL-AMOUDI CHRUCH\nPRESENT\nKermes 2023!!!\nFree Entrance
URL:https://gobatroun.com/event/kermes-2023-at-kfour-al-arabi/
LOCATION:Kfour Al Arabi
CATEGORIES:Festivals,Performing Arts
ATTACH;FMTTYPE=image/png:https://gobatroun.com/wp-content/uploads/2023/08/Screenshot-2007.png
END:VEVENT
BEGIN:VEVENT
DTSTART;TZID=Asia/Beirut:20230901T170000
DTEND;TZID=Asia/Beirut:20230901T220000
DTSTAMP:20260421T235239
CREATED:20230828T105836Z
LAST-MODIFIED:20230828T105836Z
UID:10004752-1693587600-1693605600@gobatroun.com
SUMMARY:Kfarabida Club’s Kermesse
DESCRIPTION:Kfarabida Club’s Kermesse 1st\, 2nd and 3rd of September!! Join them
URL:https://gobatroun.com/event/kfarabida-clubs-kermesse/2023-09-01/
LOCATION:Kfarabida
CATEGORIES:Festivals,Performing Arts
ATTACH;FMTTYPE=image/png:https://gobatroun.com/wp-content/uploads/2023/08/Screenshot-2008.png
END:VEVENT
BEGIN:VEVENT
DTSTART;TZID=Asia/Beirut:20230831T210000
DTEND;TZID=Asia/Beirut:20230831T210000
DTSTAMP:20260421T235239
CREATED:20230822T134935Z
LAST-MODIFIED:20230822T134935Z
UID:10004680-1693515600-1693515600@gobatroun.com
SUMMARY:Petter Botrous and DJ Jeo at Mar Semaan Boxmaya
DESCRIPTION:
URL:https://gobatroun.com/event/petter-botrous-and-dj-jeo-at-mar-semaan-boxmaya/
LOCATION:Boxmaya\, 7Q26+9QP Boxmaya\, Boxmaya\, Lebanon
CATEGORIES:Festivals,Performing Arts
ATTACH;FMTTYPE=image/jpeg:https://gobatroun.com/wp-content/uploads/2023/08/IMG-20230822-WA0017.jpg
END:VEVENT
BEGIN:VEVENT
DTSTART;TZID=Asia/Beirut:20230829T200000
DTEND;TZID=Asia/Beirut:20230829T200000
DTSTAMP:20260421T235239
CREATED:20230818T143019Z
LAST-MODIFIED:20230818T143019Z
UID:10004656-1693339200-1693339200@gobatroun.com
SUMMARY:Kermesse at Mar Semaan Boxmaya
DESCRIPTION:
URL:https://gobatroun.com/event/kermesse-at-mar-semaan-boxmaya/2023-08-29/
LOCATION:Boxmaya\, 7Q26+9QP Boxmaya\, Boxmaya\, Lebanon
CATEGORIES:Festivals
ATTACH;FMTTYPE=image/jpeg:https://gobatroun.com/wp-content/uploads/2023/08/WhatsApp-Image-2023-08-18-at-13.19.15.jpg
END:VEVENT
BEGIN:VEVENT
DTSTART;TZID=Asia/Beirut:20230828T200000
DTEND;TZID=Asia/Beirut:20230828T200000
DTSTAMP:20260421T235239
CREATED:20230818T143019Z
LAST-MODIFIED:20230818T143019Z
UID:10004655-1693252800-1693252800@gobatroun.com
SUMMARY:Kermesse at Mar Semaan Boxmaya
DESCRIPTION:
URL:https://gobatroun.com/event/kermesse-at-mar-semaan-boxmaya/2023-08-28/
LOCATION:Boxmaya\, 7Q26+9QP Boxmaya\, Boxmaya\, Lebanon
CATEGORIES:Festivals
ATTACH;FMTTYPE=image/jpeg:https://gobatroun.com/wp-content/uploads/2023/08/WhatsApp-Image-2023-08-18-at-13.19.15.jpg
END:VEVENT
BEGIN:VEVENT
DTSTART;TZID=Asia/Beirut:20230827T200000
DTEND;TZID=Asia/Beirut:20230827T200000
DTSTAMP:20260421T235239
CREATED:20230818T143019Z
LAST-MODIFIED:20230818T143019Z
UID:10004654-1693166400-1693166400@gobatroun.com
SUMMARY:Kermesse at Mar Semaan Boxmaya
DESCRIPTION:
URL:https://gobatroun.com/event/kermesse-at-mar-semaan-boxmaya/2023-08-27/
LOCATION:Boxmaya\, 7Q26+9QP Boxmaya\, Boxmaya\, Lebanon
CATEGORIES:Festivals
ATTACH;FMTTYPE=image/jpeg:https://gobatroun.com/wp-content/uploads/2023/08/WhatsApp-Image-2023-08-18-at-13.19.15.jpg
END:VEVENT
BEGIN:VEVENT
DTSTART;TZID=Asia/Beirut:20230820T200000
DTEND;TZID=Asia/Beirut:20230820T200000
DTSTAMP:20260421T235239
CREATED:20230818T142535Z
LAST-MODIFIED:20230818T142535Z
UID:10004652-1692561600-1692561600@gobatroun.com
SUMMARY:Kermes at Mar Saba Kfarhay
DESCRIPTION:
URL:https://gobatroun.com/event/kermes-at-mar-saba-kfarhay/2023-08-20/
LOCATION:kfarhay
CATEGORIES:Festivals
ATTACH;FMTTYPE=image/jpeg:https://gobatroun.com/wp-content/uploads/2023/08/WhatsApp-Image-2023-08-17-at-21.05.10.jpg
END:VEVENT
BEGIN:VEVENT
DTSTART;TZID=Asia/Beirut:20230819T200000
DTEND;TZID=Asia/Beirut:20230819T200000
DTSTAMP:20260421T235239
CREATED:20230818T142535Z
LAST-MODIFIED:20230818T142535Z
UID:10004651-1692475200-1692475200@gobatroun.com
SUMMARY:Kermes at Mar Saba Kfarhay
DESCRIPTION:
URL:https://gobatroun.com/event/kermes-at-mar-saba-kfarhay/2023-08-19/
LOCATION:kfarhay
CATEGORIES:Festivals
ATTACH;FMTTYPE=image/jpeg:https://gobatroun.com/wp-content/uploads/2023/08/WhatsApp-Image-2023-08-17-at-21.05.10.jpg
END:VEVENT
BEGIN:VEVENT
DTSTART;TZID=Asia/Beirut:20230818T200000
DTEND;TZID=Asia/Beirut:20230818T200000
DTSTAMP:20260421T235239
CREATED:20230818T142535Z
LAST-MODIFIED:20230818T142535Z
UID:10004650-1692388800-1692388800@gobatroun.com
SUMMARY:Kermes at Mar Saba Kfarhay
DESCRIPTION:
URL:https://gobatroun.com/event/kermes-at-mar-saba-kfarhay/2023-08-18/
LOCATION:kfarhay
CATEGORIES:Festivals
ATTACH;FMTTYPE=image/jpeg:https://gobatroun.com/wp-content/uploads/2023/08/WhatsApp-Image-2023-08-17-at-21.05.10.jpg
END:VEVENT
BEGIN:VEVENT
DTSTART;TZID=Asia/Beirut:20230814T080000
DTEND;TZID=Asia/Beirut:20230814T200000
DTSTAMP:20260421T235239
CREATED:20230722T151833Z
LAST-MODIFIED:20230722T151833Z
UID:10004374-1692000000-1692043200@gobatroun.com
SUMMARY:Marrio Hadchity at Batroun
DESCRIPTION:١٤ آب!!\nسهرة عيد السيدة في البترون \nللحجز: 71642727
URL:https://gobatroun.com/event/marrio-hadchity-at-batroun/
LOCATION:Batroun\, 6MX6+79V Batroun\, Batroun\, 1400\, Lebanon
CATEGORIES:Festivals,Performing Arts
ATTACH;FMTTYPE=image/png:https://gobatroun.com/wp-content/uploads/2023/07/Screenshot-1453.png
GEO:34.248237811542;35.660916328184
X-APPLE-STRUCTURED-LOCATION;VALUE=URI;X-ADDRESS=Batroun 6MX6+79V Batroun Batroun 1400 Lebanon;X-APPLE-RADIUS=500;X-TITLE=6MX6+79V Batroun:geo:35.660916328184,34.248237811542
END:VEVENT
BEGIN:VEVENT
DTSTART;TZID=Asia/Beirut:20230811T193000
DTEND;TZID=Asia/Beirut:20230811T193000
DTSTAMP:20260421T235239
CREATED:20230718T123044Z
LAST-MODIFIED:20230718T123044Z
UID:10004314-1691782200-1691782200@gobatroun.com
SUMMARY:عبرين تمشى وسهار
DESCRIPTION:
URL:https://gobatroun.com/event/%d8%b9%d8%a8%d8%b1%d9%8a%d9%86-%d8%aa%d9%85%d8%b4%d9%89-%d9%88%d8%b3%d9%87%d8%a7%d8%b1/2023-08-11/
LOCATION:Aabrine
CATEGORIES:Festivals,Performing Arts
ATTACH;FMTTYPE=image/png:https://gobatroun.com/wp-content/uploads/2023/07/Screenshot-1420.png
END:VEVENT
BEGIN:VEVENT
DTSTART;TZID=Asia/Beirut:20230729T200000
DTEND;TZID=Asia/Beirut:20230729T200000
DTSTAMP:20260421T235239
CREATED:20230719T113756Z
LAST-MODIFIED:20230727T102003Z
UID:10004372-1690660800-1690660800@gobatroun.com
SUMMARY:BIF 2023: Batroun Soul
DESCRIPTION:Get Ready this weekend for Batroun Soul!\nJoin us this Friday and Saturday for the best of Local Sea Food\, Spirits and amazing musical performances .\nTickets sold at the door for 9$+1 Drink\nDoors open at 8pm\n📍Mina Batroun (old fishermen port)\n🔔 This event is 18 years +
URL:https://gobatroun.com/event/bif-2023-batroun-soul/2023-07-29/
LOCATION:Batroun\, 6MX6+79V Batroun\, Batroun\, 1400\, Lebanon
CATEGORIES:Festivals,Performing Arts
ATTACH;FMTTYPE=image/png:https://gobatroun.com/wp-content/uploads/2023/07/Screenshot-1507.png
GEO:34.248237811542;35.660916328184
X-APPLE-STRUCTURED-LOCATION;VALUE=URI;X-ADDRESS=Batroun 6MX6+79V Batroun Batroun 1400 Lebanon;X-APPLE-RADIUS=500;X-TITLE=6MX6+79V Batroun:geo:35.660916328184,34.248237811542
END:VEVENT
BEGIN:VEVENT
DTSTART;TZID=Asia/Beirut:20230728T200000
DTEND;TZID=Asia/Beirut:20230728T200000
DTSTAMP:20260421T235239
CREATED:20230719T113756Z
LAST-MODIFIED:20230727T102003Z
UID:10004371-1690574400-1690574400@gobatroun.com
SUMMARY:BIF 2023: Batroun Soul
DESCRIPTION:Get Ready this weekend for Batroun Soul!\nJoin us this Friday and Saturday for the best of Local Sea Food\, Spirits and amazing musical performances .\nTickets sold at the door for 9$+1 Drink\nDoors open at 8pm\n📍Mina Batroun (old fishermen port)\n🔔 This event is 18 years +
URL:https://gobatroun.com/event/bif-2023-batroun-soul/2023-07-28/
LOCATION:Batroun\, 6MX6+79V Batroun\, Batroun\, 1400\, Lebanon
CATEGORIES:Festivals,Performing Arts
ATTACH;FMTTYPE=image/png:https://gobatroun.com/wp-content/uploads/2023/07/Screenshot-1507.png
GEO:34.248237811542;35.660916328184
X-APPLE-STRUCTURED-LOCATION;VALUE=URI;X-ADDRESS=Batroun 6MX6+79V Batroun Batroun 1400 Lebanon;X-APPLE-RADIUS=500;X-TITLE=6MX6+79V Batroun:geo:35.660916328184,34.248237811542
END:VEVENT
BEGIN:VEVENT
DTSTART;TZID=Asia/Beirut:20230722T080000
DTEND;TZID=Asia/Beirut:20230723T170000
DTSTAMP:20260421T235239
CREATED:20230509T094107Z
LAST-MODIFIED:20230713T082300Z
UID:10002304-1690012800-1690131600@gobatroun.com
SUMMARY:Jayi El Eyam with Georges Khabbaz in Batroun International Festival
DESCRIPTION:The wait is finally over! We are excited to announce the Great @georgeskhabbazofficial live for two nights only at the BIF on the 22nd and 23rd of July in ‘Jayi El Eyam’!\nTickets are now available on the link in our bio!
URL:https://gobatroun.com/event/batroun-international-festival-2023-3/
LOCATION:Batroun\, 6MX6+79V Batroun\, Batroun\, 1400\, Lebanon
CATEGORIES:Festivals,Performing Arts
ATTACH;FMTTYPE=image/png:https://gobatroun.com/wp-content/uploads/2023/05/Screenshot-834.png
GEO:34.248237811542;35.660916328184
X-APPLE-STRUCTURED-LOCATION;VALUE=URI;X-ADDRESS=Batroun 6MX6+79V Batroun Batroun 1400 Lebanon;X-APPLE-RADIUS=500;X-TITLE=6MX6+79V Batroun:geo:35.660916328184,34.248237811542
END:VEVENT
BEGIN:VEVENT
DTSTART;TZID=Asia/Beirut:20230712T200000
DTEND;TZID=Asia/Beirut:20230712T200000
DTSTAMP:20260421T235239
CREATED:20230710T112435Z
LAST-MODIFIED:20230713T091622Z
UID:10003615-1689192000-1689192000@gobatroun.com
SUMMARY:3rd Anniversary Fiesta With Cuband at Pierre Y Amigos
DESCRIPTION:
URL:https://gobatroun.com/event/3rd-anniversary-fiesta-with-cuband-at-pierre-y-amigos/
LOCATION:Pierre Y Amigos
CATEGORIES:Festivals,Performing Arts
ATTACH;FMTTYPE=image/png:https://gobatroun.com/wp-content/uploads/2023/07/Screenshot-1321.png
END:VEVENT
BEGIN:VEVENT
DTSTART;TZID=Asia/Beirut:20230707T080000
DTEND;TZID=Asia/Beirut:20230707T170000
DTSTAMP:20260421T235239
CREATED:20230509T093551Z
LAST-MODIFIED:20230713T081620Z
UID:10002302-1688716800-1688749200@gobatroun.com
SUMMARY:Batroun International Festival 2023
DESCRIPTION:Here is our full schedule for Batroun International Festival 2023! What events would you like to attend?
URL:https://gobatroun.com/event/batroun-international-festival-2023-2/
LOCATION:Batroun\, 6MX6+79V Batroun\, Batroun\, 1400\, Lebanon
CATEGORIES:Festivals,Performing Arts
ATTACH;FMTTYPE=image/png:https://gobatroun.com/wp-content/uploads/2023/05/Screenshot-668.png
GEO:34.248237811542;35.660916328184
X-APPLE-STRUCTURED-LOCATION;VALUE=URI;X-ADDRESS=Batroun 6MX6+79V Batroun Batroun 1400 Lebanon;X-APPLE-RADIUS=500;X-TITLE=6MX6+79V Batroun:geo:35.660916328184,34.248237811542
END:VEVENT
BEGIN:VEVENT
DTSTART;TZID=Asia/Beirut:20230623T080000
DTEND;TZID=Asia/Beirut:20230623T170000
DTSTAMP:20260421T235239
CREATED:20230509T093425Z
LAST-MODIFIED:20230713T091432Z
UID:10002301-1687507200-1687539600@gobatroun.com
SUMMARY:Batroun International Festival 2023
DESCRIPTION:Here is our full schedule for Batroun International Festival 2023! What events would you like to attend?
URL:https://gobatroun.com/event/batroun-international-festival-2023/
LOCATION:Batroun\, 6MX6+79V Batroun\, Batroun\, 1400\, Lebanon
CATEGORIES:Festivals,Performing Arts
ATTACH;FMTTYPE=image/png:https://gobatroun.com/wp-content/uploads/2023/05/Screenshot-668.png
GEO:34.248237811542;35.660916328184
X-APPLE-STRUCTURED-LOCATION;VALUE=URI;X-ADDRESS=Batroun 6MX6+79V Batroun Batroun 1400 Lebanon;X-APPLE-RADIUS=500;X-TITLE=6MX6+79V Batroun:geo:35.660916328184,34.248237811542
END:VEVENT
BEGIN:VEVENT
DTSTART;TZID=Asia/Beirut:20230615T080000
DTEND;TZID=Asia/Beirut:20230615T170000
DTSTAMP:20260421T235239
CREATED:20230509T093749Z
LAST-MODIFIED:20230713T100035Z
UID:10002303-1686816000-1686848400@gobatroun.com
SUMMARY:Batroun Photography Award at Batroun International Festival 2023
DESCRIPTION:Calling all photography lovers📸\nHere is your chance to win the first Batroun Photography Award\, launching this year!\nAll top three winners will recieve cash prizes and contestants will have the chance to have their photos displayed all over the city!\nFor more information and for submissins and rules & regulations\, please Visit the Batroun Photography Award in our Highlights !
URL:https://gobatroun.com/event/batroun-photography-award-at-batroun-international-festival-2023/
LOCATION:Batroun\, 6MX6+79V Batroun\, Batroun\, 1400\, Lebanon
CATEGORIES:Festivals,Performing Arts
ATTACH;FMTTYPE=image/png:https://gobatroun.com/wp-content/uploads/2023/05/Screenshot-835.png
GEO:34.248237811542;35.660916328184
X-APPLE-STRUCTURED-LOCATION;VALUE=URI;X-ADDRESS=Batroun 6MX6+79V Batroun Batroun 1400 Lebanon;X-APPLE-RADIUS=500;X-TITLE=6MX6+79V Batroun:geo:35.660916328184,34.248237811542
END:VEVENT
BEGIN:VEVENT
DTSTART;TZID=Asia/Beirut:20230611T150000
DTEND;TZID=Asia/Beirut:20230611T220000
DTSTAMP:20260421T235239
CREATED:20230529T134137Z
LAST-MODIFIED:20230713T100240Z
UID:10003362-1686495600-1686520800@gobatroun.com
SUMMARY:سوق يا عيني عَ البترون
DESCRIPTION:أهالي البترون! السوق جايي لعندكن!\nمن ضمن جولة “سوق يا عيني عَ البلدي” أوّل سوق مجتمعي متنقّل للمنتجات الزّراعيّة على الأراضي اللبنانيّة،\nلاقونا الاحد ١١ حزيران من السّاعة ٣ ب.ظ. حتى ١٠ مساءً في ميناء البترون (مقابل كاتدرائية مار اسطفان).\nبرنامج ترفيهي وفني للكبار والصغار بانتظاركم. الدخول مجاني.\nFree Entrance!
URL:https://gobatroun.com/event/%d8%b3%d9%88%d9%82-%d9%8a%d8%a7-%d8%b9%d9%8a%d9%86%d9%8a-%d8%b9%d9%8e-%d8%a7%d9%84%d8%a8%d8%aa%d8%b1%d9%88%d9%86/
LOCATION:Saint Stephan Cathedral
CATEGORIES:Festivals,Performing Arts
ATTACH;FMTTYPE=image/jpeg:https://gobatroun.com/wp-content/uploads/2023/05/IMG-20230608-WA0065.jpg
END:VEVENT
BEGIN:VEVENT
DTSTART;TZID=Asia/Beirut:20230507T120000
DTEND;TZID=Asia/Beirut:20230507T233000
DTSTAMP:20260421T235239
CREATED:20230418T114305Z
LAST-MODIFIED:20230427T101837Z
UID:10002220-1683460800-1683502200@gobatroun.com
SUMMARY:Batroun Spring Festival
DESCRIPTION:Something exciting is blooming in Batroun this Spring! Save the date and stay tuned to find out what it is!
URL:https://gobatroun.com/event/batroun-spring-festival-3/
LOCATION:Batroun\, 6MX6+79V Batroun\, Batroun\, 1400\, Lebanon
CATEGORIES:Festivals,Performing Arts
ATTACH;FMTTYPE=image/jpeg:https://gobatroun.com/wp-content/uploads/2023/04/schedule-4-scaled.jpg
GEO:34.248237811542;35.660916328184
X-APPLE-STRUCTURED-LOCATION;VALUE=URI;X-ADDRESS=Batroun 6MX6+79V Batroun Batroun 1400 Lebanon;X-APPLE-RADIUS=500;X-TITLE=6MX6+79V Batroun:geo:35.660916328184,34.248237811542
END:VEVENT
BEGIN:VEVENT
DTSTART;TZID=Asia/Beirut:20230506T120000
DTEND;TZID=Asia/Beirut:20230506T233000
DTSTAMP:20260421T235239
CREATED:20230418T114239Z
LAST-MODIFIED:20230427T101842Z
UID:10002219-1683374400-1683415800@gobatroun.com
SUMMARY:Batroun Spring Festival
DESCRIPTION:Something exciting is blooming in Batroun this Spring! Save the date and stay tuned to find out what it is! \nReady to rock your world \nSpringFest 2023! \nCome get your Binky on! Sunday April 30-10 PM
URL:https://gobatroun.com/event/batroun-spring-festival-2/
LOCATION:Batroun\, 6MX6+79V Batroun\, Batroun\, 1400\, Lebanon
CATEGORIES:Festivals,Performing Arts
ATTACH;FMTTYPE=image/jpeg:https://gobatroun.com/wp-content/uploads/2023/04/schedule-3-scaled.jpg
GEO:34.248237811542;35.660916328184
X-APPLE-STRUCTURED-LOCATION;VALUE=URI;X-ADDRESS=Batroun 6MX6+79V Batroun Batroun 1400 Lebanon;X-APPLE-RADIUS=500;X-TITLE=6MX6+79V Batroun:geo:35.660916328184,34.248237811542
END:VEVENT
BEGIN:VEVENT
DTSTART;TZID=Asia/Beirut:20230505T120000
DTEND;TZID=Asia/Beirut:20230505T233000
DTSTAMP:20260421T235239
CREATED:20230418T114057Z
LAST-MODIFIED:20230427T101844Z
UID:10002218-1683288000-1683329400@gobatroun.com
SUMMARY:Batroun Spring Festival
DESCRIPTION:🎵🎤🎸 Calling all music lovers! Join us at Batroun SpringFest 2023 for a performance by the talented Rodolphe El Khoury and his band. 🎶🎸🎤 Get ready to sing\, dance\, and have the time of your life! 🎉💃 \n🎵🎤🎸 الى كل محبي الموسيقى! انضموا الينا في مهرجان الربيع في البترون 2023 للاستمتاع بأداء فرقة الفنان اللبناني رودولف الخوري وفرقته. 🎶🎸🎤 استعدوا للغناء والرقص والاستمتاع بوقتكم! 🎉💃
URL:https://gobatroun.com/event/batroun-spring-festival/
LOCATION:Batroun\, 6MX6+79V Batroun\, Batroun\, 1400\, Lebanon
CATEGORIES:Festivals,Performing Arts
ATTACH;FMTTYPE=image/jpeg:https://gobatroun.com/wp-content/uploads/2023/04/schedule-2-scaled.jpg
GEO:34.248237811542;35.660916328184
X-APPLE-STRUCTURED-LOCATION;VALUE=URI;X-ADDRESS=Batroun 6MX6+79V Batroun Batroun 1400 Lebanon;X-APPLE-RADIUS=500;X-TITLE=6MX6+79V Batroun:geo:35.660916328184,34.248237811542
END:VEVENT
END:VCALENDAR