BEGIN:VCALENDAR
VERSION:2.0
PRODID:-//Go Batroun - ECPv6.14.2//NONSGML v1.0//EN
CALSCALE:GREGORIAN
METHOD:PUBLISH
X-ORIGINAL-URL:https://gobatroun.com
X-WR-CALDESC:Events for Go Batroun
REFRESH-INTERVAL;VALUE=DURATION:PT1H
X-Robots-Tag:noindex
X-PUBLISHED-TTL:PT1H
BEGIN:VTIMEZONE
TZID:Asia/Beirut
BEGIN:DAYLIGHT
TZOFFSETFROM:+0200
TZOFFSETTO:+0300
TZNAME:EEST
DTSTART:20220326T220000
END:DAYLIGHT
BEGIN:STANDARD
TZOFFSETFROM:+0300
TZOFFSETTO:+0200
TZNAME:EET
DTSTART:20221029T210000
END:STANDARD
BEGIN:DAYLIGHT
TZOFFSETFROM:+0200
TZOFFSETTO:+0300
TZNAME:EEST
DTSTART:20230325T220000
END:DAYLIGHT
BEGIN:STANDARD
TZOFFSETFROM:+0300
TZOFFSETTO:+0200
TZNAME:EET
DTSTART:20231028T210000
END:STANDARD
END:VTIMEZONE
BEGIN:VEVENT
DTSTART;TZID=Asia/Beirut:20230623T080000
DTEND;TZID=Asia/Beirut:20230623T170000
DTSTAMP:20260423T070427
CREATED:20230509T093425Z
LAST-MODIFIED:20230713T091432Z
UID:10002301-1687507200-1687539600@gobatroun.com
SUMMARY:Batroun International Festival 2023
DESCRIPTION:Here is our full schedule for Batroun International Festival 2023! What events would you like to attend?
URL:https://gobatroun.com/event/batroun-international-festival-2023/
LOCATION:Batroun\, 6MX6+79V Batroun\, Batroun\, 1400\, Lebanon
CATEGORIES:Festivals,Performing Arts
ATTACH;FMTTYPE=image/png:https://gobatroun.com/wp-content/uploads/2023/05/Screenshot-668.png
GEO:34.248237811542;35.660916328184
X-APPLE-STRUCTURED-LOCATION;VALUE=URI;X-ADDRESS=Batroun 6MX6+79V Batroun Batroun 1400 Lebanon;X-APPLE-RADIUS=500;X-TITLE=6MX6+79V Batroun:geo:35.660916328184,34.248237811542
END:VEVENT
BEGIN:VEVENT
DTSTART;TZID=Asia/Beirut:20230615T080000
DTEND;TZID=Asia/Beirut:20230615T170000
DTSTAMP:20260423T070427
CREATED:20230509T093749Z
LAST-MODIFIED:20230713T100035Z
UID:10002303-1686816000-1686848400@gobatroun.com
SUMMARY:Batroun Photography Award at Batroun International Festival 2023
DESCRIPTION:Calling all photography lovers📸\nHere is your chance to win the first Batroun Photography Award\, launching this year!\nAll top three winners will recieve cash prizes and contestants will have the chance to have their photos displayed all over the city!\nFor more information and for submissins and rules & regulations\, please Visit the Batroun Photography Award in our Highlights !
URL:https://gobatroun.com/event/batroun-photography-award-at-batroun-international-festival-2023/
LOCATION:Batroun\, 6MX6+79V Batroun\, Batroun\, 1400\, Lebanon
CATEGORIES:Festivals,Performing Arts
ATTACH;FMTTYPE=image/png:https://gobatroun.com/wp-content/uploads/2023/05/Screenshot-835.png
GEO:34.248237811542;35.660916328184
X-APPLE-STRUCTURED-LOCATION;VALUE=URI;X-ADDRESS=Batroun 6MX6+79V Batroun Batroun 1400 Lebanon;X-APPLE-RADIUS=500;X-TITLE=6MX6+79V Batroun:geo:35.660916328184,34.248237811542
END:VEVENT
BEGIN:VEVENT
DTSTART;TZID=Asia/Beirut:20230611T150000
DTEND;TZID=Asia/Beirut:20230611T220000
DTSTAMP:20260423T070427
CREATED:20230529T134137Z
LAST-MODIFIED:20230713T100240Z
UID:10003362-1686495600-1686520800@gobatroun.com
SUMMARY:سوق يا عيني عَ البترون
DESCRIPTION:أهالي البترون! السوق جايي لعندكن!\nمن ضمن جولة “سوق يا عيني عَ البلدي” أوّل سوق مجتمعي متنقّل للمنتجات الزّراعيّة على الأراضي اللبنانيّة،\nلاقونا الاحد ١١ حزيران من السّاعة ٣ ب.ظ. حتى ١٠ مساءً في ميناء البترون (مقابل كاتدرائية مار اسطفان).\nبرنامج ترفيهي وفني للكبار والصغار بانتظاركم. الدخول مجاني.\nFree Entrance!
URL:https://gobatroun.com/event/%d8%b3%d9%88%d9%82-%d9%8a%d8%a7-%d8%b9%d9%8a%d9%86%d9%8a-%d8%b9%d9%8e-%d8%a7%d9%84%d8%a8%d8%aa%d8%b1%d9%88%d9%86/
LOCATION:Saint Stephan Cathedral
CATEGORIES:Festivals,Performing Arts
ATTACH;FMTTYPE=image/jpeg:https://gobatroun.com/wp-content/uploads/2023/05/IMG-20230608-WA0065.jpg
END:VEVENT
BEGIN:VEVENT
DTSTART;TZID=Asia/Beirut:20230507T120000
DTEND;TZID=Asia/Beirut:20230507T233000
DTSTAMP:20260423T070427
CREATED:20230418T114305Z
LAST-MODIFIED:20230427T101837Z
UID:10002220-1683460800-1683502200@gobatroun.com
SUMMARY:Batroun Spring Festival
DESCRIPTION:Something exciting is blooming in Batroun this Spring! Save the date and stay tuned to find out what it is!
URL:https://gobatroun.com/event/batroun-spring-festival-3/
LOCATION:Batroun\, 6MX6+79V Batroun\, Batroun\, 1400\, Lebanon
CATEGORIES:Festivals,Performing Arts
ATTACH;FMTTYPE=image/jpeg:https://gobatroun.com/wp-content/uploads/2023/04/schedule-4-scaled.jpg
GEO:34.248237811542;35.660916328184
X-APPLE-STRUCTURED-LOCATION;VALUE=URI;X-ADDRESS=Batroun 6MX6+79V Batroun Batroun 1400 Lebanon;X-APPLE-RADIUS=500;X-TITLE=6MX6+79V Batroun:geo:35.660916328184,34.248237811542
END:VEVENT
BEGIN:VEVENT
DTSTART;TZID=Asia/Beirut:20230506T120000
DTEND;TZID=Asia/Beirut:20230506T233000
DTSTAMP:20260423T070427
CREATED:20230418T114239Z
LAST-MODIFIED:20230427T101842Z
UID:10002219-1683374400-1683415800@gobatroun.com
SUMMARY:Batroun Spring Festival
DESCRIPTION:Something exciting is blooming in Batroun this Spring! Save the date and stay tuned to find out what it is! \nReady to rock your world \nSpringFest 2023! \nCome get your Binky on! Sunday April 30-10 PM
URL:https://gobatroun.com/event/batroun-spring-festival-2/
LOCATION:Batroun\, 6MX6+79V Batroun\, Batroun\, 1400\, Lebanon
CATEGORIES:Festivals,Performing Arts
ATTACH;FMTTYPE=image/jpeg:https://gobatroun.com/wp-content/uploads/2023/04/schedule-3-scaled.jpg
GEO:34.248237811542;35.660916328184
X-APPLE-STRUCTURED-LOCATION;VALUE=URI;X-ADDRESS=Batroun 6MX6+79V Batroun Batroun 1400 Lebanon;X-APPLE-RADIUS=500;X-TITLE=6MX6+79V Batroun:geo:35.660916328184,34.248237811542
END:VEVENT
BEGIN:VEVENT
DTSTART;TZID=Asia/Beirut:20230505T120000
DTEND;TZID=Asia/Beirut:20230505T233000
DTSTAMP:20260423T070427
CREATED:20230418T114057Z
LAST-MODIFIED:20230427T101844Z
UID:10002218-1683288000-1683329400@gobatroun.com
SUMMARY:Batroun Spring Festival
DESCRIPTION:🎵🎤🎸 Calling all music lovers! Join us at Batroun SpringFest 2023 for a performance by the talented Rodolphe El Khoury and his band. 🎶🎸🎤 Get ready to sing\, dance\, and have the time of your life! 🎉💃 \n🎵🎤🎸 الى كل محبي الموسيقى! انضموا الينا في مهرجان الربيع في البترون 2023 للاستمتاع بأداء فرقة الفنان اللبناني رودولف الخوري وفرقته. 🎶🎸🎤 استعدوا للغناء والرقص والاستمتاع بوقتكم! 🎉💃
URL:https://gobatroun.com/event/batroun-spring-festival/
LOCATION:Batroun\, 6MX6+79V Batroun\, Batroun\, 1400\, Lebanon
CATEGORIES:Festivals,Performing Arts
ATTACH;FMTTYPE=image/jpeg:https://gobatroun.com/wp-content/uploads/2023/04/schedule-2-scaled.jpg
GEO:34.248237811542;35.660916328184
X-APPLE-STRUCTURED-LOCATION;VALUE=URI;X-ADDRESS=Batroun 6MX6+79V Batroun Batroun 1400 Lebanon;X-APPLE-RADIUS=500;X-TITLE=6MX6+79V Batroun:geo:35.660916328184,34.248237811542
END:VEVENT
BEGIN:VEVENT
DTSTART;TZID=Asia/Beirut:20230421T090000
DTEND;TZID=Asia/Beirut:20230421T233000
DTSTAMP:20260423T070427
CREATED:20230302T073337Z
LAST-MODIFIED:20230411T095551Z
UID:10002035-1682067600-1682119800@gobatroun.com
SUMMARY:AEGIS FESTIVAL
DESCRIPTION:🍃 72 Hours of Music and Discovery\n⏳ April 21•22•23\n🎟️ Wave 1 ticket in this link: https://ihjoz.com/events/6933 \nFrom 21/04/2023 to 23/04/2023
URL:https://gobatroun.com/event/aegis-festival/
LOCATION:Batroun\, 6MX6+79V Batroun\, Batroun\, 1400\, Lebanon
CATEGORIES:Festivals,Performing Arts
ATTACH;FMTTYPE=image/png:https://gobatroun.com/wp-content/uploads/2023/03/Screenshot-2769.png
GEO:34.248237811542;35.660916328184
X-APPLE-STRUCTURED-LOCATION;VALUE=URI;X-ADDRESS=Batroun 6MX6+79V Batroun Batroun 1400 Lebanon;X-APPLE-RADIUS=500;X-TITLE=6MX6+79V Batroun:geo:35.660916328184,34.248237811542
END:VEVENT
BEGIN:VEVENT
DTSTART;TZID=Asia/Beirut:20230318T110000
DTEND;TZID=Asia/Beirut:20230319T230000
DTSTAMP:20260423T070427
CREATED:20230306T130645Z
LAST-MODIFIED:20230306T130646Z
UID:10002050-1679137200-1679266800@gobatroun.com
SUMMARY:Mother's Day with Dar El Mona
DESCRIPTION:
URL:https://gobatroun.com/event/mothers-day-with-dar-el-mona/
LOCATION:Dar El Mona
CATEGORIES:Festivals,Performing Arts
ATTACH;FMTTYPE=image/png:https://gobatroun.com/wp-content/uploads/2023/03/Screenshot-2802.png
END:VEVENT
BEGIN:VEVENT
DTSTART;TZID=Asia/Beirut:20230214T210000
DTEND;TZID=Asia/Beirut:20230214T210000
DTSTAMP:20260423T070427
CREATED:20230130T090153Z
LAST-MODIFIED:20230130T090153Z
UID:10001857-1676408400-1676408400@gobatroun.com
SUMMARY:Aziz Asaad at Tramway Batroun
DESCRIPTION:Valentine’s in a special way at #TramwayBatroun! \nFor reservations call us on 📲 03 51 41 01\nor WhatsApp us\n✅Valet Parking
URL:https://gobatroun.com/event/aziz-asaad-at-tramway-batroun-10/
LOCATION:Tramway Gastro Pub\, 7M45+CQ Batroun\, Batroun\, Lebanon
CATEGORIES:Festivals,Performing Arts
ATTACH;FMTTYPE=image/png:https://gobatroun.com/wp-content/uploads/2023/01/Screenshot-2595.png
END:VEVENT
BEGIN:VEVENT
DTSTART;VALUE=DATE:20230214
DTEND;VALUE=DATE:20230215
DTSTAMP:20260423T070427
CREATED:20230210T072421Z
LAST-MODIFIED:20230210T072421Z
UID:10001924-1676332800-1676419199@gobatroun.com
SUMMARY:Valentine's Day at SnawBar
DESCRIPTION:“Roses are red. Violets are blue. I love spending Valentine’s Day on this dinner for two.” \nExperience a memorable Valentine’s Day with our exclusive takeout dinner. Choose from a selection of romantic charcuterie boards and finish with a rich dessert. Order now and create a night to remember at home with your loved one 🥰 \nValentine’s Day at Snaw-bar comes in three different packages for couples \nClassic Package : take away cheese board. 30$ \nGold Package : cheese board with a special btls of wine. 50$\nGold Package \nPremium Package : cheese board with special btls of wine and a tent for 2. 80$ \nTables are limited so early reservation is advised ! \nRSVP: 71942776 \n❗Bring a jacket or blanket if you’d like!❗ \n🔸 Camping spot 🏕\n🔸 bonfire 🔥\n🔸 bar 🍻\n🔸 food 🥙🌮🍳\n🔸 game board ♟🎲🎯\n🔸 Toilets available\n🔸 tent rental is available upon reservation\n🔸 RSVP : 71942776
URL:https://gobatroun.com/event/valentines-day-at-snawbar/
LOCATION:Snaw Bar
CATEGORIES:Festivals,Performing Arts
ATTACH;FMTTYPE=image/png:https://gobatroun.com/wp-content/uploads/2023/02/Screenshot-2714.png
END:VEVENT
BEGIN:VEVENT
DTSTART;TZID=Asia/Beirut:20221223T153000
DTEND;TZID=Asia/Beirut:20221223T170000
DTSTAMP:20260423T070427
CREATED:20221222T130200Z
LAST-MODIFIED:20221222T130200Z
UID:10001709-1671809400-1671814800@gobatroun.com
SUMMARY:Santa in His Helicopter
DESCRIPTION:Get ready! Santa will fly over Batroûn Capitale de Noêl in his helicopter this Friday December 23rd at 3:30pm to distribute Christmas Gifts! \nFull details on Lebtivity.com
URL:https://gobatroun.com/event/santa-in-his-helicopter/
LOCATION:Batroun\, 6MX6+79V Batroun\, Batroun\, 1400\, Lebanon
CATEGORIES:Festivals,Performing Arts
ATTACH;FMTTYPE=image/png:https://gobatroun.com/wp-content/uploads/2022/12/Screenshot-1.png
GEO:34.248237811542;35.660916328184
X-APPLE-STRUCTURED-LOCATION;VALUE=URI;X-ADDRESS=Batroun 6MX6+79V Batroun Batroun 1400 Lebanon;X-APPLE-RADIUS=500;X-TITLE=6MX6+79V Batroun:geo:35.660916328184,34.248237811542
END:VEVENT
BEGIN:VEVENT
DTSTART;TZID=Asia/Beirut:20221216T193000
DTEND;TZID=Asia/Beirut:20221216T193000
DTSTAMP:20260423T070427
CREATED:20221212T092237Z
LAST-MODIFIED:20221212T092237Z
UID:10001643-1671219000-1671219000@gobatroun.com
SUMMARY:ريسيتال ميلادي في كاتدرائية مار إسطفان
DESCRIPTION:“في إطار إحتفالاتنا الخاصة بزمن الميلاد المجيد، تدعوكم حركة فرسان العذراء البترون لنستهِّل نشاطاتنا الميلادية بريسيتال ميلادي يحمل عنوان “بقربَك \nالجمعة 16/12/2022 الساعة 7:30 مساءً في كاتدرائية مار إسطفان. نتمنى حضوركم جميعاً
URL:https://gobatroun.com/event/%d8%b1%d9%8a%d8%b3%d9%8a%d8%aa%d8%a7%d9%84-%d9%85%d9%8a%d9%84%d8%a7%d8%af%d9%8a-%d9%81%d9%8a-%d9%83%d8%a7%d8%aa%d8%af%d8%b1%d8%a7%d8%a6%d9%8a%d8%a9-%d9%85%d8%a7%d8%b1-%d8%a5%d8%b3%d8%b7%d9%81%d8%a7/
LOCATION:Mar Estfan
CATEGORIES:Festivals,Performing Arts
ATTACH;FMTTYPE=image/png:https://gobatroun.com/wp-content/uploads/2022/12/Screenshot-2231.png
END:VEVENT
BEGIN:VEVENT
DTSTART;VALUE=DATE:20221216
DTEND;VALUE=DATE:20221219
DTSTAMP:20260423T070427
CREATED:20221214T094715Z
LAST-MODIFIED:20221214T130910Z
UID:10001681-1671148800-1671407999@gobatroun.com
SUMMARY:Christmas Market at Kfaraabida
DESCRIPTION:Be sure to check out #Kfaraabida #christmas #market #schedule 🗓️ ⏰ You don’t want to miss any of the #holidays #fun for all the #family #freeentrance \n الدخول مجاني ⚠️
URL:https://gobatroun.com/event/christmas-market-at-kfaraabida/
LOCATION:SAINT SARKIS & BAKHOS CHURCH KFARAABIDA
CATEGORIES:Festivals,Performing Arts
ATTACH;FMTTYPE=image/png:https://gobatroun.com/wp-content/uploads/2022/12/Screenshot-2263.png
END:VEVENT
BEGIN:VEVENT
DTSTART;TZID=Asia/Beirut:20221204T150000
DTEND;TZID=Asia/Beirut:20221204T170000
DTSTAMP:20260423T070427
CREATED:20221114T123722Z
LAST-MODIFIED:20221114T123722Z
UID:10001558-1670166000-1670173200@gobatroun.com
SUMMARY:El Barbara Event at Kids Factory
DESCRIPTION:Put on your favorite costume and let the funniest celebration of the year begin🤯! Join us to celebrate El Barbara on Sunday 4 December in Batrouniyat – Batroun at 3 pm\, for a craft activity\, treasure hunt\, games\, shows\, Saj Station and so many surprises… For more info or reservation WhatsApp 71599262. PS: you can bring your candy bucket 🍭🍭
URL:https://gobatroun.com/event/el-barbara-event-at-kids-factory/
LOCATION:Kids Factory\, 7M45+MGJ Batroun\, Batroun\, Lebanon
CATEGORIES:Festivals,Performing Arts
ATTACH;FMTTYPE=image/png:https://gobatroun.com/wp-content/uploads/2022/11/Screenshot-2074.png
END:VEVENT
BEGIN:VEVENT
DTSTART;TZID=Asia/Beirut:20221203T160000
DTEND;TZID=Asia/Beirut:20221203T170000
DTSTAMP:20260423T070427
CREATED:20221128T071938Z
LAST-MODIFIED:20221201T112303Z
UID:10001585-1670083200-1670086800@gobatroun.com
SUMMARY:Batroun Capital De Noel Opening
DESCRIPTION:Batroun Capital De Noel!! 🎄 🎅🏼 \nافتتاح معرض البترون الميلادي\nالسبت ٣-١٢-٢٠٢٢\nالساعة ٤ بعد الظهر\nفي باحة كاتدرائية مار اسطفان\n.
URL:https://gobatroun.com/event/batroun-capital-de-noel/
LOCATION:Mar Estfan
CATEGORIES:Festivals,Performing Arts
ATTACH;FMTTYPE=image/png:https://gobatroun.com/wp-content/uploads/2022/11/Screenshot-2136.png
END:VEVENT
BEGIN:VEVENT
DTSTART;TZID=Asia/Beirut:20221203T110000
DTEND;TZID=Asia/Beirut:20221203T140000
DTSTAMP:20260423T070427
CREATED:20221128T080329Z
LAST-MODIFIED:20221128T080329Z
UID:10001588-1670065200-1670076000@gobatroun.com
SUMMARY:Trick or treat at Dream Ville
DESCRIPTION:Trick or treat event by Insta FUN at @dreamville.batroun 🎃👻 \nSaturday 3 December from 11 am till 2 pm \n🍔 🍟 🍕 Kids meal\n🌾 Wheat planting\n🎨 Special craft\n🎯 Games\n🏆 Costume competition with lots of prizes\n🎥 Ste Barbara’s story screening \nReservation is a must before Thursday 1st Dec on:\n70.224987 or 70.146349
URL:https://gobatroun.com/event/trick-or-treat-at-dream-ville/
LOCATION:Dream Ville
CATEGORIES:Festivals,Performing Arts
ATTACH;FMTTYPE=image/png:https://gobatroun.com/wp-content/uploads/2022/11/Screenshot-2123.png
END:VEVENT
BEGIN:VEVENT
DTSTART;VALUE=DATE:20221202
DTEND;VALUE=DATE:20221224
DTSTAMP:20260423T070427
CREATED:20221126T131714Z
LAST-MODIFIED:20221126T131715Z
UID:10001584-1669939200-1671839999@gobatroun.com
SUMMARY:Christmas at the Dar
DESCRIPTION:🎄Join us during the month of December for our annual *Christmas at the Dar* fair in the beautiful Dar al Mona\, Batroun. \n🎁 Meet a unique selection of local artisans and designers\, and start your Christmas shopping early! \n🗓 Dec 02-04 / 09-11 / 16-18 / 21-23 \n⏱ 04:00 – 10:00 pm \n📍 Dar al Mona\, Batroun \n  \nWishing you happy holidays! 🎅
URL:https://gobatroun.com/event/christmas-at-the-dar/
LOCATION:Dar El Mona
CATEGORIES:Festivals,Performing Arts
ATTACH;FMTTYPE=image/jpeg:https://gobatroun.com/wp-content/uploads/2022/11/IMG-20221126-WA0021.jpg
END:VEVENT
BEGIN:VEVENT
DTSTART;VALUE=DATE:20221201
DTEND;VALUE=DATE:20230110
DTSTAMP:20260423T070427
CREATED:20221201T112620Z
LAST-MODIFIED:20230418T124124Z
UID:10001603-1669874400-1673243999@gobatroun.com
SUMMARY:Christmas Market at Batroun
DESCRIPTION:Christmas is just around the corner! \nJoin us at our Christmas Market and support our local vendors while enjoying music\, food\, concerts and kids activities. \nStay tuned for our full schedule. \nAll our events are free of charge! \nLocation: Batroun old town \nSoft opening: Thursday\, December 1st \nGrand opening: Saturday\, December 3rd
URL:https://gobatroun.com/event/christmas-market-at-batroun/
LOCATION:Batroun old town
CATEGORIES:Festivals,Performing Arts
ATTACH;FMTTYPE=image/png:https://gobatroun.com/wp-content/uploads/2022/12/Screenshot-2137.png
END:VEVENT
BEGIN:VEVENT
DTSTART;TZID=Asia/Beirut:20221121T210000
DTEND;TZID=Asia/Beirut:20221121T210000
DTSTAMP:20260423T070427
CREATED:20221121T073638Z
LAST-MODIFIED:20221121T073638Z
UID:10001501-1669064400-1669064400@gobatroun.com
SUMMARY:Amer Sidawi and Peter Boutros at 961 Lounge Bar
DESCRIPTION:
URL:https://gobatroun.com/event/amer-sidawi-and-peter-boutros-at-961-lounge-bar-3/
LOCATION:961 Lounge bar
CATEGORIES:Festivals,Performing Arts
ATTACH;FMTTYPE=image/jpeg:https://gobatroun.com/wp-content/uploads/2022/11/WhatsApp-Image-2022-11-21-at-9.34.38-AM.jpeg
END:VEVENT
BEGIN:VEVENT
DTSTART;TZID=Asia/Beirut:20221119T150000
DTEND;TZID=Asia/Beirut:20221119T180000
DTSTAMP:20260423T070427
CREATED:20221115T074620Z
LAST-MODIFIED:20221115T074620Z
UID:10001324-1668870000-1668880800@gobatroun.com
SUMMARY:عاللبنلني at Dream Ville
DESCRIPTION:
URL:https://gobatroun.com/event/%d8%b9%d8%a7%d9%84%d9%84%d8%a8%d9%86%d9%84%d9%86%d9%8a-at-dream-ville/
LOCATION:Dream Ville
CATEGORIES:Festivals,Performing Arts
ATTACH;FMTTYPE=image/png:https://gobatroun.com/wp-content/uploads/2022/11/Screenshot-2083.png
END:VEVENT
BEGIN:VEVENT
DTSTART;TZID=Asia/Beirut:20221022T170000
DTEND;TZID=Asia/Beirut:20221022T170000
DTSTAMP:20260423T070427
CREATED:20221021T085710Z
LAST-MODIFIED:20221021T085710Z
UID:10001478-1666458000-1666458000@gobatroun.com
SUMMARY:Phil & Will Opening
DESCRIPTION:
URL:https://gobatroun.com/event/phil-will-opening/
LOCATION:Phil & Will
CATEGORIES:Festivals
ATTACH;FMTTYPE=image/png:https://gobatroun.com/wp-content/uploads/2022/10/Screenshot-1960.png
END:VEVENT
BEGIN:VEVENT
DTSTART;VALUE=DATE:20221016
DTEND;VALUE=DATE:20221017
DTSTAMP:20260423T070427
CREATED:20221003T133016Z
LAST-MODIFIED:20221003T133016Z
UID:10001433-1665878400-1665964799@gobatroun.com
SUMMARY:The Johnny Tropicana Edition
DESCRIPTION:Morning Terrace Performances: \nZiad Moukarzel\, Xlmxkhfi (Sarah Huneid)\, Charbel Haber and Sary Mousa 11 Am  at Darma Ji Rooftop. \n  \nClosing Gig: \nAlko B\, Sundowner\, and Sanam 4 Pm at Bolero
URL:https://gobatroun.com/event/the-johnny-tropicana-edition-2/
LOCATION:Wickerpark
CATEGORIES:Festivals,Performing Arts
ATTACH;FMTTYPE=image/png:https://gobatroun.com/wp-content/uploads/2022/10/Screenshot-1815.png
END:VEVENT
BEGIN:VEVENT
DTSTART;TZID=Asia/Beirut:20221015T150000
DTEND;TZID=Asia/Beirut:20221015T170000
DTSTAMP:20260423T070427
CREATED:20221012T111431Z
LAST-MODIFIED:20221012T111431Z
UID:10001450-1665846000-1665853200@gobatroun.com
SUMMARY:Elyse Tabet\, Julia Sabra & Fadi Tabbal\, and Anthony Sahyoun at Darma Ji
DESCRIPTION:Mid-Day Terrace Performances\nSaturday\, Oct 15 – 3 PM\nDarma Ji Rooftop @darmaji_batroun \nTicket at 10$\nFor more info 📞03302929 \nElyse Tabet\n“Elyse Tabet works as an audio-visual and electronic music producer. The sounds she composes and performs range from electroacoustic to electronica\, ambient\, noise\, and breaks. Her music is texture-heavy and currently focused on modulating recorded sounds with CV and ambient electronic music.” \nJulia Sabra & Fadi Tabbal\nThe duo’s new project can best be described as visionary electronic dream pop\, shapeshifting above ambient and industrial undercurrents. It is moody\, unsettling\, and luminous – the culmination of a decade of collaboration and friendship between producer/musician/engineer Fadi Tabbal\, and singer-songwriter/musician Julia Sabra from indie trio Postcards. \nTheir debut album ‘Snakeskin’ is set for release on October 14\, 2022\, with the first single ‘All The Birds’ out on September 2\, as part of the Corrosion Series –– a collaborative effort by Portland-based label Beacon Sound and Beirut-based label Ruptured. Sabra and Tabbal began working on the record in the aftermath of the August 2020 port explosion\, composing their first track ‘Roots’ for the Ruptured-curated series The Drone Sessions in the fall of 2020. \nAnthony Sahyoun\nAnthony Sahyoun otherwise known as Mme Chandelier is a Lebanese composer\, musician\, and programmer. His main field of work is the electronic processing of acoustic elements\, programming\, and experimental music. He co-founded the Lebanese ensemble Kinematik in 2015 with whom he’s produced 3 records and he released his sophomore solo record “Proof by Infinite Descent” in November 2021. He’s been a part of Tunefork Studios since 2018\, a renowned Lebanese studio and sound space. He also scores music for film and has composed sound for various installations.
URL:https://gobatroun.com/event/elyse-tabet-julia-sabra-fadi-tabbal-and-anthony-sahyoun-at-darma-ji/
LOCATION:Darma Ji
CATEGORIES:Festivals,Performing Arts
ATTACH;FMTTYPE=image/png:https://gobatroun.com/wp-content/uploads/2022/10/Screenshot-1889.png
END:VEVENT
BEGIN:VEVENT
DTSTART;TZID=Asia/Beirut:20221015T100000
DTEND;TZID=Asia/Beirut:20221015T170000
DTSTAMP:20260423T070427
CREATED:20221012T063333Z
LAST-MODIFIED:20221012T063333Z
UID:10001446-1665828000-1665853200@gobatroun.com
SUMMARY:Classical Concert with Andrea Azzi at Salhab Garden
DESCRIPTION:Morning Classical Concert with Andrea Azzi\nSaturday\, Oct 15 – 10 Am\nSalhab Garden \nTicket at 20$\nFor more info call us on 03302929 \nProgram: \n. J. S. Bach: French Suite No. 3 in B minor\n. Joseph Haydn: Variations in E flat major\n. Claude Debussy: Estampes\, “la soirée dans Grenade”\n. Wadia Sabra: Valse orientale\n. Toufic Succar:\n– Menuet\n– Variations sur un thème oriental\n. Georges Baz: Esquisses \nAndrea Azzi is a Lebanese-Polish pianist born in Ghazir\, Lebanon\, in 1994. She started taking private piano lessons at the age of five and entered the National Conservatory of Beirut in 2001. She became a student of Zeina Alam\, a professor at the music school of Université Saint-Esprit de Kaslik (USEK)\, where she also took theory\, solfege\, and harmony courses with Rabih Abi Rached and Edouard Tourikian\, in 2004. Andrea also took piano lessons at Ecole des Arts Ghassan Yammine (EDAGY).\nHer first solo recital was in 2011\, in collaboration with the “Kulturzentrum” (centre culturel Libano-Allemand Jounieh). Andrea has performed at USEK and EDAGY in Lebanon\, and in Belgium\, France\, and the US. She won third prize at the Third National Piano Competition\, organized by the Tripoli Leaders Lions Club\, in 2009.\nA graduate of USEK (II degree with distinction in 2016)\, Andrea is also an AUB alumna (BA Economics 2016). In September 2016\, she enrolled in École Normale de Musique de Paris “Alfred Cortot” in the class of Michael Wladkowski. She completed the “fourth division” (brevet d’execution) in June 2017\, ranking second with compliments of the jury. She earned the “diplôme supérieur d’enseignement” in 2020. Andrea currently lives in Paris where she teaches and performs.
URL:https://gobatroun.com/event/classical-concert-with-andrea-azzi-at-salhab-garden/
LOCATION:Salhab Garden
CATEGORIES:Festivals,Performing Arts
ATTACH;FMTTYPE=image/png:https://gobatroun.com/wp-content/uploads/2022/10/Screenshot-1885.png
END:VEVENT
BEGIN:VEVENT
DTSTART;TZID=Asia/Beirut:20220917T203000
DTEND;TZID=Asia/Beirut:20220917T203000
DTSTAMP:20260423T070427
CREATED:20220914T071700Z
LAST-MODIFIED:20220914T071700Z
UID:10001365-1663446600-1663446600@gobatroun.com
SUMMARY:رواد ميرزا في مار شينا حردين
DESCRIPTION:بمناسبة عيد مار شينا شفيع الرعية وقف حردين يقدم : \nالعشاء القروي السنوي \nRawad Mirzaكما وسيحي هذا الحفل النجم ‏ \nفي ساحة الرعية \n 2022 17 ايلول \nالدخول مجاني
URL:https://gobatroun.com/event/%d8%b1%d9%88%d8%a7%d8%af-%d9%85%d9%8a%d8%b1%d8%b2%d8%a7-%d9%81%d9%8a-%d9%85%d8%a7%d8%b1-%d8%b4%d9%8a%d9%86%d8%a7-%d8%ad%d8%b1%d8%af%d9%8a%d9%86/
LOCATION:Hardine
CATEGORIES:Festivals,Performing Arts
ATTACH;FMTTYPE=image/jpeg:https://gobatroun.com/wp-content/uploads/2022/09/306766156_5350194541758898_6989143376643706614_n.jpg
END:VEVENT
BEGIN:VEVENT
DTSTART;TZID=Asia/Beirut:20220905T190000
DTEND;TZID=Asia/Beirut:20220905T190000
DTSTAMP:20260423T070427
CREATED:20220902T122722Z
LAST-MODIFIED:20220902T122722Z
UID:10001282-1662404400-1662404400@gobatroun.com
SUMMARY:فادي محفوض في عيد مار ميخائيل جبلا
DESCRIPTION:بمناسبة عيد مار ميخائيل، تتشرف بلدة جبلا بدعوتكم لحضور القداس السنويّ نهار الأثنين ٥ ايلول في تمام الساعة السابعة مساءً. يلي القداس عشاء قرويّ و سهرة فنية يحييها الفنان فادي محفوض. \n\n*شكرًا للمتبرّعين ونأمل دعمكم* \n*سعر التذكرة: ٥٠ ألف ل.ل* \n\nللحجز: 03290213 / 71840955 \nنأمل تشريفكم
URL:https://gobatroun.com/event/%d9%81%d8%a7%d8%af%d9%8a-%d9%85%d8%ad%d9%81%d9%88%d8%b6-%d9%81%d9%8a-%d8%b9%d9%8a%d8%af-%d9%85%d8%a7%d8%b1-%d9%85%d9%8a%d8%ae%d8%a7%d8%a6%d9%8a%d9%84-%d8%ac%d8%a8%d9%84%d8%a7/
LOCATION:Jebla
CATEGORIES:Festivals,Performing Arts
ATTACH;FMTTYPE=image/jpeg:https://gobatroun.com/wp-content/uploads/2022/09/IMG-20220902-WA0041.jpg
END:VEVENT
BEGIN:VEVENT
DTSTART;TZID=Asia/Beirut:20220904T210000
DTEND;TZID=Asia/Beirut:20220904T210000
DTSTAMP:20260423T070427
CREATED:20220829T215003Z
LAST-MODIFIED:20220829T215003Z
UID:10001252-1662325200-1662325200@gobatroun.com
SUMMARY:Jawad Saad and DJ BIBB at Kour
DESCRIPTION:
URL:https://gobatroun.com/event/jawad-saad-and-dj-bibb-at-kour/
LOCATION:kour
CATEGORIES:Festivals,Performing Arts
ATTACH;FMTTYPE=image/jpeg:https://gobatroun.com/wp-content/uploads/2022/08/IMG-20220829-WA0193.jpg
END:VEVENT
BEGIN:VEVENT
DTSTART;TZID=Asia/Beirut:20220901T170000
DTEND;TZID=Asia/Beirut:20220904T230000
DTSTAMP:20260423T070427
CREATED:20220614T102617Z
LAST-MODIFIED:20220816T082124Z
UID:10000843-1662051600-1662332400@gobatroun.com
SUMMARY:BIF2022-Batroun Mediterranean Film Festival
DESCRIPTION:Summer 2022 here we come!\nFor more info contact 00961 3 105700
URL:https://gobatroun.com/event/bif2022-batroun-mediterranean-film-festival/
LOCATION:TBD
CATEGORIES:Festivals,Performing Arts
ATTACH;FMTTYPE=image/png:https://gobatroun.com/wp-content/uploads/2022/06/Screenshot-1271.png
END:VEVENT
BEGIN:VEVENT
DTSTART;TZID=Asia/Beirut:20220831T210000
DTEND;TZID=Asia/Beirut:20220831T210000
DTSTAMP:20260423T070427
CREATED:20220825T074614Z
LAST-MODIFIED:20220825T074614Z
UID:10001036-1661979600-1661979600@gobatroun.com
SUMMARY:Mar Semaan at Boxmaya
DESCRIPTION:
URL:https://gobatroun.com/event/mar-semaan-at-boxmaya/
LOCATION:Boxmaya\, 7Q26+9QP Boxmaya\, Boxmaya\, Lebanon
CATEGORIES:Festivals,Performing Arts
ATTACH;FMTTYPE=image/jpeg:https://gobatroun.com/wp-content/uploads/2022/08/IMG-20220825-WA0012.jpg
END:VEVENT
BEGIN:VEVENT
DTSTART;TZID=Asia/Beirut:20220827T200000
DTEND;TZID=Asia/Beirut:20220829T200000
DTSTAMP:20260423T070427
CREATED:20220825T074235Z
LAST-MODIFIED:20220825T074235Z
UID:10001034-1661630400-1661803200@gobatroun.com
SUMMARY:Kermesse at boxmaya
DESCRIPTION:
URL:https://gobatroun.com/event/kermesse-at-boxmaya/
LOCATION:Boxmaya\, 7Q26+9QP Boxmaya\, Boxmaya\, Lebanon
CATEGORIES:Festivals
ATTACH;FMTTYPE=image/jpeg:https://gobatroun.com/wp-content/uploads/2022/08/Screenshot_20220823-002636_WhatsApp.jpg
END:VEVENT
END:VCALENDAR