BEGIN:VCALENDAR
VERSION:2.0
PRODID:-//Go Batroun - ECPv6.14.2//NONSGML v1.0//EN
CALSCALE:GREGORIAN
METHOD:PUBLISH
X-ORIGINAL-URL:https://gobatroun.com
X-WR-CALDESC:Events for Go Batroun
REFRESH-INTERVAL;VALUE=DURATION:PT1H
X-Robots-Tag:noindex
X-PUBLISHED-TTL:PT1H
BEGIN:VTIMEZONE
TZID:Asia/Beirut
BEGIN:DAYLIGHT
TZOFFSETFROM:+0200
TZOFFSETTO:+0300
TZNAME:EEST
DTSTART:20250329T220000
END:DAYLIGHT
BEGIN:STANDARD
TZOFFSETFROM:+0300
TZOFFSETTO:+0200
TZNAME:EET
DTSTART:20251025T210000
END:STANDARD
END:VTIMEZONE
BEGIN:VEVENT
DTSTART;VALUE=DATE:20250823
DTEND;VALUE=DATE:20250826
DTSTAMP:20260421T234429
CREATED:20250821T082733Z
LAST-MODIFIED:20250821T082733Z
UID:10007137-1755928800-1756101599@gobatroun.com
SUMMARY:The Campers Landing at Blubay
DESCRIPTION:The campers landing at Blubay\, August 23 – 24.
URL:https://gobatroun.com/event/the-campers-landing-at-blubay/
LOCATION:Blu Bay Batroun\, 6MW6+QJ Batroun\, Batroun\, Lebanon
CATEGORIES:Performing Arts
ATTACH;FMTTYPE=image/webp:https://gobatroun.com/wp-content/uploads/2025/08/Blubay.webp
END:VEVENT
BEGIN:VEVENT
DTSTART;TZID=Asia/Beirut:20250824T180000
DTEND;TZID=Asia/Beirut:20250824T180000
DTSTAMP:20260421T234429
CREATED:20250821T084702Z
LAST-MODIFIED:20250821T084702Z
UID:10007145-1756058400-1756058400@gobatroun.com
SUMMARY:Après Sea | Pierre & Friend
DESCRIPTION:This Sunday at Après Sea\nImen\, fresh from Dubai’s top stages\, joins Jād for a sunset journey by the sea. \n Reservations ‪+961 3 352 930‬\n Cheer
URL:https://gobatroun.com/event/apres-sea-pierre-friend/
LOCATION:Pierre and Friends\, 6J6X+XQ Madfoun\, Batroun\, Lebanon
CATEGORIES:Performing Arts
ATTACH;FMTTYPE=image/webp:https://gobatroun.com/wp-content/uploads/2025/08/Apres-Sea.webp
GEO:34.212423239859;35.649460262694
X-APPLE-STRUCTURED-LOCATION;VALUE=URI;X-ADDRESS=Pierre and Friends 6J6X+XQ Madfoun Batroun Lebanon;X-APPLE-RADIUS=500;X-TITLE=6J6X+XQ Madfoun:geo:35.649460262694,34.212423239859
END:VEVENT
BEGIN:VEVENT
DTSTART;TZID=Asia/Beirut:20250824T210000
DTEND;TZID=Asia/Beirut:20250824T210000
DTSTAMP:20260421T234429
CREATED:20250821T083838Z
LAST-MODIFIED:20250821T083838Z
UID:10007142-1756069200-1756069200@gobatroun.com
SUMMARY:Chady at Merchak bel Souk
DESCRIPTION:Let the Oud melodies take over this Sunday\, August 24 with @chadyaidamouny.official!
URL:https://gobatroun.com/event/chady-at-merchak-bel-souk/
LOCATION:Merchak بالسوق
CATEGORIES:Performing Arts
ATTACH;FMTTYPE=image/webp:https://gobatroun.com/wp-content/uploads/2025/08/Merchak-bel-souk.webp
END:VEVENT
END:VCALENDAR