BEGIN:VCALENDAR
VERSION:2.0
PRODID:-//Go Batroun - ECPv6.14.2//NONSGML v1.0//EN
CALSCALE:GREGORIAN
METHOD:PUBLISH
X-ORIGINAL-URL:https://gobatroun.com
X-WR-CALDESC:Events for Go Batroun
REFRESH-INTERVAL;VALUE=DURATION:PT1H
X-Robots-Tag:noindex
X-PUBLISHED-TTL:PT1H
BEGIN:VTIMEZONE
TZID:Asia/Beirut
BEGIN:DAYLIGHT
TZOFFSETFROM:+0200
TZOFFSETTO:+0300
TZNAME:EEST
DTSTART:20250329T220000
END:DAYLIGHT
BEGIN:STANDARD
TZOFFSETFROM:+0300
TZOFFSETTO:+0200
TZNAME:EET
DTSTART:20251025T210000
END:STANDARD
END:VTIMEZONE
BEGIN:VEVENT
DTSTART;VALUE=DATE:20250726
DTEND;VALUE=DATE:20250729
DTSTAMP:20260421T080749
CREATED:20250721T100551Z
LAST-MODIFIED:20250721T100551Z
UID:10007092-1753509600-1753682399@gobatroun.com
SUMMARY:Batroun Rally
DESCRIPTION:Batroun hosts its first-ever rally as part of the Lebanese Rally Championship on July 26 & 27!  \nFor the first time\, the engines roar through the heart of Batroun — a coastal city turned motorsport arena.
URL:https://gobatroun.com/event/batroun-rally/
LOCATION:Batroun\, 6MX6+79V Batroun\, Batroun\, 1400\, Lebanon
ATTACH;FMTTYPE=image/webp:https://gobatroun.com/wp-content/uploads/2025/07/ATCL-Motorsports-Lebanon.webp
GEO:34.248237811542;35.660916328184
X-APPLE-STRUCTURED-LOCATION;VALUE=URI;X-ADDRESS=Batroun 6MX6+79V Batroun Batroun 1400 Lebanon;X-APPLE-RADIUS=500;X-TITLE=6MX6+79V Batroun:geo:35.660916328184,34.248237811542
END:VEVENT
BEGIN:VEVENT
DTSTART;TZID=Asia/Beirut:20250727T180000
DTEND;TZID=Asia/Beirut:20250727T180000
DTSTAMP:20260421T080749
CREATED:20250723T121954Z
LAST-MODIFIED:20250723T121954Z
UID:10007098-1753639200-1753639200@gobatroun.com
SUMMARY:Moon’s Voyager at Pierre
DESCRIPTION:For the first time ever in Lebanon! \nMoon’s Voyager live at Pierre this Sunday for Après Sea\, alongside Jād.\nYou don’t want to miss this one. \nReservations ‪‪+961 3 352 930‬‬
URL:https://gobatroun.com/event/moons-voyager-at-pierre/
LOCATION:Pierre and Friends\, 6J6X+XQ Madfoun\, Batroun\, Lebanon
CATEGORIES:Performing Arts
ATTACH;FMTTYPE=image/webp:https://gobatroun.com/wp-content/uploads/2025/07/Pierre-27-jul.webp
GEO:34.212423239859;35.649460262694
X-APPLE-STRUCTURED-LOCATION;VALUE=URI;X-ADDRESS=Pierre and Friends 6J6X+XQ Madfoun Batroun Lebanon;X-APPLE-RADIUS=500;X-TITLE=6J6X+XQ Madfoun:geo:35.649460262694,34.212423239859
END:VEVENT
BEGIN:VEVENT
DTSTART;TZID=Asia/Beirut:20250727T210000
DTEND;TZID=Asia/Beirut:20250727T210000
DTSTAMP:20260421T080749
CREATED:20250723T111805Z
LAST-MODIFIED:20250723T111805Z
UID:10007094-1753650000-1753650000@gobatroun.com
SUMMARY:Alecco & The Band at The Wall
DESCRIPTION:Alecco & The Band \nAt @thewallsunsetbar \nSunday 27 \nTo reserve: 81 911 344
URL:https://gobatroun.com/event/alecco-the-band-at-the-wall/
LOCATION:The Wall Sunset Bar\, Batroun\, Lebanon
CATEGORIES:Performing Arts
ATTACH;FMTTYPE=image/webp:https://gobatroun.com/wp-content/uploads/2025/07/The-Wall-27-jul.webp
END:VEVENT
BEGIN:VEVENT
DTSTART;TZID=Asia/Beirut:20250727T210000
DTEND;TZID=Asia/Beirut:20250727T210000
DTSTAMP:20260421T080749
CREATED:20250723T124339Z
LAST-MODIFIED:20250723T124339Z
UID:10007104-1753650000-1753650000@gobatroun.com
SUMMARY:Chady Aidamouny at Merchak bel Souk
DESCRIPTION:Sunday nights hit different with @chadyaidamouny.official on July 27 at #MerchakBelSouk.
URL:https://gobatroun.com/event/chady-aidamouny-at-merchak-bel-souk-4/
LOCATION:Merchak بالسوق
CATEGORIES:Performing Arts
ATTACH;FMTTYPE=image/webp:https://gobatroun.com/wp-content/uploads/2025/07/Merchak-27-jul.webp
END:VEVENT
END:VCALENDAR