BEGIN:VCALENDAR
VERSION:2.0
PRODID:-//Go Batroun - ECPv6.14.2//NONSGML v1.0//EN
CALSCALE:GREGORIAN
METHOD:PUBLISH
X-ORIGINAL-URL:https://gobatroun.com
X-WR-CALDESC:Events for Go Batroun
REFRESH-INTERVAL;VALUE=DURATION:PT1H
X-Robots-Tag:noindex
X-PUBLISHED-TTL:PT1H
BEGIN:VTIMEZONE
TZID:Asia/Beirut
BEGIN:DAYLIGHT
TZOFFSETFROM:+0200
TZOFFSETTO:+0300
TZNAME:EEST
DTSTART:20250329T220000
END:DAYLIGHT
BEGIN:STANDARD
TZOFFSETFROM:+0300
TZOFFSETTO:+0200
TZNAME:EET
DTSTART:20251025T210000
END:STANDARD
END:VTIMEZONE
BEGIN:VEVENT
DTSTART;TZID=Asia/Beirut:20250724T193000
DTEND;TZID=Asia/Beirut:20250724T213000
DTSTAMP:20260419T222955
CREATED:20250723T122644Z
LAST-MODIFIED:20250723T122644Z
UID:10007099-1753385400-1753392600@gobatroun.com
SUMMARY:Creative Hours at Villa Paradiso
DESCRIPTION:Don’t miss out — secure your workshop spot today!\nNo reservations needed for Creative Hour — just swing by\, sip something cool\, and create your masterpiece by the sea.
URL:https://gobatroun.com/event/creative-hours-at-villa-paradiso/2025-07-24/
LOCATION:Villa Paradiso Lebanon
CATEGORIES:Performing Arts
ATTACH;FMTTYPE=image/webp:https://gobatroun.com/wp-content/uploads/2025/07/Villa-paradiso-24-25-26-jul.webp
END:VEVENT
BEGIN:VEVENT
DTSTART;TZID=Asia/Beirut:20250724T210000
DTEND;TZID=Asia/Beirut:20250724T210000
DTSTAMP:20260419T222955
CREATED:20250723T121830Z
LAST-MODIFIED:20250723T121830Z
UID:10007097-1753390800-1753390800@gobatroun.com
SUMMARY:Offshore Grooves
DESCRIPTION:On the Menu this Thursday 24th of July: Commercial EDM & Tribal with @jt.
URL:https://gobatroun.com/event/offshore-grooves/
LOCATION:HANGLOOSE\, 6MW6+PQ Batroun\, Batroun\, Lebanon
CATEGORIES:Performing Arts
ATTACH;FMTTYPE=image/webp:https://gobatroun.com/wp-content/uploads/2025/07/hangloose-24-jul.webp
ORGANIZER;CN="HANGLOOSE":MAILTO:contact@info.com
GEO:34.246771332534;35.661930198875
X-APPLE-STRUCTURED-LOCATION;VALUE=URI;X-ADDRESS=HANGLOOSE 6MW6+PQ Batroun Batroun Lebanon;X-APPLE-RADIUS=500;X-TITLE=6MW6+PQ Batroun:geo:35.661930198875,34.246771332534
END:VEVENT
BEGIN:VEVENT
DTSTART;TZID=Asia/Beirut:20250724T210000
DTEND;TZID=Asia/Beirut:20250724T210000
DTSTAMP:20260419T222955
CREATED:20250723T124028Z
LAST-MODIFIED:20250723T124028Z
UID:10007102-1753390800-1753390800@gobatroun.com
SUMMARY:Karaoke Night at Fay Batroun
DESCRIPTION:Karaoke Night at FAY Batroun!\nThis Thursday\, July 24\, the mic is yours\nCome for the vibes\, stay for the spotlight.
URL:https://gobatroun.com/event/karaoke-night-at-fay-batroun-2/
LOCATION:Fay Batroun\, 7M46+Q2 Batroun\, Batroun\, Lebanon
CATEGORIES:Performing Arts
ATTACH;FMTTYPE=image/webp:https://gobatroun.com/wp-content/uploads/2025/07/fay-batroun-24-jul.webp
END:VEVENT
BEGIN:VEVENT
DTSTART;TZID=Asia/Beirut:20250725T000000
DTEND;TZID=Asia/Beirut:20250725T000000
DTSTAMP:20260419T222955
CREATED:20250723T124129Z
LAST-MODIFIED:20250723T124129Z
UID:10007103-1753401600-1753401600@gobatroun.com
SUMMARY:Bob & Selim at Fiction
DESCRIPTION:Friday forecast: Frequencies from @bobgemaa and @selimabirached.
URL:https://gobatroun.com/event/bob-selim-at-fiction/
LOCATION:Fiction Batroun\, 7M36+848\, Batroun\, Batroun\, Lebanon
ATTACH;FMTTYPE=image/webp:https://gobatroun.com/wp-content/uploads/2025/07/Fiction-25-jul.webp
END:VEVENT
END:VCALENDAR