BEGIN:VCALENDAR
VERSION:2.0
PRODID:-//Go Batroun - ECPv6.14.2//NONSGML v1.0//EN
CALSCALE:GREGORIAN
METHOD:PUBLISH
X-WR-CALNAME:Go Batroun
X-ORIGINAL-URL:https://gobatroun.com
X-WR-CALDESC:Events for Go Batroun
REFRESH-INTERVAL;VALUE=DURATION:PT1H
X-Robots-Tag:noindex
X-PUBLISHED-TTL:PT1H
BEGIN:VTIMEZONE
TZID:Asia/Beirut
BEGIN:DAYLIGHT
TZOFFSETFROM:+0200
TZOFFSETTO:+0300
TZNAME:EEST
DTSTART:20250329T220000
END:DAYLIGHT
BEGIN:STANDARD
TZOFFSETFROM:+0300
TZOFFSETTO:+0200
TZNAME:EET
DTSTART:20251025T210000
END:STANDARD
END:VTIMEZONE
BEGIN:VEVENT
DTSTART;TZID=Asia/Beirut:20250720T180000
DTEND;TZID=Asia/Beirut:20250720T180000
DTSTAMP:20260420T122413
CREATED:20250716T090015Z
LAST-MODIFIED:20250716T090015Z
UID:10007089-1753034400-1753034400@gobatroun.com
SUMMARY:Après Sea at Pierre & Friends
DESCRIPTION:Another Sunday\, another vibe.\nAli Farahani x Jād take over Après Sea this weekend  \n Reservations ‪+961 3 352 930‬\n Cheers
URL:https://gobatroun.com/event/apres-sea-at-pierre-friends-4/
LOCATION:Pierre and Friends\, 6J6X+XQ Madfoun\, Batroun\, Lebanon
CATEGORIES:Performing Arts
ATTACH;FMTTYPE=image/webp:https://gobatroun.com/wp-content/uploads/2025/07/pierre-friends-20-jul.webp
GEO:34.212423239859;35.649460262694
X-APPLE-STRUCTURED-LOCATION;VALUE=URI;X-ADDRESS=Pierre and Friends 6J6X+XQ Madfoun Batroun Lebanon;X-APPLE-RADIUS=500;X-TITLE=6J6X+XQ Madfoun:geo:35.649460262694,34.212423239859
END:VEVENT
BEGIN:VEVENT
DTSTART;TZID=Asia/Beirut:20250720T210000
DTEND;TZID=Asia/Beirut:20250720T210000
DTSTAMP:20260420T122413
CREATED:20250716T084807Z
LAST-MODIFIED:20250716T084807Z
UID:10007083-1753045200-1753045200@gobatroun.com
SUMMARY:Chady Aidamouny at Merchak Bel Souk
DESCRIPTION:Sunday nights sound better with @chadyaidamouny.official on the oud at #MerchakBelSouk.
URL:https://gobatroun.com/event/chady-aidamouny-at-merchak-bel-souk-3/
LOCATION:Merchak بالسوق
CATEGORIES:Performing Arts
ATTACH;FMTTYPE=image/webp:https://gobatroun.com/wp-content/uploads/2025/07/merchak-bel-souk-20-jul.webp
END:VEVENT
END:VCALENDAR