BEGIN:VCALENDAR
VERSION:2.0
PRODID:-//Go Batroun - ECPv6.14.2//NONSGML v1.0//EN
CALSCALE:GREGORIAN
METHOD:PUBLISH
X-ORIGINAL-URL:https://gobatroun.com
X-WR-CALDESC:Events for Go Batroun
REFRESH-INTERVAL;VALUE=DURATION:PT1H
X-Robots-Tag:noindex
X-PUBLISHED-TTL:PT1H
BEGIN:VTIMEZONE
TZID:Asia/Beirut
BEGIN:DAYLIGHT
TZOFFSETFROM:+0200
TZOFFSETTO:+0300
TZNAME:EEST
DTSTART:20250329T220000
END:DAYLIGHT
BEGIN:STANDARD
TZOFFSETFROM:+0300
TZOFFSETTO:+0200
TZNAME:EET
DTSTART:20251025T210000
END:STANDARD
END:VTIMEZONE
BEGIN:VEVENT
DTSTART;TZID=Asia/Beirut:20250718T190000
DTEND;TZID=Asia/Beirut:20250718T190000
DTSTAMP:20260419T222954
CREATED:20250716T085627Z
LAST-MODIFIED:20250716T085627Z
UID:10007087-1752865200-1752865200@gobatroun.com
SUMMARY:The Twin at Hangloose
DESCRIPTION:The long-awaited event of the season is here!  @andredargham & @alaindargham The twins are taking over Hangloose this Friday for a Birthday Bash with @dantonattieh & @daddyb_ 
URL:https://gobatroun.com/event/the-twin-at-hangloose/
LOCATION:HANGLOOSE\, 6MW6+PQ Batroun\, Batroun\, Lebanon
CATEGORIES:Performing Arts
ATTACH;FMTTYPE=image/webp:https://gobatroun.com/wp-content/uploads/2025/07/hangloose-18-jul.webp
ORGANIZER;CN="HANGLOOSE":MAILTO:contact@info.com
GEO:34.246771332534;35.661930198875
X-APPLE-STRUCTURED-LOCATION;VALUE=URI;X-ADDRESS=HANGLOOSE 6MW6+PQ Batroun Batroun Lebanon;X-APPLE-RADIUS=500;X-TITLE=6MW6+PQ Batroun:geo:35.661930198875,34.246771332534
END:VEVENT
BEGIN:VEVENT
DTSTART;TZID=Asia/Beirut:20250718T220000
DTEND;TZID=Asia/Beirut:20250718T220000
DTSTAMP:20260419T222954
CREATED:20250716T085153Z
LAST-MODIFIED:20250716T085255Z
UID:10007084-1752876000-1752876000@gobatroun.com
SUMMARY:Sergi at IGAZU
DESCRIPTION:Rooftop vibes this Friday ✨ \nRSVP 03 486 304\nThoum\, Batroun
URL:https://gobatroun.com/event/sergi-at-igazu-2/
CATEGORIES:Performing Arts
ATTACH;FMTTYPE=image/webp:https://gobatroun.com/wp-content/uploads/2025/07/igazu-18-jul.webp
END:VEVENT
END:VCALENDAR