BEGIN:VCALENDAR
VERSION:2.0
PRODID:-//Go Batroun - ECPv6.14.2//NONSGML v1.0//EN
CALSCALE:GREGORIAN
METHOD:PUBLISH
X-WR-CALNAME:Go Batroun
X-ORIGINAL-URL:https://gobatroun.com
X-WR-CALDESC:Events for Go Batroun
REFRESH-INTERVAL;VALUE=DURATION:PT1H
X-Robots-Tag:noindex
X-PUBLISHED-TTL:PT1H
BEGIN:VTIMEZONE
TZID:Asia/Beirut
BEGIN:DAYLIGHT
TZOFFSETFROM:+0200
TZOFFSETTO:+0300
TZNAME:EEST
DTSTART:20250329T220000
END:DAYLIGHT
BEGIN:STANDARD
TZOFFSETFROM:+0300
TZOFFSETTO:+0200
TZNAME:EET
DTSTART:20251025T210000
END:STANDARD
END:VTIMEZONE
BEGIN:VEVENT
DTSTART;TZID=Asia/Beirut:20250621T210000
DTEND;TZID=Asia/Beirut:20250621T210000
DTSTAMP:20260421T131824
CREATED:20250612T111947Z
LAST-MODIFIED:20250619T071338Z
UID:10007014-1750539600-1750539600@gobatroun.com
SUMMARY:Guy Ramy & Friends at Colonel
DESCRIPTION:Anamel Project is bringing their Afro-House magic to Colonel Reef for one unforgettable night! \nLive performance\, deep rhythms\, and a full sensory trip joined by Guy Ramy & Friends on percussion and a closing DJ set by CKA to keep you dancing all night  \n Colonel Reef\n June 21\n 9PM\n $10 tickets \nDon’t miss the sonic ritual. \nThis one’s going to hit different
URL:https://gobatroun.com/event/guy-ramy-friends-at-colonel-reef/
LOCATION:Colonel Reef\, 6MX5+R2 Batroun\, Batroun\, Lebanon
CATEGORIES:Performing Arts
ATTACH;FMTTYPE=image/webp:https://gobatroun.com/wp-content/uploads/2025/06/colonel-21-jun.webp
GEO:34.249604995751;35.657635266722
X-APPLE-STRUCTURED-LOCATION;VALUE=URI;X-ADDRESS=Colonel Reef 6MX5+R2 Batroun Batroun Lebanon;X-APPLE-RADIUS=500;X-TITLE=6MX5+R2 Batroun:geo:35.657635266722,34.249604995751
END:VEVENT
END:VCALENDAR