BEGIN:VCALENDAR
VERSION:2.0
PRODID:-//Go Batroun - ECPv6.14.2//NONSGML v1.0//EN
CALSCALE:GREGORIAN
METHOD:PUBLISH
X-WR-CALNAME:Go Batroun
X-ORIGINAL-URL:https://gobatroun.com
X-WR-CALDESC:Events for Go Batroun
REFRESH-INTERVAL;VALUE=DURATION:PT1H
X-Robots-Tag:noindex
X-PUBLISHED-TTL:PT1H
BEGIN:VTIMEZONE
TZID:Asia/Beirut
BEGIN:DAYLIGHT
TZOFFSETFROM:+0200
TZOFFSETTO:+0300
TZNAME:EEST
DTSTART:20250329T220000
END:DAYLIGHT
BEGIN:STANDARD
TZOFFSETFROM:+0300
TZOFFSETTO:+0200
TZNAME:EET
DTSTART:20251025T210000
END:STANDARD
END:VTIMEZONE
BEGIN:VEVENT
DTSTART;TZID=Asia/Beirut:20250511T090000
DTEND;TZID=Asia/Beirut:20250511T173000
DTSTAMP:20260421T011600
CREATED:20250422T072554Z
LAST-MODIFIED:20250422T072711Z
UID:10006950-1746954000-1746984600@gobatroun.com
SUMMARY:Return To Self Retreat
DESCRIPTION:Join us on the 10th and 11th of may to “The Return To Self Retreat” Batroun- Smar Jbeil\nTo Release\, Recharge and Realign✨ \nFor more info contact:\nJessy : (961) 3 478 023\nJoanna: (961) 70 323 396\nRebecca: (351) 920 452 406 \nFor reservations: Click Here
URL:https://gobatroun.com/event/return-to-self-retreat/2025-05-11/
LOCATION:Vine\, Smar Jbeil\, 6M9R+95 Smar Jbeil\, Smar Jbeil\, Lebanon
CATEGORIES:Sports
ATTACH;FMTTYPE=image/webp:https://gobatroun.com/wp-content/uploads/2025/04/Return-to-selft-retreat.webp
END:VEVENT
END:VCALENDAR