BEGIN:VCALENDAR
VERSION:2.0
PRODID:-//Go Batroun - ECPv6.14.2//NONSGML v1.0//EN
CALSCALE:GREGORIAN
METHOD:PUBLISH
X-WR-CALNAME:Go Batroun
X-ORIGINAL-URL:https://gobatroun.com
X-WR-CALDESC:Events for Go Batroun
REFRESH-INTERVAL;VALUE=DURATION:PT1H
X-Robots-Tag:noindex
X-PUBLISHED-TTL:PT1H
BEGIN:VTIMEZONE
TZID:Asia/Beirut
BEGIN:DAYLIGHT
TZOFFSETFROM:+0200
TZOFFSETTO:+0300
TZNAME:EEST
DTSTART:20250329T220000
END:DAYLIGHT
BEGIN:STANDARD
TZOFFSETFROM:+0300
TZOFFSETTO:+0200
TZNAME:EET
DTSTART:20251025T210000
END:STANDARD
END:VTIMEZONE
BEGIN:VEVENT
DTSTART;TZID=Asia/Beirut:20250430T193000
DTEND;TZID=Asia/Beirut:20250430T193000
DTSTAMP:20260425T194935
CREATED:20250426T121822Z
LAST-MODIFIED:20250426T121822Z
UID:10006960-1746041400-1746041400@gobatroun.com
SUMMARY:Light Up The Sky
DESCRIPTION:✨ Let your light make a difference! ✨\nJoin us for an unforgettable evening by the sea as we honor lives lost to road accidents and advocate for safer streets across Lebanon. \n Colonel Reef\, Batroun\n️ Wednesday\, April 30\, 2025 \n Starting 7:30PM\n️ 25$ / person — includes 1 lantern + 1 drink \nAll proceeds will support road illumination efforts in Beirut\, as part of the road safety in collaboration with @rotaractlebanoneco . \n Register through link in Bio!
URL:https://gobatroun.com/event/light-up-the-sky/
LOCATION:Colonel Reef\, 6MX5+R2 Batroun\, Batroun\, Lebanon
CATEGORIES:Performing Arts|Sports
ATTACH;FMTTYPE=image/webp:https://gobatroun.com/wp-content/uploads/2025/04/Light-up-the-sky.webp
GEO:34.249604995751;35.657635266722
X-APPLE-STRUCTURED-LOCATION;VALUE=URI;X-ADDRESS=Colonel Reef 6MX5+R2 Batroun Batroun Lebanon;X-APPLE-RADIUS=500;X-TITLE=6MX5+R2 Batroun:geo:35.657635266722,34.249604995751
END:VEVENT
BEGIN:VEVENT
DTSTART;TZID=Asia/Beirut:20250430T200000
DTEND;TZID=Asia/Beirut:20250430T200000
DTSTAMP:20260425T194935
CREATED:20250428T180436Z
LAST-MODIFIED:20250428T180436Z
UID:10006962-1746043200-1746043200@gobatroun.com
SUMMARY:A Tribute to Habib Mansour Al-Rihani
DESCRIPTION:Saint Coeur Ain Najm Alumni Association – Beirut\nTribute to Habib Mansour Al-Rihani\nOn the Anniversary of His Passing \n“Words and Melodies” \n Date: April 30\, 2025\n Time: 8:00 PM\n Location: Mar Estephan Cathedral – Al-Batron \nRSVP: +961 06 740 201
URL:https://gobatroun.com/event/a-tribute-to-habib-mansour-al-rihani/
LOCATION:St. Stephen Cathedral\, 7M45+RFX \, Batroun\, Batroun\, Lebanon
CATEGORIES:Performing Arts
ATTACH;FMTTYPE=image/webp:https://gobatroun.com/wp-content/uploads/2025/04/Tannourine-cedar-3-may.webp
GEO:34.257127548512;35.658741221432
X-APPLE-STRUCTURED-LOCATION;VALUE=URI;X-ADDRESS=St. Stephen Cathedral 7M45+RFX  Batroun Batroun Lebanon;X-APPLE-RADIUS=500;X-TITLE=7M45+RFX \, Batroun:geo:35.658741221432,34.257127548512
END:VEVENT
END:VCALENDAR