BEGIN:VCALENDAR
VERSION:2.0
PRODID:-//Go Batroun - ECPv6.14.2//NONSGML v1.0//EN
CALSCALE:GREGORIAN
METHOD:PUBLISH
X-ORIGINAL-URL:https://gobatroun.com
X-WR-CALDESC:Events for Go Batroun
REFRESH-INTERVAL;VALUE=DURATION:PT1H
X-Robots-Tag:noindex
X-PUBLISHED-TTL:PT1H
BEGIN:VTIMEZONE
TZID:Asia/Beirut
BEGIN:DAYLIGHT
TZOFFSETFROM:+0200
TZOFFSETTO:+0300
TZNAME:EEST
DTSTART:20250329T220000
END:DAYLIGHT
BEGIN:STANDARD
TZOFFSETFROM:+0300
TZOFFSETTO:+0200
TZNAME:EET
DTSTART:20251025T210000
END:STANDARD
END:VTIMEZONE
BEGIN:VEVENT
DTSTART;TZID=Asia/Beirut:20250316T090000
DTEND;TZID=Asia/Beirut:20250316T090000
DTSTAMP:20260426T055136
CREATED:20250313T094739Z
LAST-MODIFIED:20250313T094739Z
UID:10006884-1742115600-1742115600@gobatroun.com
SUMMARY:SUP & KAYAK with Routes
DESCRIPTION:his weekend\, and after a short hiatus\, the warm weather is back and so are we with our SUP Tours. \nPlease find below this weekend’s schedule: \n• Tour 1 Saturday Morning SUP tour at 9:00 AM “Fun level”. \n• Tour 2 Sunday Morning SUP tour at 9:00 AM “Fun level”. \nWe will paddle for an approximate of 2 hours\, enjoying the morning energy boost. We will end our tours by the beach at colonelreef for a nice gathering. \nEvents Participation Fees: \n* Stand Up Paddle 20$/Pers. \nThese Events Include:\nStand up boards\, Routes guides\, Basic paddling lesson\, Paddles. \nFor Reservation please contact Routes team or via WhatsApp 76/338762 \nYou will also have the opportunity to spend the rest of the day roaming the breathtaking city of Batroun and its numerous activities. \nDisclaimer: All tours are tentative to cancelations due to sudden weather change.
URL:https://gobatroun.com/event/sup-kayak-with-routes-2/2025-03-16/
LOCATION:Routes
CATEGORIES:Sports
ATTACH;FMTTYPE=image/webp:https://gobatroun.com/wp-content/uploads/2025/03/routes-15-16-mar.webp
END:VEVENT
BEGIN:VEVENT
DTSTART;TZID=Asia/Beirut:20250316T100000
DTEND;TZID=Asia/Beirut:20250316T100000
DTSTAMP:20260426T055136
CREATED:20250307T111107Z
LAST-MODIFIED:20250307T111107Z
UID:10006871-1742119200-1742119200@gobatroun.com
SUMMARY:CJS Chess Tournament
DESCRIPTION:Chess Tournament \nMarch 16\, 10am \nRegister Fee $7/person \nLocation: Batroun Sports Club
URL:https://gobatroun.com/event/cjs-chess-tournament/
LOCATION:CJS\, CJS Court\, Batroun\, Lebanon
CATEGORIES:Sports
ATTACH;FMTTYPE=image/webp:https://gobatroun.com/wp-content/uploads/2025/03/cjs-16-mar.webp
END:VEVENT
BEGIN:VEVENT
DTSTART;TZID=Asia/Beirut:20250316T213000
DTEND;TZID=Asia/Beirut:20250316T213000
DTSTAMP:20260426T055136
CREATED:20250313T095133Z
LAST-MODIFIED:20250313T095133Z
UID:10006886-1742160600-1742160600@gobatroun.com
SUMMARY:Saint Patrick's Day Bash at Barrio67
DESCRIPTION:Saint Patrick’s Day Party this Sunday\, March 16\nFood & Carlsberg beer à gogo!\nLive music by Elias Bluesician & Friends \nReserve now: +961 70 211 299
URL:https://gobatroun.com/event/saint-patricks-day-bash-at-barrio67/
LOCATION:Barrio67
CATEGORIES:Performing Arts
ATTACH;FMTTYPE=image/webp:https://gobatroun.com/wp-content/uploads/2025/03/barrio67-16-mar.webp
END:VEVENT
END:VCALENDAR