BEGIN:VCALENDAR
VERSION:2.0
PRODID:-//Go Batroun - ECPv6.14.2//NONSGML v1.0//EN
CALSCALE:GREGORIAN
METHOD:PUBLISH
X-ORIGINAL-URL:https://gobatroun.com
X-WR-CALDESC:Events for Go Batroun
REFRESH-INTERVAL;VALUE=DURATION:PT1H
X-Robots-Tag:noindex
X-PUBLISHED-TTL:PT1H
BEGIN:VTIMEZONE
TZID:Asia/Beirut
BEGIN:DAYLIGHT
TZOFFSETFROM:+0200
TZOFFSETTO:+0300
TZNAME:EEST
DTSTART:20250329T220000
END:DAYLIGHT
BEGIN:STANDARD
TZOFFSETFROM:+0300
TZOFFSETTO:+0200
TZNAME:EET
DTSTART:20251025T210000
END:STANDARD
END:VTIMEZONE
BEGIN:VEVENT
DTSTART;TZID=Asia/Beirut:20250214T070000
DTEND;TZID=Asia/Beirut:20250214T070000
DTSTAMP:20260421T080843
CREATED:20250211T122122Z
LAST-MODIFIED:20250211T123132Z
UID:10006833-1739516400-1739516400@gobatroun.com
SUMMARY:Forest Wonderland with Routes
DESCRIPTION:Tannourine Nature Reserve lies in a splendidly beautiful area and protects one of the largest and densest cedar forests in the Middle East . \nOn Friday February 14 or Sunday February 16\, we are going Snowshoeing into this magical cedars reserve to explore and learn more about our ancient majestic trees. ❄️\nWe will end our day with a nice Local meal at @tannourinevalley \nEvent Details: \n* DATE: Friday\, February 14.  Sunday\, February 16.\n* MEETING POINT:\nBeirut Al Nahar Building-Martyr square Downtown(we can pick up hikers along the way) at 7:00 AM.\nBatroun routes station at 8:00 AM. \nPS: Punctuality is highly important! \n* HIKE DEPARTURE: 9:30AM.\n* HIKE DURATION: 4 hours.\n* DISTANCE: 8 KM.\n* HIKE DIFFICULTY: Easy to Moderate. \nBE PREPARED:\nBring light snacks to boost your energy up (such as nuts\, dry fruits and water). winter clothing\, winter shoes\, jacket\, gloves & hat\, sunscreen\, sunglass and changing clothes. \nYou can book by calling\nRoutes Team 76-338762 -————————————————————————————\nEvent Participation Fees :\n• 35$/Person including Transportation. • 30$/Person for groups of 4 and more (Including Transportation) • 30$/Person for People who will join by their own car. \nThis event will include: Snowshoeing equipments\, Routes guides\, Local guide\, Entrance to the Reserve\, First Aid kit\, Breakfast (Tea ☕️ & Croissants ) & Photos. \nMaximum number of participants for this hike is 25. \n✨ Special Offer! If you wish to extend your adventure and stay overnight in Tannourine\, Tannourine Valley Hotel is offering a 15% discount on your night stay. Contact @tannourinevalley to book your night stay. \nSee you ☺️ \nDISCLAIMER:\nEvery participant assumes all possible risks and is responsible for his/her own safety and security.
URL:https://gobatroun.com/event/forest-wonderland-with-routes/2025-02-14/
LOCATION:Tannourine Cedars Reserve
CATEGORIES:Sports
ATTACH;FMTTYPE=image/webp:https://gobatroun.com/wp-content/uploads/2025/02/routes-14-16-feb.webp
END:VEVENT
BEGIN:VEVENT
DTSTART;TZID=Asia/Beirut:20250214T100000
DTEND;TZID=Asia/Beirut:20250214T100000
DTSTAMP:20260421T080843
CREATED:20250130T132649Z
LAST-MODIFIED:20250211T131221Z
UID:10006819-1739527200-1739527200@gobatroun.com
SUMMARY:Lets Celebrate Valentine at Le Marin
DESCRIPTION:Friday 14 February\, 2024 \nLe Marin Restaurant\, Batroun \nFor more info please call: \nJosephine Al Tabshi: +961 3 515 038 \nSimon Al Khoury: +961 71 320 707
URL:https://gobatroun.com/event/lets-celebrate-valentine/
LOCATION:Le Marin\, 7M35+38 Batroun\, Batroun\, Lebanon
CATEGORIES:Performing Arts
ATTACH;FMTTYPE=image/png:https://gobatroun.com/wp-content/uploads/2025/01/Image_Editor.png
END:VEVENT
BEGIN:VEVENT
DTSTART;TZID=Asia/Beirut:20250214T210000
DTEND;TZID=Asia/Beirut:20250214T210000
DTSTAMP:20260421T080843
CREATED:20241227T081317Z
LAST-MODIFIED:20250207T095127Z
UID:10006780-1739566800-1739566800@gobatroun.com
SUMMARY:Ralph C at Greenhouse Bar (Valentine's Eve)
DESCRIPTION:Ralph C at Greenhouse Bar \nCelebrate Valentine with Ralph C \nMore info on +961 70 125 310
URL:https://gobatroun.com/event/ralph-c-at-greenhouse-bar/
LOCATION:Green House Batroun
CATEGORIES:Performing Arts
ATTACH;FMTTYPE=image/jpeg:https://gobatroun.com/wp-content/uploads/2024/12/December-28-Event-2.jpg
END:VEVENT
BEGIN:VEVENT
DTSTART;TZID=Asia/Beirut:20250214T210000
DTEND;TZID=Asia/Beirut:20250214T210000
DTSTAMP:20260421T080843
CREATED:20250120T082425Z
LAST-MODIFIED:20250120T082425Z
UID:10006805-1739566800-1739566800@gobatroun.com
SUMMARY:Valentine's Night at Omnia
DESCRIPTION:Valentine’s Night at Omnia \nWith Micha & The Band \nFor reservations +961 81 166 642
URL:https://gobatroun.com/event/valentines-night-at-omnia/
LOCATION:Tramway Gastro Pub\, 7M45+CQ Batroun\, Batroun\, Lebanon
CATEGORIES:Performing Arts
ATTACH;FMTTYPE=image/jpeg:https://gobatroun.com/wp-content/uploads/2025/01/February-14-1.jpg
END:VEVENT
BEGIN:VEVENT
DTSTART;TZID=Asia/Beirut:20250214T210000
DTEND;TZID=Asia/Beirut:20250214T210000
DTSTAMP:20260421T080843
CREATED:20250131T075053Z
LAST-MODIFIED:20250211T131101Z
UID:10006844-1739566800-1739566800@gobatroun.com
SUMMARY:Valentine at Bistr'eau
DESCRIPTION:Valentine at Bistreau \nCelebrate Love\, Food & stories at Bistr’eau this Valentine’s! \nJoin us on February 13th & 14th for a magical evening with live vocals & saxophone by the amazing Louis Safi \nSavor our special Valentine’s menu for just 40$ per person (beverages excluded)or or enjoy our à la carte menu with a minimum charge of 40$ per person. \nGood mood\, good food & great melodies awaits! \nFor your reservations: +961 70 222 151
URL:https://gobatroun.com/event/valentine-at-bistreau/2025-02-14/
LOCATION:Bistr’eau\, 7M45+R6 Batroun\, Batroun\, Lebanon
CATEGORIES:Performing Arts
ATTACH;FMTTYPE=image/jpeg:https://gobatroun.com/wp-content/uploads/2025/01/13-14.jpg
GEO:34.257087531138;35.658026709096
X-APPLE-STRUCTURED-LOCATION;VALUE=URI;X-ADDRESS=Bistr’eau 7M45+R6 Batroun Batroun Lebanon;X-APPLE-RADIUS=500;X-TITLE=7M45+R6 Batroun:geo:35.658026709096,34.257087531138
END:VEVENT
BEGIN:VEVENT
DTSTART;TZID=Asia/Beirut:20250214T210000
DTEND;TZID=Asia/Beirut:20250214T210000
DTSTAMP:20260421T080843
CREATED:20250211T125830Z
LAST-MODIFIED:20250211T130632Z
UID:10006841-1739566800-1739566800@gobatroun.com
SUMMARY:Valentine's Hangouer
DESCRIPTION:Tympanic is bringing the beats this Valentine’s Friday\, February 14\, for a night you won’t forget. \nJoin us for an electrifying evening filled with great music\, high energy\, and the perfect vibe. \nRSVP: 71 872 417
URL:https://gobatroun.com/event/valentines-hangouer/
LOCATION:HANGLOOSE\, 6MW6+PQ Batroun\, Batroun\, Lebanon
CATEGORIES:Performing Arts
ATTACH;FMTTYPE=image/webp:https://gobatroun.com/wp-content/uploads/2025/02/hangloose-14-feb.webp
ORGANIZER;CN="HANGLOOSE":MAILTO:contact@info.com
GEO:34.246771332534;35.661930198875
X-APPLE-STRUCTURED-LOCATION;VALUE=URI;X-ADDRESS=HANGLOOSE 6MW6+PQ Batroun Batroun Lebanon;X-APPLE-RADIUS=500;X-TITLE=6MW6+PQ Batroun:geo:35.661930198875,34.246771332534
END:VEVENT
BEGIN:VEVENT
DTSTART;TZID=Asia/Beirut:20250214T210000
DTEND;TZID=Asia/Beirut:20250214T210000
DTSTAMP:20260421T080843
CREATED:20250211T130113Z
LAST-MODIFIED:20250211T130701Z
UID:10006842-1739566800-1739566800@gobatroun.com
SUMMARY:Valentine's Dinner at Fay Batroun
DESCRIPTION:Searching for the perfect Valentine’s plan? FAY Café | Bar | Garden Art just might be the destination \nPicture this: You\, your special someone\, a candlelit set menu\, wine that never run dry\, and the smooth\, soulful sounds of @chadichemali live saxophone at 9 PM. \nSet Menu A: $50 per person\nSet Menu B: $40 per person \nRSVP 71 61 41 62
URL:https://gobatroun.com/event/valentines-dinner-at-fay-batroun/
LOCATION:Fay Batroun\, 7M46+Q2 Batroun\, Batroun\, Lebanon
CATEGORIES:Performing Arts
ATTACH;FMTTYPE=image/webp:https://gobatroun.com/wp-content/uploads/2025/02/fay-batroun-14-feb.webp
END:VEVENT
BEGIN:VEVENT
DTSTART;TZID=Asia/Beirut:20250214T223000
DTEND;TZID=Asia/Beirut:20250214T223000
DTSTAMP:20260421T080843
CREATED:20250120T073409Z
LAST-MODIFIED:20250120T073409Z
UID:10006801-1739572200-1739572200@gobatroun.com
SUMMARY:Valentine's Dinner at Tramway
DESCRIPTION:Valentine’s Dinner at Tramway \nWith Singer Adam \nFor reservations +961 03 514 101
URL:https://gobatroun.com/event/valentines-dinner-at-tramway/
LOCATION:Tramway Gastro Pub\, 7M45+CQ Batroun\, Batroun\, Lebanon
CATEGORIES:Performing Arts
ATTACH;FMTTYPE=image/jpeg:https://gobatroun.com/wp-content/uploads/2025/01/February-14.jpg
END:VEVENT
END:VCALENDAR