BEGIN:VCALENDAR
VERSION:2.0
PRODID:-//Go Batroun - ECPv6.14.2//NONSGML v1.0//EN
CALSCALE:GREGORIAN
METHOD:PUBLISH
X-WR-CALNAME:Go Batroun
X-ORIGINAL-URL:https://gobatroun.com
X-WR-CALDESC:Events for Go Batroun
REFRESH-INTERVAL;VALUE=DURATION:PT1H
X-Robots-Tag:noindex
X-PUBLISHED-TTL:PT1H
BEGIN:VTIMEZONE
TZID:Asia/Beirut
BEGIN:DAYLIGHT
TZOFFSETFROM:+0200
TZOFFSETTO:+0300
TZNAME:EEST
DTSTART:20250329T220000
END:DAYLIGHT
BEGIN:STANDARD
TZOFFSETFROM:+0300
TZOFFSETTO:+0200
TZNAME:EET
DTSTART:20251025T210000
END:STANDARD
END:VTIMEZONE
BEGIN:VEVENT
DTSTART;VALUE=DATE:20250210
DTEND;VALUE=DATE:20250212
DTSTAMP:20260421T073436
CREATED:20250207T124553Z
LAST-MODIFIED:20250207T124553Z
UID:10006828-1739167200-1739253599@gobatroun.com
SUMMARY:Winter Camp with Dream Ville
DESCRIPTION:Join Dream Ville for an unforgettable winter camp from February 10-14!\nDive into fun with exciting robotics sessions powered by @mindscapelb .\nDon’t forget to book now and secure your spot for an adventure filled with learning\, friendship\, and endless memories!
URL:https://gobatroun.com/event/winter-camp-with-dream-ville/
LOCATION:Dream Ville
CATEGORIES:Sports
ATTACH;FMTTYPE=image/webp:https://gobatroun.com/wp-content/uploads/2025/02/dream-ville-feb-10-to-14.webp
END:VEVENT
END:VCALENDAR