BEGIN:VCALENDAR
VERSION:2.0
PRODID:-//Go Batroun - ECPv6.14.2//NONSGML v1.0//EN
CALSCALE:GREGORIAN
METHOD:PUBLISH
X-WR-CALNAME:Go Batroun
X-ORIGINAL-URL:https://gobatroun.com
X-WR-CALDESC:Events for Go Batroun
REFRESH-INTERVAL;VALUE=DURATION:PT1H
X-Robots-Tag:noindex
X-PUBLISHED-TTL:PT1H
BEGIN:VTIMEZONE
TZID:Asia/Beirut
BEGIN:DAYLIGHT
TZOFFSETFROM:+0200
TZOFFSETTO:+0300
TZNAME:EEST
DTSTART:20250329T220000
END:DAYLIGHT
BEGIN:STANDARD
TZOFFSETFROM:+0300
TZOFFSETTO:+0200
TZNAME:EET
DTSTART:20251025T210000
END:STANDARD
END:VTIMEZONE
BEGIN:VEVENT
DTSTART;TZID=Asia/Beirut:20250208T100000
DTEND;TZID=Asia/Beirut:20250208T130000
DTSTAMP:20260421T131822
CREATED:20250129T080220Z
LAST-MODIFIED:20250129T080220Z
UID:10006818-1739008800-1739019600@gobatroun.com
SUMMARY:Python Programming Training Course
DESCRIPTION:Python programming Training Course \nتنظم اللجنة الثقافية في بلدية البترون بالتعاون مع أكاديمية Mindscape دورة تدريبية في البرمجة باستخدام Python \nالسبت 8 شباط 2025 \nفي مبنى بلدية البترون \nمن الساعة 10 حتى 1 ظهراً \nالفئة العمرية: من 15 سنة حتى 25 سنة \nللحجز الإتصال على الرقم 627 252 71 961 + \nقبل 5 شباط
URL:https://gobatroun.com/event/python-programming-training-course/
LOCATION:Batroun Municipality
CATEGORIES:Community
ATTACH;FMTTYPE=image/jpeg:https://gobatroun.com/wp-content/uploads/2025/01/February-8.jpg
END:VEVENT
BEGIN:VEVENT
DTSTART;TZID=Asia/Beirut:20250208T110000
DTEND;TZID=Asia/Beirut:20250208T150000
DTSTAMP:20260421T131822
CREATED:20250207T125540Z
LAST-MODIFIED:20250207T125540Z
UID:10006829-1739012400-1739026800@gobatroun.com
SUMMARY:Candle Making Workshop at Hangloose
DESCRIPTION:Join Hangloose at @livehangloose this Saturday!\nLearn the basics of candle making with @soii.home \, create your own and enjoy good coffee.\nCome for the candles \, stay for the vibes\nReserve your spot!
URL:https://gobatroun.com/event/candle-making-workshop-at-hangloose/
LOCATION:HANGLOOSE\, 6MW6+PQ Batroun\, Batroun\, Lebanon
CATEGORIES:Performing Arts
ATTACH;FMTTYPE=image/webp:https://gobatroun.com/wp-content/uploads/2025/02/hangloose-feb-8.webp
ORGANIZER;CN="HANGLOOSE":MAILTO:contact@info.com
GEO:34.246771332534;35.661930198875
X-APPLE-STRUCTURED-LOCATION;VALUE=URI;X-ADDRESS=HANGLOOSE 6MW6+PQ Batroun Batroun Lebanon;X-APPLE-RADIUS=500;X-TITLE=6MW6+PQ Batroun:geo:35.661930198875,34.246771332534
END:VEVENT
BEGIN:VEVENT
DTSTART;TZID=Asia/Beirut:20250208T110000
DTEND;TZID=Asia/Beirut:20250208T170000
DTSTAMP:20260421T131822
CREATED:20250207T100057Z
LAST-MODIFIED:20250207T100057Z
UID:10006827-1739012400-1739034000@gobatroun.com
SUMMARY:Brunch O'clock at Barrio67
DESCRIPTION:Set Menu \nLive cocktail station \nDJ spinning all day
URL:https://gobatroun.com/event/brunch-oclock-at-barrio67/
LOCATION:Barrio67
CATEGORIES:Performing Arts
ATTACH;FMTTYPE=image/webp:https://gobatroun.com/wp-content/uploads/2025/02/Barrio-feb-8.webp
END:VEVENT
BEGIN:VEVENT
DTSTART;TZID=Asia/Beirut:20250208T223000
DTEND;TZID=Asia/Beirut:20250208T223000
DTSTAMP:20260421T131822
CREATED:20250207T093713Z
LAST-MODIFIED:20250207T093713Z
UID:10006825-1739053800-1739053800@gobatroun.com
SUMMARY:Aziz Asaad at Tramway
DESCRIPTION:Aziz Asaad at Tramway \nFor reservations +961 03 514 101
URL:https://gobatroun.com/event/aziz-asaad-at-tramway-4/
LOCATION:Tramway Gastro Pub\, 7M45+CQ Batroun\, Batroun\, Lebanon
CATEGORIES:Performing Arts
ATTACH;FMTTYPE=image/webp:https://gobatroun.com/wp-content/uploads/2025/02/tramway-feb-8.webp
END:VEVENT
END:VCALENDAR