BEGIN:VCALENDAR
VERSION:2.0
PRODID:-//Go Batroun - ECPv6.14.2//NONSGML v1.0//EN
CALSCALE:GREGORIAN
METHOD:PUBLISH
X-ORIGINAL-URL:https://gobatroun.com
X-WR-CALDESC:Events for Go Batroun
REFRESH-INTERVAL;VALUE=DURATION:PT1H
X-Robots-Tag:noindex
X-PUBLISHED-TTL:PT1H
BEGIN:VTIMEZONE
TZID:Asia/Beirut
BEGIN:DAYLIGHT
TZOFFSETFROM:+0200
TZOFFSETTO:+0300
TZNAME:EEST
DTSTART:20240330T220000
END:DAYLIGHT
BEGIN:STANDARD
TZOFFSETFROM:+0300
TZOFFSETTO:+0200
TZNAME:EET
DTSTART:20241026T210000
END:STANDARD
END:VTIMEZONE
BEGIN:VEVENT
DTSTART;TZID=Asia/Beirut:20241225T123000
DTEND;TZID=Asia/Beirut:20241225T200000
DTSTAMP:20260421T080747
CREATED:20241216T074332Z
LAST-MODIFIED:20241216T074332Z
UID:10006727-1735129800-1735156800@gobatroun.com
SUMMARY:Arnaoon Christmas Village
DESCRIPTION:Arnaoon Christmas Village \nThe magic of Christmas is ready to unfold at Arnaoon Village! Mark your calendars for a season filled with joy\, entertainment\, and festive charm. Swipe to explore our day and night schedule and plan your visit for a holiday experience you won’t forget. \nDates: December 14th till January 5th \nFor reservations\, please call: +961 03 342 502 or +961 76 884 461
URL:https://gobatroun.com/event/arnaoon-christmas-village/2024-12-25/
LOCATION:Arnaoon Village\, 7MCV+77 Batroun\, Batroun\, Lebanon
CATEGORIES:Performing Arts
ATTACH;FMTTYPE=image/jpeg:https://gobatroun.com/wp-content/uploads/2024/12/Arnaoon-Christmas-Village.jpg
ORGANIZER;CN="Arnaoon Village":MAILTO:arnaoon@arnaoonvillage.com
END:VEVENT
BEGIN:VEVENT
DTSTART;TZID=Asia/Beirut:20241225T200000
DTEND;TZID=Asia/Beirut:20241225T200000
DTSTAMP:20260421T080747
CREATED:20241218T093416Z
LAST-MODIFIED:20241218T093416Z
UID:10006762-1735156800-1735156800@gobatroun.com
SUMMARY:Gaby at Barrio
DESCRIPTION:Gaby at Barrio \nLive Performances During December 2024
URL:https://gobatroun.com/event/gaby-at-barrio/2024-12-25/
LOCATION:Barrio67
CATEGORIES:Performing Arts
ATTACH;FMTTYPE=image/jpeg:https://gobatroun.com/wp-content/uploads/2024/12/December-2024-Calendar.jpg
END:VEVENT
BEGIN:VEVENT
DTSTART;TZID=Asia/Beirut:20241225T203000
DTEND;TZID=Asia/Beirut:20241225T203000
DTSTAMP:20260421T080747
CREATED:20241209T070856Z
LAST-MODIFIED:20241209T070856Z
UID:10006702-1735158600-1735158600@gobatroun.com
SUMMARY:Hadi Daou at Leyl
DESCRIPTION:Hadi Daou at Leyl \nSounds by ED – Christmas Edition \nRSVP : +961 76 181 999
URL:https://gobatroun.com/event/hadi-daou-at-leyl-10/
LOCATION:Léyl
CATEGORIES:Performing Arts
ATTACH;FMTTYPE=image/jpeg:https://gobatroun.com/wp-content/uploads/2024/12/December-25.jpg
END:VEVENT
BEGIN:VEVENT
DTSTART;TZID=Asia/Beirut:20241225T213000
DTEND;TZID=Asia/Beirut:20241225T213000
DTSTAMP:20260421T080747
CREATED:20241223T094947Z
LAST-MODIFIED:20241223T095118Z
UID:10006775-1735162200-1735162200@gobatroun.com
SUMMARY:Binky live at Hangloose
DESCRIPTION:Binky live at Hangloose \nFunk POP \nStarting 21:30 PM \nRSVP : +961 71 872 417
URL:https://gobatroun.com/event/binky-live-at-hangloose/
LOCATION:HANGLOOSE\, 6MW6+PQ Batroun\, Batroun\, Lebanon
CATEGORIES:Performing Arts
ATTACH;FMTTYPE=image/jpeg:https://gobatroun.com/wp-content/uploads/2024/12/December-25-Event.jpg
ORGANIZER;CN="HANGLOOSE":MAILTO:contact@info.com
GEO:34.246771332534;35.661930198875
X-APPLE-STRUCTURED-LOCATION;VALUE=URI;X-ADDRESS=HANGLOOSE 6MW6+PQ Batroun Batroun Lebanon;X-APPLE-RADIUS=500;X-TITLE=6MW6+PQ Batroun:geo:35.661930198875,34.246771332534
END:VEVENT
BEGIN:VEVENT
DTSTART;TZID=Asia/Beirut:20241225T220000
DTEND;TZID=Asia/Beirut:20241225T220000
DTSTAMP:20260421T080747
CREATED:20241223T081846Z
LAST-MODIFIED:20241223T081846Z
UID:10006769-1735164000-1735164000@gobatroun.com
SUMMARY:Borhan at Taiga Batroun Club
DESCRIPTION:Borhan at Taiga Batroun Club \nReservation on +961 3 499 408
URL:https://gobatroun.com/event/borhan-at-taiga-batroun-club-35/
LOCATION:TAIGA BATROUN CLUB\, 7M46+23 Batroun\, Batroun\, Lebanon
CATEGORIES:Performing Arts
ATTACH;FMTTYPE=image/jpeg:https://gobatroun.com/wp-content/uploads/2024/12/December-Events-Calendar.jpg
GEO:34.255082353874;35.660243950604
X-APPLE-STRUCTURED-LOCATION;VALUE=URI;X-ADDRESS=TAIGA BATROUN CLUB 7M46+23 Batroun Batroun Lebanon;X-APPLE-RADIUS=500;X-TITLE=7M46+23 Batroun:geo:35.660243950604,34.255082353874
END:VEVENT
END:VCALENDAR