BEGIN:VCALENDAR
VERSION:2.0
PRODID:-//Go Batroun - ECPv6.14.2//NONSGML v1.0//EN
CALSCALE:GREGORIAN
METHOD:PUBLISH
X-ORIGINAL-URL:https://gobatroun.com
X-WR-CALDESC:Events for Go Batroun
REFRESH-INTERVAL;VALUE=DURATION:PT1H
X-Robots-Tag:noindex
X-PUBLISHED-TTL:PT1H
BEGIN:VTIMEZONE
TZID:Asia/Beirut
BEGIN:DAYLIGHT
TZOFFSETFROM:+0200
TZOFFSETTO:+0300
TZNAME:EEST
DTSTART:20240330T220000
END:DAYLIGHT
BEGIN:STANDARD
TZOFFSETFROM:+0300
TZOFFSETTO:+0200
TZNAME:EET
DTSTART:20241026T210000
END:STANDARD
END:VTIMEZONE
BEGIN:VEVENT
DTSTART;TZID=Asia/Beirut:20241223T090000
DTEND;TZID=Asia/Beirut:20241223T120000
DTSTAMP:20260421T080751
CREATED:20241223T091549Z
LAST-MODIFIED:20241223T091549Z
UID:10006773-1734944400-1734955200@gobatroun.com
SUMMARY:CJS Batroun Christmas Football Camp
DESCRIPTION:CJS Batroun Christmas Football Camp \nStarting 23rd of December 2024 \n7 days from 9am till 12pm \nAge Group: 6 to 13 Years old \nPrices: 60$ per child and special offer for siblings \n+961 70 022 626 or +961 81 998 988
URL:https://gobatroun.com/event/cjs-batroun-christmas-football-camp/
LOCATION:Club Jeunesse Sportif Batroun\, 7M68+QCX\, Batroun\, Batroun\, Lebanon
CATEGORIES:Sports
ATTACH;FMTTYPE=image/jpeg:https://gobatroun.com/wp-content/uploads/2024/12/Christmas-Football-Camp.jpg
GEO:34.261999867948;35.66615409094
X-APPLE-STRUCTURED-LOCATION;VALUE=URI;X-ADDRESS=Club Jeunesse Sportif Batroun 7M68+QCX Batroun Batroun Lebanon;X-APPLE-RADIUS=500;X-TITLE=7M68+QCX\, Batroun:geo:35.66615409094,34.261999867948
END:VEVENT
BEGIN:VEVENT
DTSTART;TZID=Asia/Beirut:20241223T123000
DTEND;TZID=Asia/Beirut:20241223T200000
DTSTAMP:20260421T080751
CREATED:20241216T074332Z
LAST-MODIFIED:20241216T074332Z
UID:10006725-1734957000-1734984000@gobatroun.com
SUMMARY:Arnaoon Christmas Village
DESCRIPTION:Arnaoon Christmas Village \nThe magic of Christmas is ready to unfold at Arnaoon Village! Mark your calendars for a season filled with joy\, entertainment\, and festive charm. Swipe to explore our day and night schedule and plan your visit for a holiday experience you won’t forget. \nDates: December 14th till January 5th \nFor reservations\, please call: +961 03 342 502 or +961 76 884 461
URL:https://gobatroun.com/event/arnaoon-christmas-village/2024-12-23/
LOCATION:Arnaoon Village\, 7MCV+77 Batroun\, Batroun\, Lebanon
CATEGORIES:Performing Arts
ATTACH;FMTTYPE=image/jpeg:https://gobatroun.com/wp-content/uploads/2024/12/Arnaoon-Christmas-Village.jpg
ORGANIZER;CN="Arnaoon Village":MAILTO:arnaoon@arnaoonvillage.com
END:VEVENT
BEGIN:VEVENT
DTSTART;TZID=Asia/Beirut:20241223T170000
DTEND;TZID=Asia/Beirut:20241223T170000
DTSTAMP:20260421T080751
CREATED:20241216T101357Z
LAST-MODIFIED:20241216T101501Z
UID:10006747-1734973200-1734973200@gobatroun.com
SUMMARY:Tea Time with Mickey & Minnie with Kids Factory at Pine Roots
DESCRIPTION:Tea Time with Mickey & Minnie with Kids Factory at Pine Roots \nChristmas in the Forest is here! \nJoin us at Pine Roots Batroun for magical moments brought to you by Kids Factory! \nWeekdays: Starting at 3 PM \nWeekends: Starting at 12 PM \nEnjoy Christmas activities\, arts & crafts\, slime\, beads\, cookie decorating\, and so much more! Plus\, don’t miss the unique multi-events happening throughout the week. \nWith access to the Playground and Playhouse\, making it a full day of festive family fun under the pines! \nMeet and Greet Santa Every Day at 5:00 pm\, no extra fees.
URL:https://gobatroun.com/event/tea-time-with-mickey-minnie-with-kids-factory-at-pine-roots/
LOCATION:Pine Roots
CATEGORIES:Performing Arts
ATTACH;FMTTYPE=image/jpeg:https://gobatroun.com/wp-content/uploads/2024/12/December-17-24.jpg
END:VEVENT
BEGIN:VEVENT
DTSTART;TZID=Asia/Beirut:20241223T190000
DTEND;TZID=Asia/Beirut:20241223T190000
DTSTAMP:20260421T080751
CREATED:20241216T080557Z
LAST-MODIFIED:20241216T080557Z
UID:10006739-1734980400-1734980400@gobatroun.com
SUMMARY:Christmas Celebration
DESCRIPTION:Christmas Celebration \nعائلة الأخويات بقسميا \nصالة رعية مار سمعان العمودي – بقسميا \nFree Entrance \nAnimation\, Gifts Distribution\, Santa Claus…. \nFor Reservation: +961 70 850 744 or +961 03 031 038 or +961 76 430 018
URL:https://gobatroun.com/event/christmas-celebration/
LOCATION:رعية مار سمعان العمودي – بقسميا\, 7Q28+M9M\, Boqsmaiya\, Boqsmaiya\, Lebanon
CATEGORIES:Performing Arts
ATTACH;FMTTYPE=image/jpeg:https://gobatroun.com/wp-content/uploads/2024/12/December-23-Christmas-Event.jpg
END:VEVENT
BEGIN:VEVENT
DTSTART;TZID=Asia/Beirut:20241223T200000
DTEND;TZID=Asia/Beirut:20241223T200000
DTSTAMP:20260421T080751
CREATED:20241218T091421Z
LAST-MODIFIED:20241218T091421Z
UID:10006754-1734984000-1734984000@gobatroun.com
SUMMARY:Costy at Barrio
DESCRIPTION:Costy at Barrio \nLive Performances During December 2024
URL:https://gobatroun.com/event/costy-at-barrio/2024-12-23/
LOCATION:Barrio67
CATEGORIES:Performing Arts
ATTACH;FMTTYPE=image/jpeg:https://gobatroun.com/wp-content/uploads/2024/12/December-2024-Calendar.jpg
END:VEVENT
BEGIN:VEVENT
DTSTART;TZID=Asia/Beirut:20241223T213000
DTEND;TZID=Asia/Beirut:20241223T213000
DTSTAMP:20260421T080751
CREATED:20241223T094246Z
LAST-MODIFIED:20241223T094246Z
UID:10006774-1734989400-1734989400@gobatroun.com
SUMMARY:Bonne Chose live at Hangloose
DESCRIPTION:Bonne Chose live at Hangloose \nExperimental Jazz \nStarting 21:30 PM \nRSVP : +961 71 872 417
URL:https://gobatroun.com/event/bonne-chose-live-at-hangloose/
LOCATION:HANGLOOSE\, 6MW6+PQ Batroun\, Batroun\, Lebanon
CATEGORIES:Performing Arts
ATTACH;FMTTYPE=image/jpeg:https://gobatroun.com/wp-content/uploads/2024/12/December-23-Event.jpg
ORGANIZER;CN="HANGLOOSE":MAILTO:contact@info.com
GEO:34.246771332534;35.661930198875
X-APPLE-STRUCTURED-LOCATION;VALUE=URI;X-ADDRESS=HANGLOOSE 6MW6+PQ Batroun Batroun Lebanon;X-APPLE-RADIUS=500;X-TITLE=6MW6+PQ Batroun:geo:35.661930198875,34.246771332534
END:VEVENT
END:VCALENDAR