BEGIN:VCALENDAR
VERSION:2.0
PRODID:-//Go Batroun - ECPv6.14.2//NONSGML v1.0//EN
CALSCALE:GREGORIAN
METHOD:PUBLISH
X-ORIGINAL-URL:https://gobatroun.com
X-WR-CALDESC:Events for Go Batroun
REFRESH-INTERVAL;VALUE=DURATION:PT1H
X-Robots-Tag:noindex
X-PUBLISHED-TTL:PT1H
BEGIN:VTIMEZONE
TZID:Asia/Beirut
BEGIN:DAYLIGHT
TZOFFSETFROM:+0200
TZOFFSETTO:+0300
TZNAME:EEST
DTSTART:20240330T220000
END:DAYLIGHT
BEGIN:STANDARD
TZOFFSETFROM:+0300
TZOFFSETTO:+0200
TZNAME:EET
DTSTART:20241026T210000
END:STANDARD
END:VTIMEZONE
BEGIN:VEVENT
DTSTART;TZID=Asia/Beirut:20241221T123000
DTEND;TZID=Asia/Beirut:20241221T200000
DTSTAMP:20260421T180736
CREATED:20241216T074332Z
LAST-MODIFIED:20241216T074332Z
UID:10006723-1734784200-1734811200@gobatroun.com
SUMMARY:Arnaoon Christmas Village
DESCRIPTION:Arnaoon Christmas Village \nThe magic of Christmas is ready to unfold at Arnaoon Village! Mark your calendars for a season filled with joy\, entertainment\, and festive charm. Swipe to explore our day and night schedule and plan your visit for a holiday experience you won’t forget. \nDates: December 14th till January 5th \nFor reservations\, please call: +961 03 342 502 or +961 76 884 461
URL:https://gobatroun.com/event/arnaoon-christmas-village/2024-12-21/
LOCATION:Arnaoon Village\, 7MCV+77 Batroun\, Batroun\, Lebanon
CATEGORIES:Performing Arts
ATTACH;FMTTYPE=image/jpeg:https://gobatroun.com/wp-content/uploads/2024/12/Arnaoon-Christmas-Village.jpg
ORGANIZER;CN="Arnaoon Village":MAILTO:arnaoon@arnaoonvillage.com
END:VEVENT
BEGIN:VEVENT
DTSTART;TZID=Asia/Beirut:20241221T150000
DTEND;TZID=Asia/Beirut:20241221T210000
DTSTAMP:20260421T180736
CREATED:20241210T094101Z
LAST-MODIFIED:20241210T094101Z
UID:10006705-1734793200-1734814800@gobatroun.com
SUMMARY:Assafina
DESCRIPTION:السفينة بالتعاون مع سايفرس يدعوكم للمعرض الميلادي ٢٠٢٤\nفي مركز السفينة – البترون\nيتضمن المعرض أعمال حرفية، هدايا وحلويات العيد\nنهار السبت ٢١ كانون الأول من الساعة ٣ ب.ظ للساعة ٩ المسا
URL:https://gobatroun.com/event/assafina/
LOCATION:Assafina Beit Om Alnour
CATEGORIES:Performing Arts
ATTACH;FMTTYPE=image/png:https://gobatroun.com/wp-content/uploads/2024/12/Assafina.png
END:VEVENT
BEGIN:VEVENT
DTSTART;TZID=Asia/Beirut:20241221T170000
DTEND;TZID=Asia/Beirut:20241221T170000
DTSTAMP:20260421T180736
CREATED:20241216T100925Z
LAST-MODIFIED:20241216T100925Z
UID:10006745-1734800400-1734800400@gobatroun.com
SUMMARY:Elf Disco Party with Kids Factory at Pine Roots
DESCRIPTION:Elf Disco Party with Kids Factory at Pine Roots \nChristmas in the Forest is here! \nJoin us at Pine Roots Batroun for magical moments brought to you by Kids Factory! \nWeekdays: Starting at 3 PM \nWeekends: Starting at 12 PM \nEnjoy Christmas activities\, arts & crafts\, slime\, beads\, cookie decorating\, and so much more! Plus\, don’t miss the unique multi-events happening throughout the week. \nWith access to the Playground and Playhouse\, making it a full day of festive family fun under the pines! \nMeet and Greet Santa Every Day at 5:00 pm\, no extra fees.
URL:https://gobatroun.com/event/elf-disco-party-with-kids-factory-at-pine-roots/
LOCATION:Pine Roots
CATEGORIES:Performing Arts
ATTACH;FMTTYPE=image/jpeg:https://gobatroun.com/wp-content/uploads/2024/12/December-17-24.jpg
END:VEVENT
BEGIN:VEVENT
DTSTART;TZID=Asia/Beirut:20241221T170000
DTEND;TZID=Asia/Beirut:20241221T200000
DTSTAMP:20260421T180736
CREATED:20241216T070110Z
LAST-MODIFIED:20241216T070110Z
UID:10006714-1734800400-1734811200@gobatroun.com
SUMMARY:Les Cosaques Chantant
DESCRIPTION:Les Cosaques Chantant \nLe 21 décembre\, préparez-vous pour une soirée magique remplie de musique\, de récits et de l’esprit de Noël ! \n18h – Les Cosaques Chantant\, un récital de Noël enchanteur présenté par la talentueuse Cheftaine Animation Sophie Nicolas. Laissez la magie des fêtes illuminer vos cœurs à travers de belles mélodies ! \n19h – La PREMIÈRE DU PREMIER FILM SDL Capucins\, Forever in December\, projeté au théâtre de l’école. \nNe manquez pas cette nuit de fête et de créativité exceptionnelle ! On vous attend nombreux ! \nCheftaine du Groupe : Cynthia Kassis +961 78 881 379 \nCheftaine Sophie Nicolas +961 70 770 344
URL:https://gobatroun.com/event/les-cosaques-chantant/
LOCATION:St. Joseph des Frères Capucins Batroun
CATEGORIES:Performing Arts
ATTACH;FMTTYPE=image/jpeg:https://gobatroun.com/wp-content/uploads/2024/12/December-21-Event.jpg
END:VEVENT
BEGIN:VEVENT
DTSTART;TZID=Asia/Beirut:20241221T190000
DTEND;TZID=Asia/Beirut:20241221T190000
DTSTAMP:20260421T180736
CREATED:20241216T081603Z
LAST-MODIFIED:20241216T081725Z
UID:10006740-1734807600-1734807600@gobatroun.com
SUMMARY:الصلاة الموحّدة
DESCRIPTION:الصلاة الموحّدة \nلأخوية الفرسان \n“هلموا نتبع النجم ” \nالسبت 21 كانون الأول الساعة : 7:00 مساء في كنيسة مار سمعان – العمودي بقسميا
URL:https://gobatroun.com/event/%d8%a7%d9%84%d8%b5%d9%84%d8%a7%d8%a9-%d8%a7%d9%84%d9%85%d9%88%d8%ad%d9%91%d8%af%d8%a9/
LOCATION:رعية مار سمعان العمودي – بقسميا\, 7Q28+M9M\, Boqsmaiya\, Boqsmaiya\, Lebanon
CATEGORIES:Community
ATTACH;FMTTYPE=image/jpeg:https://gobatroun.com/wp-content/uploads/2024/12/December-21-Event-1.jpg
END:VEVENT
BEGIN:VEVENT
DTSTART;TZID=Asia/Beirut:20241221T190000
DTEND;TZID=Asia/Beirut:20241221T200000
DTSTAMP:20260421T180736
CREATED:20241216T072626Z
LAST-MODIFIED:20241216T072626Z
UID:10006715-1734807600-1734811200@gobatroun.com
SUMMARY:Forever in December
DESCRIPTION:A story of friendship\, wishes\, and the magic that binds us together. \nDirected with heart and vision by our Media Chief\, Camille Roukos. \nJoin us on December 21 at 7 PM at the school theater for a December to remember\, forever.
URL:https://gobatroun.com/event/forever-in-december/
LOCATION:St. Joseph des Frères Capucins Batroun
CATEGORIES:Performing Arts
ATTACH;FMTTYPE=image/jpeg:https://gobatroun.com/wp-content/uploads/2024/12/December-21-Theater.jpg
END:VEVENT
BEGIN:VEVENT
DTSTART;TZID=Asia/Beirut:20241221T210000
DTEND;TZID=Asia/Beirut:20241221T210000
DTSTAMP:20260421T180736
CREATED:20241206T074154Z
LAST-MODIFIED:20241206T074154Z
UID:10006700-1734814800-1734814800@gobatroun.com
SUMMARY:BIBB FM MCH at Leyl
DESCRIPTION:BIBB\, FM\, and MCH are bringing the heat on December 14 & 21 \nJoin for two nights of crazy commercial music \nRSVP : +961 76 181 999 \n 
URL:https://gobatroun.com/event/bibb-fm-mch-at-leyl/2024-12-21/
LOCATION:Léyl
CATEGORIES:Performing Arts
ATTACH;FMTTYPE=image/jpeg:https://gobatroun.com/wp-content/uploads/2024/12/December-14-and-21.jpg
END:VEVENT
BEGIN:VEVENT
DTSTART;TZID=Asia/Beirut:20241221T220000
DTEND;TZID=Asia/Beirut:20241221T220000
DTSTAMP:20260421T180736
CREATED:20241108T073310Z
LAST-MODIFIED:20241219T065446Z
UID:10006653-1734818400-1734818400@gobatroun.com
SUMMARY:Mario Hadchiti live at Taiga Club
DESCRIPTION:Mario Hadchiti featuring Dj Ralph\, Saturday Night \nStarting at 10:00 PM with DjRalph \n 
URL:https://gobatroun.com/event/mario-hadchiti-live-at-taiga-club/
LOCATION:TAIGA BATROUN CLUB\, 7M46+23 Batroun\, Batroun\, Lebanon
CATEGORIES:Performing Arts
ATTACH;FMTTYPE=image/jpeg:https://gobatroun.com/wp-content/uploads/2024/11/November-30-Event-4.jpg
GEO:34.255082353874;35.660243950604
X-APPLE-STRUCTURED-LOCATION;VALUE=URI;X-ADDRESS=TAIGA BATROUN CLUB 7M46+23 Batroun Batroun Lebanon;X-APPLE-RADIUS=500;X-TITLE=7M46+23 Batroun:geo:35.660243950604,34.255082353874
END:VEVENT
BEGIN:VEVENT
DTSTART;TZID=Asia/Beirut:20241221T223000
DTEND;TZID=Asia/Beirut:20241221T223000
DTSTAMP:20260421T180736
CREATED:20241113T080029Z
LAST-MODIFIED:20250108T071510Z
UID:10006659-1734820200-1734820200@gobatroun.com
SUMMARY:Adam live at Tramway
DESCRIPTION:Adam live at Tramway \nStarting 10:30 pm \nFor Reservations +961 03 514 101
URL:https://gobatroun.com/event/adam-live-at-tramway/
LOCATION:Tramway Gastro Pub\, 7M45+CQ Batroun\, Batroun\, Lebanon
CATEGORIES:Performing Arts
ATTACH;FMTTYPE=image/jpeg:https://gobatroun.com/wp-content/uploads/2024/11/January-11.jpg
END:VEVENT
END:VCALENDAR