BEGIN:VCALENDAR
VERSION:2.0
PRODID:-//Go Batroun - ECPv6.14.2//NONSGML v1.0//EN
CALSCALE:GREGORIAN
METHOD:PUBLISH
X-ORIGINAL-URL:https://gobatroun.com
X-WR-CALDESC:Events for Go Batroun
REFRESH-INTERVAL;VALUE=DURATION:PT1H
X-Robots-Tag:noindex
X-PUBLISHED-TTL:PT1H
BEGIN:VTIMEZONE
TZID:Asia/Beirut
BEGIN:DAYLIGHT
TZOFFSETFROM:+0200
TZOFFSETTO:+0300
TZNAME:EEST
DTSTART:20240330T220000
END:DAYLIGHT
BEGIN:STANDARD
TZOFFSETFROM:+0300
TZOFFSETTO:+0200
TZNAME:EET
DTSTART:20241026T210000
END:STANDARD
END:VTIMEZONE
BEGIN:VEVENT
DTSTART;TZID=Asia/Beirut:20241213T150000
DTEND;TZID=Asia/Beirut:20241213T180000
DTSTAMP:20260421T202627
CREATED:20241211T091531Z
LAST-MODIFIED:20241211T091531Z
UID:10006711-1734102000-1734112800@gobatroun.com
SUMMARY:Bûche de Noel Baking at Dar Al Mona
DESCRIPTION:Come Bake your favorite Christmas dessert with Mimi this Friday. Learn how to prepare and decorate a delicious Bûche De Noël and get to know.
URL:https://gobatroun.com/event/buche-de-noel-baking-at-dar-al-mona/
LOCATION:Dar Al Mona\, 7M35+PM Batroun\, Batroun\, Lebanon
CATEGORIES:Performing Arts
ATTACH;FMTTYPE=image/jpeg:https://gobatroun.com/wp-content/uploads/2024/12/December-13-Event-2.jpg
GEO:34.254368398216;35.659186434674
X-APPLE-STRUCTURED-LOCATION;VALUE=URI;X-ADDRESS=Dar Al Mona 7M35+PM Batroun Batroun Lebanon;X-APPLE-RADIUS=500;X-TITLE=7M35+PM Batroun:geo:35.659186434674,34.254368398216
END:VEVENT
BEGIN:VEVENT
DTSTART;TZID=Asia/Beirut:20241213T200000
DTEND;TZID=Asia/Beirut:20241213T200000
DTSTAMP:20260421T202627
CREATED:20241211T065858Z
LAST-MODIFIED:20241211T065858Z
UID:10006706-1734120000-1734120000@gobatroun.com
SUMMARY:Paint & Sip
DESCRIPTION:Paint & Sip \nJoin for a creative evening at our Batroun atelier! Sip on exquisite IXSIR red wine as you paint your own personalized tote bag in a cozy\, inspiring setting. \nLimited seats are available\, so grab your spot now and let’s toast to art\, wine\, and good vibes! \nEntry Fee 25$
URL:https://gobatroun.com/event/paint-sip/
LOCATION:Bassem Alwan Art\, 7M34+QXW\, Batroun\, Lebanon
CATEGORIES:Performing Arts
ATTACH;FMTTYPE=image/jpeg:https://gobatroun.com/wp-content/uploads/2024/12/December-13-Event.jpg
END:VEVENT
BEGIN:VEVENT
DTSTART;TZID=Asia/Beirut:20241213T203000
DTEND;TZID=Asia/Beirut:20241213T203000
DTSTAMP:20260421T202627
CREATED:20241211T084851Z
LAST-MODIFIED:20241218T100111Z
UID:10006710-1734121800-1734121800@gobatroun.com
SUMMARY:Hangover live at Hangloose
DESCRIPTION:It’s Hangover Friday\, the 20th! \nRoland and SÄSS are taking over with funk\, disco\, and global beats. Don’t miss the groove! \nRSVP +961 71 872 417
URL:https://gobatroun.com/event/hangover-live-at-hangloose/
LOCATION:HANGLOOSE\, 6MW6+PQ Batroun\, Batroun\, Lebanon
CATEGORIES:Performing Arts
ATTACH;FMTTYPE=image/jpeg:https://gobatroun.com/wp-content/uploads/2024/12/December-20-Event-2.jpg
ORGANIZER;CN="HANGLOOSE":MAILTO:contact@info.com
GEO:34.246771332534;35.661930198875
X-APPLE-STRUCTURED-LOCATION;VALUE=URI;X-ADDRESS=HANGLOOSE 6MW6+PQ Batroun Batroun Lebanon;X-APPLE-RADIUS=500;X-TITLE=6MW6+PQ Batroun:geo:35.661930198875,34.246771332534
END:VEVENT
END:VCALENDAR