BEGIN:VCALENDAR
VERSION:2.0
PRODID:-//Go Batroun - ECPv6.14.2//NONSGML v1.0//EN
CALSCALE:GREGORIAN
METHOD:PUBLISH
X-ORIGINAL-URL:https://gobatroun.com
X-WR-CALDESC:Events for Go Batroun
REFRESH-INTERVAL;VALUE=DURATION:PT1H
X-Robots-Tag:noindex
X-PUBLISHED-TTL:PT1H
BEGIN:VTIMEZONE
TZID:Asia/Beirut
BEGIN:DAYLIGHT
TZOFFSETFROM:+0200
TZOFFSETTO:+0300
TZNAME:EEST
DTSTART:20240330T220000
END:DAYLIGHT
BEGIN:STANDARD
TZOFFSETFROM:+0300
TZOFFSETTO:+0200
TZNAME:EET
DTSTART:20241026T210000
END:STANDARD
END:VTIMEZONE
BEGIN:VEVENT
DTSTART;TZID=Asia/Beirut:20241205T170000
DTEND;TZID=Asia/Beirut:20241205T170000
DTSTAMP:20260421T234423
CREATED:20241203T102416Z
LAST-MODIFIED:20241203T102416Z
UID:10006691-1733418000-1733418000@gobatroun.com
SUMMARY:ميلاد القربان
DESCRIPTION:ميلاد القربان \nتدعوكم الحركة الرسولية المريمية الى ساعة سجود \nالخميس 5 كانون الأول \n\n\nمباشرة بعد قداس الساعة 5 مساء\n كاتدرائية مار اسطفان – البترون
URL:https://gobatroun.com/event/%d9%85%d9%8a%d9%84%d8%a7%d8%af-%d8%a7%d9%84%d9%82%d8%b1%d8%a8%d8%a7%d9%86/
LOCATION:St. Stephen Cathedral\, 7M45+RFX \, Batroun\, Batroun\, Lebanon
CATEGORIES:Community
ATTACH;FMTTYPE=image/jpeg:https://gobatroun.com/wp-content/uploads/2024/12/December-5-Events.jpg
GEO:34.257127548512;35.658741221432
X-APPLE-STRUCTURED-LOCATION;VALUE=URI;X-ADDRESS=St. Stephen Cathedral 7M45+RFX  Batroun Batroun Lebanon;X-APPLE-RADIUS=500;X-TITLE=7M45+RFX \, Batroun:geo:35.658741221432,34.257127548512
END:VEVENT
END:VCALENDAR