BEGIN:VCALENDAR
VERSION:2.0
PRODID:-//Go Batroun - ECPv6.14.2//NONSGML v1.0//EN
CALSCALE:GREGORIAN
METHOD:PUBLISH
X-ORIGINAL-URL:https://gobatroun.com
X-WR-CALDESC:Events for Go Batroun
REFRESH-INTERVAL;VALUE=DURATION:PT1H
X-Robots-Tag:noindex
X-PUBLISHED-TTL:PT1H
BEGIN:VTIMEZONE
TZID:Asia/Beirut
BEGIN:DAYLIGHT
TZOFFSETFROM:+0200
TZOFFSETTO:+0300
TZNAME:EEST
DTSTART:20240330T220000
END:DAYLIGHT
BEGIN:STANDARD
TZOFFSETFROM:+0300
TZOFFSETTO:+0200
TZNAME:EET
DTSTART:20241026T210000
END:STANDARD
END:VTIMEZONE
BEGIN:VEVENT
DTSTART;TZID=Asia/Beirut:20241203T080000
DTEND;TZID=Asia/Beirut:20241203T170000
DTSTAMP:20260420T223843
CREATED:20241203T074344Z
LAST-MODIFIED:20241203T074344Z
UID:10006688-1733212800-1733245200@gobatroun.com
SUMMARY:أفضل زي مخترع
DESCRIPTION:أفضل زي مخترع \nعائلة الأخويات بقسميا \nالجمعة 6 كانون الأول \nالساعة 7:00 مساء \nفي صالة رعية مار سمعان العامودي بقسميا \nكلفة الإشتراك : 100000 ل.ل \nللحجز : نور شهيد \n+961 76 850 744 \n+961 03 031 038 \n 
URL:https://gobatroun.com/event/%d8%a3%d9%81%d8%b6%d9%84-%d8%b2%d9%8a-%d9%85%d8%ae%d8%aa%d8%b1%d8%b9/
LOCATION:Boxmaya\, 7Q26+9QP Boxmaya\, Boxmaya\, Lebanon
CATEGORIES:Performing Arts
ATTACH;FMTTYPE=image/jpeg:https://gobatroun.com/wp-content/uploads/2024/12/December-6-Event.jpg
END:VEVENT
BEGIN:VEVENT
DTSTART;TZID=Asia/Beirut:20241203T170000
DTEND;TZID=Asia/Beirut:20241203T220000
DTSTAMP:20260420T223843
CREATED:20241203T070517Z
LAST-MODIFIED:20241203T070517Z
UID:10006687-1733245200-1733263200@gobatroun.com
SUMMARY:عيد القديسة بربارة St Barbe
DESCRIPTION:Ste Barbe 2024-2025\nRejoignez-nous ce mardi 3 décembre 2024 pour célébrer la Sainte Barbe ensemble !\nLieu : Batroun\, près de la banque IBL\, à partir de 17h.\nProgramme :\n• Distribution de blé en l’honneur de cette belle tradition.\n• Délicieuses sucreries : pop-corn\, croissant\, et bien plus encore ! \nVenez partager un moment chaleureux et festif. On vous attend nombreux pour perpétuer cette belle fête
URL:https://gobatroun.com/event/%d8%b9%d9%8a%d8%af-%d8%a7%d9%84%d9%82%d8%af%d9%8a%d8%b3%d8%a9-%d8%a8%d8%b1%d8%a8%d8%a7%d8%b1%d8%a9-st-barbe/
LOCATION:Batroun\, 6MX6+79V Batroun\, Batroun\, 1400\, Lebanon
CATEGORIES:Performing Arts
ATTACH;FMTTYPE=image/jpeg:https://gobatroun.com/wp-content/uploads/2024/12/December-3-Events.jpg
GEO:34.248237811542;35.660916328184
X-APPLE-STRUCTURED-LOCATION;VALUE=URI;X-ADDRESS=Batroun 6MX6+79V Batroun Batroun 1400 Lebanon;X-APPLE-RADIUS=500;X-TITLE=6MX6+79V Batroun:geo:35.660916328184,34.248237811542
END:VEVENT
END:VCALENDAR