BEGIN:VCALENDAR
VERSION:2.0
PRODID:-//Go Batroun - ECPv6.14.2//NONSGML v1.0//EN
CALSCALE:GREGORIAN
METHOD:PUBLISH
X-WR-CALNAME:Go Batroun
X-ORIGINAL-URL:https://gobatroun.com
X-WR-CALDESC:Events for Go Batroun
REFRESH-INTERVAL;VALUE=DURATION:PT1H
X-Robots-Tag:noindex
X-PUBLISHED-TTL:PT1H
BEGIN:VTIMEZONE
TZID:Asia/Beirut
BEGIN:DAYLIGHT
TZOFFSETFROM:+0200
TZOFFSETTO:+0300
TZNAME:EEST
DTSTART:20240330T220000
END:DAYLIGHT
BEGIN:STANDARD
TZOFFSETFROM:+0300
TZOFFSETTO:+0200
TZNAME:EET
DTSTART:20241026T210000
END:STANDARD
END:VTIMEZONE
BEGIN:VEVENT
DTSTART;TZID=Asia/Beirut:20241201T070000
DTEND;TZID=Asia/Beirut:20241201T070000
DTSTAMP:20260421T131814
CREATED:20241129T093653Z
LAST-MODIFIED:20241129T093653Z
UID:10006685-1733036400-1733036400@gobatroun.com
SUMMARY:Cedar Wonderland Hike with Routes
DESCRIPTION:Cedar Wonderland Hike with Routes \nThis Sunday\, we’re thrilled to enjoy a spontaneous snow hike on the first day of winter!\nJoin us for an unforgettable adventure through a breathtaking cedar forest blanketed in fresh light snow.\nStarting from Hadath al-Jibbeh village\, we’ll hike through serene landscapes and ascend to the summit near the iconic Patriarch Room.\nFrom there\, we’ll descend toward the magical cedars of Niha and finish in Niha village\, where we will enjoy warm bites at a locals house. \nGet ready to immerse yourself in the beauty of Lebanon’s early days of winter wonderland without the need for snowshoeing equipment. \nEvent Details : \n* DATE: Sunday\, December 1st. \n* MEETING POINT: \nBeirut al Nahar Building: 7:00 AM.\nBatroun\, Routes Bike Rental Station: 8:00 AM. \nPS: Punctuality is highly important! \n* HIKE DEPARTURE: 9:30 AM.\n* HIKE DURATION: 4 hours\n* HIKE DIFFICULTY: Moderate- Adventurous\n* DISTANCE: 14 KM \nBE PREPARED: \nBring at least 1.5 liters of water\, light snacks to boost your energy (such as dried fruits and nuts)\, warm hiking clothes\, waterproof hiking boots\, sunscreen\, sunglasses & a winter jacket. \nYou can book by calling\nRoutes Team +961 76 338 762 -———————————————————————————— \nEvent Participation Fees : \n* 25$/person.\n* 20$/person for Groups of 4 and More. \nThis event will include: Transportation from and to Beirut\, Routes Guides\, Local Guide\, First aid Kit\, Escort Truck in case of emergency & Photos. \nMaximum number of participants for this Hike is 30. \nSee you \nDISCLAIMER: \nEvery participant assumes all possible risks and is responsible for his/her own safety and security.
URL:https://gobatroun.com/event/cedar-wonderland-hike-with-routes/
LOCATION:Routes
CATEGORIES:Performing Arts
ATTACH;FMTTYPE=image/jpeg:https://gobatroun.com/wp-content/uploads/2024/11/December-1st-Event.jpg
END:VEVENT
END:VCALENDAR