BEGIN:VCALENDAR
VERSION:2.0
PRODID:-//Go Batroun - ECPv6.14.2//NONSGML v1.0//EN
CALSCALE:GREGORIAN
METHOD:PUBLISH
X-ORIGINAL-URL:https://gobatroun.com
X-WR-CALDESC:Events for Go Batroun
REFRESH-INTERVAL;VALUE=DURATION:PT1H
X-Robots-Tag:noindex
X-PUBLISHED-TTL:PT1H
BEGIN:VTIMEZONE
TZID:Asia/Beirut
BEGIN:DAYLIGHT
TZOFFSETFROM:+0200
TZOFFSETTO:+0300
TZNAME:EEST
DTSTART:20240330T220000
END:DAYLIGHT
BEGIN:STANDARD
TZOFFSETFROM:+0300
TZOFFSETTO:+0200
TZNAME:EET
DTSTART:20241026T210000
END:STANDARD
END:VTIMEZONE
BEGIN:VEVENT
DTSTART;TZID=Asia/Beirut:20241122T090000
DTEND;TZID=Asia/Beirut:20241122T110000
DTSTAMP:20260421T132227
CREATED:20241113T070409Z
LAST-MODIFIED:20241113T070409Z
UID:10006656-1732266000-1732273200@gobatroun.com
SUMMARY:مسيرة حج الى ضريح القديسة رفقا
DESCRIPTION:مسيرة حج الى ضريح القديسة رفقا في دير مار يوسف جربتا لمناسبة عيد الإستقلال \nالجمعة 22 تشرين الثاني 2023 \n9:00 لقاء المؤمنين الوافدين من الرعايا في ساحة المواقف الكبيرة \n9:15 انطلاق مسيرة صلاة نحو كنيسة الدير \n10:00 قداس يحتفل به سيادة راعي الأبرشية منير خير الله السامي الإحترام مع الكهنة \n11:00 ختام اللقاء في صالون الدير \nثقتنا كبيرة بالرب يسوع المسيح ملك السلام ان يستجيب صلواتتا ويمنحنا نعمة السلام
URL:https://gobatroun.com/event/%d9%85%d8%b3%d9%8a%d8%b1%d8%a9-%d8%ad%d8%ac-%d8%a7%d9%84%d9%89-%d8%b6%d8%b1%d9%8a%d8%ad-%d8%a7%d9%84%d9%82%d8%af%d9%8a%d8%b3%d8%a9-%d8%b1%d9%81%d9%82%d8%a7/
LOCATION:Jrabta\, Lebanon
CATEGORIES:Community
ATTACH;FMTTYPE=image/jpeg:https://gobatroun.com/wp-content/uploads/2024/11/22-event.jpg
END:VEVENT
BEGIN:VEVENT
DTSTART;TZID=Asia/Beirut:20241122T120000
DTEND;TZID=Asia/Beirut:20241122T200000
DTSTAMP:20260421T132227
CREATED:20241118T072902Z
LAST-MODIFIED:20241118T072902Z
UID:10006668-1732276800-1732305600@gobatroun.com
SUMMARY:Independence Day with Pine Roots
DESCRIPTION:Independence Day with Pine Roots \nCelebrate Independence Day at Pine Roots Batroun by Kids Factory this Friday\, 22 November\, from 12 PM to 8 PM! \nFun-filled activities for kids include: \n*Playground access \n*Lebanese crafts \n*Traditional paper coloring \n*Face painting \n*Tabbouleh making \n*Planting \n*Enjoying a Lebanese traditional treat \nTickets: 20$/kid (Adults enter for FREE) \nHungry for more? Don’t miss our Saj station (available as an extra option). \nJoin for a day full of joy\, heritage\, and fun! \n  \n 
URL:https://gobatroun.com/event/independence-day-with-pine-roots/
LOCATION:Pine Roots
CATEGORIES:Performing Arts
ATTACH;FMTTYPE=image/jpeg:https://gobatroun.com/wp-content/uploads/2024/11/November-22-Event.jpg
END:VEVENT
BEGIN:VEVENT
DTSTART;TZID=Asia/Beirut:20241122T190000
DTEND;TZID=Asia/Beirut:20241122T190000
DTSTAMP:20260421T132227
CREATED:20241121T122710Z
LAST-MODIFIED:20241121T123445Z
UID:10006670-1732302000-1732302000@gobatroun.com
SUMMARY:Drink & Draw at The Hub Club
DESCRIPTION:Drink & Draw at The Hub Club \nWe’re happy to start welcoming you on Fridays for The Hub Club\, where we use our corner to unwind\, drink and create something cool. No complications. No overthinking. Let’s drink and draw this week \nThe Corner Hub\, Batroun \n7 pm \n20$ \nReserve your spot +961 81 868 947
URL:https://gobatroun.com/event/drink-draw-at-the-hub-club/
LOCATION:The Corner Hub\, 7M45+FH Batroun\, Batroun\, Lebanon
CATEGORIES:Performing Arts
ATTACH;FMTTYPE=image/jpeg:https://gobatroun.com/wp-content/uploads/2024/11/22-November-Event.jpg
END:VEVENT
BEGIN:VEVENT
DTSTART;TZID=Asia/Beirut:20241122T203000
DTEND;TZID=Asia/Beirut:20241122T203000
DTSTAMP:20260421T132227
CREATED:20241121T130827Z
LAST-MODIFIED:20241121T130921Z
UID:10006672-1732307400-1732307400@gobatroun.com
SUMMARY:Hang Over at Hangloose
DESCRIPTION:Hang Over at Hangloose \nEnjoy the best of disco\, funk\, and house with SÄSS\, along with house & dance beats by Jimmy Dib. \nNight kicks off at 8:30 PM! \nRSVP: +961 71 872 417.
URL:https://gobatroun.com/event/hang-over-at-hangloose/
LOCATION:HANGLOOSE\, 6MW6+PQ Batroun\, Batroun\, Lebanon
CATEGORIES:Performing Arts
ATTACH;FMTTYPE=image/jpeg:https://gobatroun.com/wp-content/uploads/2024/11/November-22-1.jpg
ORGANIZER;CN="HANGLOOSE":MAILTO:contact@info.com
GEO:34.246771332534;35.661930198875
X-APPLE-STRUCTURED-LOCATION;VALUE=URI;X-ADDRESS=HANGLOOSE 6MW6+PQ Batroun Batroun Lebanon;X-APPLE-RADIUS=500;X-TITLE=6MW6+PQ Batroun:geo:35.661930198875,34.246771332534
END:VEVENT
BEGIN:VEVENT
DTSTART;TZID=Asia/Beirut:20241122T223000
DTEND;TZID=Asia/Beirut:20241122T223000
DTSTAMP:20260421T132227
CREATED:20231115T131108Z
LAST-MODIFIED:20241121T125802Z
UID:10005174-1732314600-1732314600@gobatroun.com
SUMMARY:Elie Kallas live at Tramway Restaurant
DESCRIPTION:Elie Kallas live at Tramway Restaurant \nFor Reservations +961 03 514 101
URL:https://gobatroun.com/event/elie-kallas-at-tramway-restaurant/
LOCATION:Tramway Gastro Pub\, 7M45+CQ Batroun\, Batroun\, Lebanon
CATEGORIES:Performing Arts
ATTACH;FMTTYPE=image/jpeg:https://gobatroun.com/wp-content/uploads/2023/11/November-22.jpg
END:VEVENT
END:VCALENDAR