BEGIN:VCALENDAR
VERSION:2.0
PRODID:-//Go Batroun - ECPv6.14.2//NONSGML v1.0//EN
CALSCALE:GREGORIAN
METHOD:PUBLISH
X-ORIGINAL-URL:https://gobatroun.com
X-WR-CALDESC:Events for Go Batroun
REFRESH-INTERVAL;VALUE=DURATION:PT1H
X-Robots-Tag:noindex
X-PUBLISHED-TTL:PT1H
BEGIN:VTIMEZONE
TZID:Asia/Beirut
BEGIN:DAYLIGHT
TZOFFSETFROM:+0200
TZOFFSETTO:+0300
TZNAME:EEST
DTSTART:20240330T220000
END:DAYLIGHT
BEGIN:STANDARD
TZOFFSETFROM:+0300
TZOFFSETTO:+0200
TZNAME:EET
DTSTART:20241026T210000
END:STANDARD
END:VTIMEZONE
BEGIN:VEVENT
DTSTART;TZID=Asia/Beirut:20241116T073000
DTEND;TZID=Asia/Beirut:20241116T160000
DTSTAMP:20260421T080752
CREATED:20241106T070635Z
LAST-MODIFIED:20241106T070635Z
UID:10006651-1731742200-1731772800@gobatroun.com
SUMMARY:Hiking Chatine to Tannourine
DESCRIPTION:Hiking Chatine to Tannourine \nJoin for yet another beautiful day celebrating our Lebanon in its rural splendor and traditions. \nStroll the village of Chatine and hear stories along the way\, then hike the old pathway from the 19th century carved in the cliff all the way to Tannourine\, passing by beautiful water mills by the river. \nThen sit for a delightful brunch of saj specialities with arak and wine before heading to the village square of Tannourine\, visiting the church of the Assumption and the medieval church of Saint Challita. \nAnd finish the beautiful day with a peaceful and harmonious visit of the convent of Saint Anthony in Houb\, perched on a rock overlooking a breathtaking view. \nExpect surprises too! \nDate: Saturday November 16\nDeparture time : 07.30 from Beirut\nReturn: 16.00 approximately \nPrice per person: 35$ including brunch\, drinks\, guiding and transportation.\n20$ kids from 7-12 (hike not suited for younger children). \nHurry up and book mow on +961 70 302 833\, Places are limited.
URL:https://gobatroun.com/event/hiking-chatine-to-tannourine/
LOCATION:The Village of Chatine\, 5VRP+58 Chatin\, Chatin\, Lebanon
CATEGORIES:Sports
ATTACH;FMTTYPE=image/jpeg:https://gobatroun.com/wp-content/uploads/2024/11/November-16-Event.jpg
END:VEVENT
BEGIN:VEVENT
DTSTART;TZID=Asia/Beirut:20241116T090000
DTEND;TZID=Asia/Beirut:20241116T120000
DTSTAMP:20260421T080752
CREATED:20241111T065223Z
LAST-MODIFIED:20241111T065223Z
UID:10006654-1731747600-1731758400@gobatroun.com
SUMMARY:Tannourine Cedars Reserve Event
DESCRIPTION:Tannourine Cedars Reserve Event \nفي اطار مشروع “الحفاظ على الطيور والثدييات آكلات اللحوم للسيطرة على اعداد القوارض في ظل التغيّر المناخي” التي تنفذه جمعية البيئة تنور ونور بالتعاون مع محمية أرز تنورين الطبيعية وجمعية حماية الطيور في لبنان والممول من المرفق البيئة العالمي، \nتدعوكم جمعية البيئة “تنور ونور” الى ندوة تحت عنوان:\n” دور الطيور في مكافحة الآفات الزراعية ”\nالزمان: السبت ١٦ تشرين الثاني ٢٠٢٤ الساعة التاسعة صباحا\nالمكان: مدخل محمية أرز تنورين (مطعم ايكو داليدا) \nالبرنامج: \n9:00 – 9:30 تسجيل الحضور ومقدمة حول المشروع \n9:30 – 10:15 اهمية الطيور الجارحة في مكافحة أضرار القوارض مع خبير الحياة البرية شادي العنداري\n10:15 – 11:00 طيور لبنان، تعريف بمركز الجمعية للعناية بالطيور المصابة مع د. ميشال صوّان (رئيس الجمعية اللبنانية للطيور المهاجرة) \n11:15 – 11:00 اسئلة واقتراحات \n11:15 _ 12:00\nالغداء \nلتسجيل الحضور والإستفسار قبل الاربعاء 13 تشرين الثاني على 03/223428 \n12:00-1:00\nللراغبين بالتطوع معنا بجمع الخراطيش من مواقع الصيد في محيط المحمية من ضمن مسابقة جمع خراطيش الصيد مع الجمعية اللبنانية للطيور المهاجرة \nسوى منحمي بيئتنا بظل هالازمات
URL:https://gobatroun.com/event/tannourine-cedars-reserve-event/
LOCATION:Tannourine Cedars Reserve
CATEGORIES:Community
ATTACH;FMTTYPE=image/jpeg:https://gobatroun.com/wp-content/uploads/2024/11/November-16.jpg
END:VEVENT
END:VCALENDAR