BEGIN:VCALENDAR
VERSION:2.0
PRODID:-//Go Batroun - ECPv6.14.2//NONSGML v1.0//EN
CALSCALE:GREGORIAN
METHOD:PUBLISH
X-ORIGINAL-URL:https://gobatroun.com
X-WR-CALDESC:Events for Go Batroun
REFRESH-INTERVAL;VALUE=DURATION:PT1H
X-Robots-Tag:noindex
X-PUBLISHED-TTL:PT1H
BEGIN:VTIMEZONE
TZID:Asia/Beirut
BEGIN:DAYLIGHT
TZOFFSETFROM:+0200
TZOFFSETTO:+0300
TZNAME:EEST
DTSTART:20240330T220000
END:DAYLIGHT
BEGIN:STANDARD
TZOFFSETFROM:+0300
TZOFFSETTO:+0200
TZNAME:EET
DTSTART:20241026T210000
END:STANDARD
END:VTIMEZONE
BEGIN:VEVENT
DTSTART;TZID=Asia/Beirut:20240928T083000
DTEND;TZID=Asia/Beirut:20240928T083000
DTSTAMP:20260422T004246
CREATED:20240926T080722Z
LAST-MODIFIED:20240926T080722Z
UID:10006636-1727512200-1727512200@gobatroun.com
SUMMARY:Paddle to Support with Routes
DESCRIPTION:Paddle to Support with Routes \nFinding moments of peace in challenging times is essential\, and nature is a wonderful way to heal. \nThis weekend\, join us for SUP & Kayak tours in Batroun to relax\, enjoy the outdoors\, and make a difference. \nAll profits will support displaced families in our community. \nRecharge\, reconnect\, and make an impact together! \nThis weekend’s schedule: \n• Tour 1 Friday Sunrise Sup & Kayak tour at 6:00 AM “Fun level”. \n• Tour 2 Friday Morning Sup & Kayak tour at 8:30 AM “Fun level”. \n• Tour 3 Saturday Sunrise Sup & Kayak tour at 6:00 AM “Fun level”. \n• Tour 4 Saturday Morning Sup & Kayak tour at 8:30 AM “Fun level”. \n• Tour 5 Sunday Sunrise Sup & Kayak tour at 6:00 AM “Fun level”. \n• Tour 6 Sunday Morning Sup & Kayak tour at 8:30 AM “Fun level”. \nWe’ll paddle for approximately 2 hours\, soaking in the tranquility of the water and the morning energy. Afterward\, we’ll gather by the beach at colonelreef for some relaxation and connection. \nEvents Participation Fees: \n* Stand Up Paddle 20$/Pers. \n* Kayak Double 15$/Pers (30$ Total). \nThese Events Include: \nStand up boards\, Kayaks\, Routes guides\, Basic paddling lesson\, Paddles. \nFor Reservation please contact Routes team or via WhatsApp +961 76 338 762 \nYou’ll also have the chance to spend the rest of the day exploring the city of Batroun and its many offerings. Let’s come together to enjoy nature and lend a hand to those who need it most. \n⚠️ Disclaimer: All tours are tentative and subject to cancellation due to sudden weather changes.
URL:https://gobatroun.com/event/paddle-to-support-with-routes/2024-09-28/2/
LOCATION:Routes
CATEGORIES:Community,Sports
ATTACH;FMTTYPE=image/jpeg:https://gobatroun.com/wp-content/uploads/2024/09/September-27-28-29.jpg
END:VEVENT
BEGIN:VEVENT
DTSTART;TZID=Asia/Beirut:20240928T100000
DTEND;TZID=Asia/Beirut:20240928T100000
DTSTAMP:20260422T004246
CREATED:20240918T123333Z
LAST-MODIFIED:20240918T123333Z
UID:10006629-1727517600-1727517600@gobatroun.com
SUMMARY:Caritas Event
DESCRIPTION:كل مرة عملتم هذا لواحد من إخوتي هؤلاء الصغار فلي عملتموه”(متى 35:25)” \nتتشرف رابطة كاريتاس لبنان اقليم البترون بدعوتكم الى مشاركتها ترويقة محبة يعود ريعها لدعم برنامج المساعدات في منطقة البترون \nالسبت 28 أيلول 2024 الساعة العاشرة من قبل الظهر \nمطعم راي البترون \nحضوركم يساهم في زرع الأمل والسعادة للكثيرين \nللحجز وتأكيد الحضور الإتصال على الأرقام \n+961 81 343 324 / +961 03 263 893 / +961 06 642 591 \nسعر البطاقة $20
URL:https://gobatroun.com/event/caritas-event/
LOCATION:Ray\, 7M34+9XW\, Batroun\, Batroun\, Lebanon
CATEGORIES:Community
ATTACH;FMTTYPE=image/jpeg:https://gobatroun.com/wp-content/uploads/2024/09/Caritas-Events.jpg
END:VEVENT
END:VCALENDAR