BEGIN:VCALENDAR
VERSION:2.0
PRODID:-//Go Batroun - ECPv6.14.2//NONSGML v1.0//EN
CALSCALE:GREGORIAN
METHOD:PUBLISH
X-WR-CALNAME:Go Batroun
X-ORIGINAL-URL:https://gobatroun.com
X-WR-CALDESC:Events for Go Batroun
REFRESH-INTERVAL;VALUE=DURATION:PT1H
X-Robots-Tag:noindex
X-PUBLISHED-TTL:PT1H
BEGIN:VTIMEZONE
TZID:Asia/Beirut
BEGIN:DAYLIGHT
TZOFFSETFROM:+0200
TZOFFSETTO:+0300
TZNAME:EEST
DTSTART:20240330T220000
END:DAYLIGHT
BEGIN:STANDARD
TZOFFSETFROM:+0300
TZOFFSETTO:+0200
TZNAME:EET
DTSTART:20241026T210000
END:STANDARD
END:VTIMEZONE
BEGIN:VEVENT
DTSTART;TZID=Asia/Beirut:20240913T093000
DTEND;TZID=Asia/Beirut:20240913T233000
DTSTAMP:20260421T011554
CREATED:20240909T082623Z
LAST-MODIFIED:20240909T082919Z
UID:10006604-1726219800-1726270200@gobatroun.com
SUMMARY:Ahliye Bma7aliyye
DESCRIPTION:St. Simon’s Church – Boxmanaya \n\nMusic\nFire\nArtistic Show\nChants\nFood\nDrinks\n\nFree Entrance \n 
URL:https://gobatroun.com/event/ahliye-bma7aliyye/
CATEGORIES:Community
ATTACH;FMTTYPE=image/png:https://gobatroun.com/wp-content/uploads/2024/09/ahliye-bma7aliye.png
END:VEVENT
BEGIN:VEVENT
DTSTART;TZID=Asia/Beirut:20240913T140000
DTEND;TZID=Asia/Beirut:20240913T233000
DTSTAMP:20260421T011554
CREATED:20240731T074844Z
LAST-MODIFIED:20240830T115116Z
UID:10006546-1726236000-1726270200@gobatroun.com
SUMMARY:Tannourine Spacefest 2024
DESCRIPTION:Get Ready for Spacefest 2024! \nMark your calendars\, tickets are launching on July 1st! This year\, we’re planning something truly amazing. And we are dedicating this year’s event to the beautiful nature that surrounds us\, where we enjoy our climbs\, hikes\, and everything in between. \nTo give back\, part of the proceeds will be donated to the Tannourine Cedar Reserve\, supporting biodiversity preservation efforts. Our festival heroes? The animals\, trees\, and plants of our wonderful nature \nSave the date (13\,14 & 15 of September)and be ready to snap up your tickets fast on July 1st. We can’t wait to share more with you! Until then\, stay tuned! \nCharacters by our talented friend @ebbquan \nSpacefest is an exciting festival that brings together outdoor enthusiasts\, adventurers\, and nature lovers to celebrate the wonders of nature and the thrill of adventure. Attendees can take part in climbing challenges\, from rope climbing to bouldering\, with routes for all skill levels. The festival also features guided hiking trails\, allowing participants to explore stunning landscapes and learn about local flora and fauna. Beyond the physical activities\, Spacefest offers a vibrant community experience with live music\, DJ jams\, delicious food\, refreshing drinks\, and lively parties\, creating opportunities to connect and make lasting memories. \nGrab your Tickets
URL:https://gobatroun.com/event/tannourine-spacefest-2024/2024-09-13/
LOCATION:Paul’s Haven\, 6V2J+4J Tannourine El Tahta\, Tannourine El Tahta\, Lebanon
CATEGORIES:Festivals|Performing Arts
ATTACH;FMTTYPE=image/jpeg:https://gobatroun.com/wp-content/uploads/2024/06/Tannourine-Spacefest-2024.jpg
GEO:34.200341016948;35.881539203477
X-APPLE-STRUCTURED-LOCATION;VALUE=URI;X-ADDRESS=Paul’s Haven 6V2J+4J Tannourine El Tahta Tannourine El Tahta Lebanon;X-APPLE-RADIUS=500;X-TITLE=6V2J+4J Tannourine El Tahta:geo:35.881539203477,34.200341016948
END:VEVENT
BEGIN:VEVENT
DTSTART;TZID=Asia/Beirut:20240913T150000
DTEND;TZID=Asia/Beirut:20240913T150000
DTSTAMP:20260421T011554
CREATED:20240910T080259Z
LAST-MODIFIED:20240910T080343Z
UID:10006609-1726239600-1726239600@gobatroun.com
SUMMARY:Christmas in the Sun
DESCRIPTION:Christmas in the Sun by Kids Factory x Batroun Funland \nInflatables \nSoap Soccer with Santa \nFoam Party \nColor & Water Fight \nCandy Hunt \nGift from Santa & Much more \nTicket: 20$/kid – 5$/Adult \nRSVP: +961 71 599 262
URL:https://gobatroun.com/event/christmas-in-the-sun/
LOCATION:Batroun Funland\, 6M93+4JP\, Tehoum\, Tehoum\, Lebanon
CATEGORIES:Performing Arts
ATTACH;FMTTYPE=image/jpeg:https://gobatroun.com/wp-content/uploads/2024/09/September-13th-1.jpg
END:VEVENT
BEGIN:VEVENT
DTSTART;TZID=Asia/Beirut:20240913T200000
DTEND;TZID=Asia/Beirut:20240913T200000
DTSTAMP:20260421T011554
CREATED:20240910T060238Z
LAST-MODIFIED:20240910T060652Z
UID:10006605-1726257600-1726257600@gobatroun.com
SUMMARY:Flame Centric Dinner at Vine
DESCRIPTION:Flame Centric Dinner at Vine\, where every dish brings smoky BBQ flavors from land and sea. \nA celebration of the seaon’s offerings \nLimited Seating \nRSVP +961 71 455 882
URL:https://gobatroun.com/event/flame-centric-dinner-at-vine/
LOCATION:Vine\, Smar Jbeil\, 6M9R+95 Smar Jbeil\, Smar Jbeil\, Lebanon
CATEGORIES:Performing Arts
ATTACH;FMTTYPE=image/jpeg:https://gobatroun.com/wp-content/uploads/2024/09/September-13th.jpg
END:VEVENT
BEGIN:VEVENT
DTSTART;TZID=Asia/Beirut:20240913T200000
DTEND;TZID=Asia/Beirut:20240913T200000
DTSTAMP:20260421T011554
CREATED:20240910T081006Z
LAST-MODIFIED:20240910T081006Z
UID:10006614-1726257600-1726257600@gobatroun.com
SUMMARY:Laho: This Week's Events Schedule
DESCRIPTION:Laho: This Week’s Events Schedule \nFriday 13   May Matar FT.GIO \nSaturday 14 Elie Dona \nSaturday 15 Elie Dona
URL:https://gobatroun.com/event/laho-this-weeks-events-schedule-4/2024-09-13/
LOCATION:Laho Rooftop\, 7M25+8G Batroun\, Batroun\, Lebanon
CATEGORIES:Performing Arts
ATTACH;FMTTYPE=image/jpeg:https://gobatroun.com/wp-content/uploads/2024/09/2nd-Week-Schedule.jpg
GEO:34.250857358408;35.658874045674
X-APPLE-STRUCTURED-LOCATION;VALUE=URI;X-ADDRESS=Laho Rooftop 7M25+8G Batroun Batroun Lebanon;X-APPLE-RADIUS=500;X-TITLE=7M25+8G Batroun:geo:35.658874045674,34.250857358408
END:VEVENT
BEGIN:VEVENT
DTSTART;TZID=Asia/Beirut:20240913T210000
DTEND;TZID=Asia/Beirut:20240913T210000
DTSTAMP:20260421T011554
CREATED:20240717T093111Z
LAST-MODIFIED:20240910T082836Z
UID:10006430-1726261200-1726261200@gobatroun.com
SUMMARY:Ghinwa Live at Omnia
DESCRIPTION:Ghinwa Live Performance at Omnia \nFor More info & Reservations +961 81 166 642
URL:https://gobatroun.com/event/ghinwa-live-at-omnia/
LOCATION:Omnia bistro bar\, 7M45+GQ Batroun\, Batroun\, Lebanon
CATEGORIES:Performing Arts
ATTACH;FMTTYPE=image/jpeg:https://gobatroun.com/wp-content/uploads/2024/07/September-13th.jpg
GEO:34.256282323463;35.65947578638
X-APPLE-STRUCTURED-LOCATION;VALUE=URI;X-ADDRESS=Omnia bistro bar 7M45+GQ Batroun Batroun Lebanon;X-APPLE-RADIUS=500;X-TITLE=7M45+GQ Batroun:geo:35.65947578638,34.256282323463
END:VEVENT
BEGIN:VEVENT
DTSTART;TZID=Asia/Beirut:20240913T210000
DTEND;TZID=Asia/Beirut:20240913T210000
DTSTAMP:20260421T011554
CREATED:20240912T075050Z
LAST-MODIFIED:20240912T080248Z
UID:10006625-1726261200-1726261200@gobatroun.com
SUMMARY:DJ Wili Live at Omnia
DESCRIPTION:DJ Wili Live at Omnia \nFor More Info & Reservations +961 81 166 642 \n 
URL:https://gobatroun.com/event/dj-wili-live-at-omnia/
LOCATION:Omnia bistro bar\, 7M45+GQ Batroun\, Batroun\, Lebanon
CATEGORIES:Performing Arts
ATTACH;FMTTYPE=image/jpeg:https://gobatroun.com/wp-content/uploads/2024/09/September-13th-event.jpg
GEO:34.256282323463;35.65947578638
X-APPLE-STRUCTURED-LOCATION;VALUE=URI;X-ADDRESS=Omnia bistro bar 7M45+GQ Batroun Batroun Lebanon;X-APPLE-RADIUS=500;X-TITLE=7M45+GQ Batroun:geo:35.65947578638,34.256282323463
END:VEVENT
BEGIN:VEVENT
DTSTART;TZID=Asia/Beirut:20240913T213000
DTEND;TZID=Asia/Beirut:20240913T213000
DTSTAMP:20260421T011554
CREATED:20240912T073521Z
LAST-MODIFIED:20240912T073521Z
UID:10006624-1726263000-1726263000@gobatroun.com
SUMMARY:Danton Live at Hangloose
DESCRIPTION:Danton Live at Hangloose \nRsvp +961 71 872 417 \nShow Starts at 21:30 \n 
URL:https://gobatroun.com/event/danton-live-at-hangloose/
LOCATION:HANGLOOSE\, 6MW6+PQ Batroun\, Batroun\, Lebanon
CATEGORIES:Performing Arts
ATTACH;FMTTYPE=image/jpeg:https://gobatroun.com/wp-content/uploads/2024/09/September-13th-2.jpg
ORGANIZER;CN="HANGLOOSE":MAILTO:contact@info.com
GEO:34.246771332534;35.661930198875
X-APPLE-STRUCTURED-LOCATION;VALUE=URI;X-ADDRESS=HANGLOOSE 6MW6+PQ Batroun Batroun Lebanon;X-APPLE-RADIUS=500;X-TITLE=6MW6+PQ Batroun:geo:35.661930198875,34.246771332534
END:VEVENT
END:VCALENDAR