BEGIN:VCALENDAR
VERSION:2.0
PRODID:-//Go Batroun - ECPv6.14.2//NONSGML v1.0//EN
CALSCALE:GREGORIAN
METHOD:PUBLISH
X-WR-CALNAME:Go Batroun
X-ORIGINAL-URL:https://gobatroun.com
X-WR-CALDESC:Events for Go Batroun
REFRESH-INTERVAL;VALUE=DURATION:PT1H
X-Robots-Tag:noindex
X-PUBLISHED-TTL:PT1H
BEGIN:VTIMEZONE
TZID:Asia/Beirut
BEGIN:DAYLIGHT
TZOFFSETFROM:+0200
TZOFFSETTO:+0300
TZNAME:EEST
DTSTART:20240330T220000
END:DAYLIGHT
BEGIN:STANDARD
TZOFFSETFROM:+0300
TZOFFSETTO:+0200
TZNAME:EET
DTSTART:20241026T210000
END:STANDARD
END:VTIMEZONE
BEGIN:VEVENT
DTSTART;TZID=Asia/Beirut:20240907T093000
DTEND;TZID=Asia/Beirut:20240907T110000
DTSTAMP:20260422T013346
CREATED:20240702T092153Z
LAST-MODIFIED:20240905T091034Z
UID:10006306-1725701400-1725706800@gobatroun.com
SUMMARY:Robotics Workshop
DESCRIPTION:Get your little innovators ready for a morning of robotic fun!  Join this Saturday from 9:30 to 11 AM for a hands-on workshop where kids aged 5+ can build\, code\, and play. \nFees: $15 per child + Discount for siblings \nDiscount for Siblings \nRSVP: +961 71 872 417
URL:https://gobatroun.com/event/robotics-workshop/
LOCATION:HANGLOOSE\, 6MW6+PQ Batroun\, Batroun\, Lebanon
CATEGORIES:Performing Arts
ATTACH;FMTTYPE=image/jpeg:https://gobatroun.com/wp-content/uploads/2024/07/September-7th-Robotics.jpg
ORGANIZER;CN="HANGLOOSE":MAILTO:contact@info.com
GEO:34.246771332534;35.661930198875
X-APPLE-STRUCTURED-LOCATION;VALUE=URI;X-ADDRESS=HANGLOOSE 6MW6+PQ Batroun Batroun Lebanon;X-APPLE-RADIUS=500;X-TITLE=6MW6+PQ Batroun:geo:35.661930198875,34.246771332534
END:VEVENT
BEGIN:VEVENT
DTSTART;TZID=Asia/Beirut:20240907T180000
DTEND;TZID=Asia/Beirut:20240907T180000
DTSTAMP:20260422T013346
CREATED:20240524T064949Z
LAST-MODIFIED:20240905T091559Z
UID:10006593-1725732000-1725732000@gobatroun.com
SUMMARY:Sunset Spritz
DESCRIPTION:Sunset Spritz! \nJoin us every Saturday from 6 PM till late for special cocktails and good vibes. Don’t miss out on the perfect way to kick off your weekend! \nRSVP: +961 71 872 417
URL:https://gobatroun.com/event/sunset-spritz/
LOCATION:HANGLOOSE\, 6MW6+PQ Batroun\, Batroun\, Lebanon
CATEGORIES:Performing Arts
ATTACH;FMTTYPE=image/jpeg:https://gobatroun.com/wp-content/uploads/2024/05/June-1st-Eventt.jpg
ORGANIZER;CN="HANGLOOSE":MAILTO:contact@info.com
GEO:34.246771332534;35.661930198875
X-APPLE-STRUCTURED-LOCATION;VALUE=URI;X-ADDRESS=HANGLOOSE 6MW6+PQ Batroun Batroun Lebanon;X-APPLE-RADIUS=500;X-TITLE=6MW6+PQ Batroun:geo:35.661930198875,34.246771332534
END:VEVENT
BEGIN:VEVENT
DTSTART;TZID=Asia/Beirut:20240907T190000
DTEND;TZID=Asia/Beirut:20240907T190000
DTSTAMP:20260422T013346
CREATED:20240903T071047Z
LAST-MODIFIED:20240903T071047Z
UID:10006579-1725735600-1725735600@gobatroun.com
SUMMARY:Amantes de La Musica at Blubay
DESCRIPTION:Amantes de La Musica at Blubay faeturing Kosta Kritikos\, Paula Habchi and Hasan Awada \nTickets
URL:https://gobatroun.com/event/amantes-de-la-musica-at-blubay/
LOCATION:Blu Bay Batroun\, 6MW6+QJ Batroun\, Batroun\, Lebanon
CATEGORIES:Performing Arts
ATTACH;FMTTYPE=image/jpeg:https://gobatroun.com/wp-content/uploads/2024/09/September-7th-Event.jpg
END:VEVENT
BEGIN:VEVENT
DTSTART;TZID=Asia/Beirut:20240907T190000
DTEND;TZID=Asia/Beirut:20240907T190000
DTSTAMP:20260422T013346
CREATED:20240905T090219Z
LAST-MODIFIED:20240905T090219Z
UID:10006592-1725735600-1725735600@gobatroun.com
SUMMARY:Vinyl Party عالسطيحة at Hangloose
DESCRIPTION:Vinyl Party عالسطيحة at Hangloose \nWith DJ Roland Ragi \n+961 71 872 417
URL:https://gobatroun.com/event/vinyl-party-%d8%b9%d8%a7%d9%84%d8%b3%d8%b7%d9%8a%d8%ad%d8%a9-at-hangloose/
LOCATION:HANGLOOSE\, 6MW6+PQ Batroun\, Batroun\, Lebanon
CATEGORIES:Performing Arts
ATTACH;FMTTYPE=image/jpeg:https://gobatroun.com/wp-content/uploads/2024/09/September-7th-1.jpg
ORGANIZER;CN="HANGLOOSE":MAILTO:contact@info.com
GEO:34.246771332534;35.661930198875
X-APPLE-STRUCTURED-LOCATION;VALUE=URI;X-ADDRESS=HANGLOOSE 6MW6+PQ Batroun Batroun Lebanon;X-APPLE-RADIUS=500;X-TITLE=6MW6+PQ Batroun:geo:35.661930198875,34.246771332534
END:VEVENT
BEGIN:VEVENT
DTSTART;TZID=Asia/Beirut:20240907T200000
DTEND;TZID=Asia/Beirut:20240907T200000
DTSTAMP:20260422T013346
CREATED:20240822T105309Z
LAST-MODIFIED:20240909T082756Z
UID:10006589-1725739200-1725739200@gobatroun.com
SUMMARY:Batroun Mediterranean Film Festival
DESCRIPTION:Batroun Mediterranean Film Festival \nFrom September 5 ( Opening Ceremony) to September 8 (Closing Ceremony and special screening) \n 
URL:https://gobatroun.com/event/batroun-mediterranean-film-festival/2024-09-07/
LOCATION:Diaspora Village\, 7M44+5WG 1400\, Batroun\, Batroun\, Lebanon
CATEGORIES:Festivals|Performing Arts
ATTACH;FMTTYPE=image/jpeg:https://gobatroun.com/wp-content/uploads/2024/08/Batroun-Film-Festival-2.jpg
GEO:34.255439713586;35.657307550695
X-APPLE-STRUCTURED-LOCATION;VALUE=URI;X-ADDRESS=Diaspora Village 7M44+5WG 1400 Batroun Batroun Lebanon;X-APPLE-RADIUS=500;X-TITLE=7M44+5WG 1400\, Batroun:geo:35.657307550695,34.255439713586
END:VEVENT
BEGIN:VEVENT
DTSTART;TZID=Asia/Beirut:20240907T200000
DTEND;TZID=Asia/Beirut:20240907T200000
DTSTAMP:20260422T013346
CREATED:20240905T071936Z
LAST-MODIFIED:20240905T072112Z
UID:10006585-1725739200-1725739200@gobatroun.com
SUMMARY:Live Music Event at Barrio67
DESCRIPTION:Live Music Event at Barrio67 featuring Gaby
URL:https://gobatroun.com/event/live-music-event-at-barrio67-2/
LOCATION:Barrio67
CATEGORIES:Performing Arts
ATTACH;FMTTYPE=image/jpeg:https://gobatroun.com/wp-content/uploads/2024/09/September-7th.jpg
END:VEVENT
BEGIN:VEVENT
DTSTART;TZID=Asia/Beirut:20240907T203000
DTEND;TZID=Asia/Beirut:20240907T203000
DTSTAMP:20260422T013346
CREATED:20240710T074648Z
LAST-MODIFIED:20240717T093840Z
UID:10006385-1725741000-1725741000@gobatroun.com
SUMMARY:Ahmad Ibrahim and Michel Najem at le Marin
DESCRIPTION:Ahmad Ibrahim and Michel Najem live at le Marin \nInfo and Reservation +961 03 328 678 or +961 06 744 016
URL:https://gobatroun.com/event/ahmad-ibrahim-and-michel-najem-at-le-marin/2024-09-07/
LOCATION:Le Marin\, 7M35+38 Batroun\, Batroun\, Lebanon
CATEGORIES:Performing Arts
ATTACH;FMTTYPE=image/jpeg:https://gobatroun.com/wp-content/uploads/2024/07/Saturday-Events.jpg
END:VEVENT
BEGIN:VEVENT
DTSTART;TZID=Asia/Beirut:20240907T203000
DTEND;TZID=Asia/Beirut:20240907T203000
DTSTAMP:20260422T013346
CREATED:20240730T055614Z
LAST-MODIFIED:20240903T063318Z
UID:10006463-1725741000-1725741000@gobatroun.com
SUMMARY:Jimmy Dib at Colonel Reef
DESCRIPTION:Jimmy Dib DJ Set at Colonel Reef \nSeptember 7th starting at 8:30 PM
URL:https://gobatroun.com/event/jimmy-dib-at-colonel-reef-7/
LOCATION:Colonel Reef\, 6MX5+R2 Batroun\, Batroun\, Lebanon
CATEGORIES:Performing Arts
ATTACH;FMTTYPE=image/jpeg:https://gobatroun.com/wp-content/uploads/2024/07/September-7th-Event.jpg
GEO:34.249604995751;35.657635266722
X-APPLE-STRUCTURED-LOCATION;VALUE=URI;X-ADDRESS=Colonel Reef 6MX5+R2 Batroun Batroun Lebanon;X-APPLE-RADIUS=500;X-TITLE=6MX5+R2 Batroun:geo:35.657635266722,34.249604995751
END:VEVENT
BEGIN:VEVENT
DTSTART;TZID=Asia/Beirut:20240907T203000
DTEND;TZID=Asia/Beirut:20240907T203000
DTSTAMP:20260422T013346
CREATED:20240820T063227Z
LAST-MODIFIED:20240820T063227Z
UID:10006522-1725741000-1725741000@gobatroun.com
SUMMARY:السهرة الموسيقية لمدرسة راهبات العائلة المقدسة
DESCRIPTION:السهرة الموسيقية لمدرسة راهبات العائلة المقدسة \n 
URL:https://gobatroun.com/event/%d8%a7%d9%84%d8%b3%d9%87%d8%b1%d8%a9-%d8%a7%d9%84%d9%85%d9%88%d8%b3%d9%8a%d9%82%d9%8a%d8%a9-%d9%84%d9%85%d8%af%d8%b1%d8%b3%d8%a9-%d8%b1%d8%a7%d9%87%d8%a8%d8%a7%d8%aa-%d8%a7%d9%84%d8%b9%d8%a7%d8%a6/
LOCATION:Eye Tannourine Hotel\, 6V7C+4V Tannourine El Tahta\, Tannourine El Tahta\, Lebanon
CATEGORIES:Performing Arts
ATTACH;FMTTYPE=image/jpeg:https://gobatroun.com/wp-content/uploads/2024/08/September-7.jpg
END:VEVENT
BEGIN:VEVENT
DTSTART;TZID=Asia/Beirut:20240907T203000
DTEND;TZID=Asia/Beirut:20240907T203000
DTSTAMP:20260422T013346
CREATED:20240905T062355Z
LAST-MODIFIED:20240905T062355Z
UID:10006583-1725741000-1725741000@gobatroun.com
SUMMARY:Danton Live at Vine
DESCRIPTION:Danton Live at Vine \nBand Charge: 8$ \nAcoustic Set \nRSVP +961 71 455 882 \n 
URL:https://gobatroun.com/event/danton-live-at-vine/
LOCATION:Vine\, Smar Jbeil\, 6M9R+95 Smar Jbeil\, Smar Jbeil\, Lebanon
CATEGORIES:Performing Arts
ATTACH;FMTTYPE=image/jpeg:https://gobatroun.com/wp-content/uploads/2024/09/Septmber-7th.jpg
END:VEVENT
BEGIN:VEVENT
DTSTART;TZID=Asia/Beirut:20240907T213000
DTEND;TZID=Asia/Beirut:20240907T213000
DTSTAMP:20260422T013346
CREATED:20240905T122151Z
LAST-MODIFIED:20240905T122151Z
UID:10006603-1725744600-1725744600@gobatroun.com
SUMMARY:Music Event at Tilt
DESCRIPTION:Music Event at Tilt with Walid Kanaan & the Band \nBook Now +961 03 250 703
URL:https://gobatroun.com/event/music-event-at-tilt/
LOCATION:Tilt\, 6QG7+HG Zan\, Batroun\, Lebanon
CATEGORIES:Performing Arts
ATTACH;FMTTYPE=image/jpeg:https://gobatroun.com/wp-content/uploads/2024/09/September-7th-2.jpg
END:VEVENT
BEGIN:VEVENT
DTSTART;TZID=Asia/Beirut:20240907T220000
DTEND;TZID=Asia/Beirut:20240907T220000
DTSTAMP:20260422T013346
CREATED:20240711T053716Z
LAST-MODIFIED:20240910T055223Z
UID:10006391-1725746400-1725746400@gobatroun.com
SUMMARY:Sat on the Roof
DESCRIPTION:Sat on the Roof at NEOM featuring X FM\, X ED and BIBB. \nMore info on +961 553 550
URL:https://gobatroun.com/event/sat-on-the-roof/
LOCATION:NEOM\, 6J6X+WX Madfoun\, Madfoun\, Lebanon
CATEGORIES:Performing Arts
ATTACH;FMTTYPE=image/jpeg:https://gobatroun.com/wp-content/uploads/2024/07/September-14th.jpg
GEO:34.212265945423;35.649953019482
X-APPLE-STRUCTURED-LOCATION;VALUE=URI;X-ADDRESS=NEOM 6J6X+WX Madfoun Madfoun Lebanon;X-APPLE-RADIUS=500;X-TITLE=6J6X+WX Madfoun:geo:35.649953019482,34.212265945423
END:VEVENT
END:VCALENDAR