BEGIN:VCALENDAR
VERSION:2.0
PRODID:-//Go Batroun - ECPv6.14.2//NONSGML v1.0//EN
CALSCALE:GREGORIAN
METHOD:PUBLISH
X-ORIGINAL-URL:https://gobatroun.com
X-WR-CALDESC:Events for Go Batroun
REFRESH-INTERVAL;VALUE=DURATION:PT1H
X-Robots-Tag:noindex
X-PUBLISHED-TTL:PT1H
BEGIN:VTIMEZONE
TZID:Asia/Beirut
BEGIN:DAYLIGHT
TZOFFSETFROM:+0200
TZOFFSETTO:+0300
TZNAME:EEST
DTSTART:20240330T220000
END:DAYLIGHT
BEGIN:STANDARD
TZOFFSETFROM:+0300
TZOFFSETTO:+0200
TZNAME:EET
DTSTART:20241026T210000
END:STANDARD
END:VTIMEZONE
BEGIN:VEVENT
DTSTART;TZID=Asia/Beirut:20240727T100000
DTEND;TZID=Asia/Beirut:20240727T180000
DTSTAMP:20260421T080800
CREATED:20240704T090426Z
LAST-MODIFIED:20240704T091032Z
UID:10006323-1722074400-1722103200@gobatroun.com
SUMMARY:The Hills Are Alive
DESCRIPTION:DETAILS FOR OUR OUTING : THE HILLS ARE ALIVE ! \nDate: Saturday 13\, 20 & 27 July.\nDeparture from Beirut: 10:00\nReturn to Beirut: approx. 18:00. \nPrice per person: 50$\nGroup of 20 and up: 45$\nChildren under 12 = $25\nChildren under 5 = free \nIncluding:\n– Round trip transportation by bus.\n– Guided visit of the BALOUH BALAA sinkhole.\n– Date: Saturday 13\, 20 & 27 July.\nDeparture from Beirut: 10:00\nReturn to Beirut: approx. 18:00. \nPrice per person: 50$\nGroup of 20 and up: 45$\nChildren under 12 = $25\nChildren under 5 = free \nIncluding:\n– Round trip transportation by bus.\n– Guided visit of the BALOUH BALAA\nsinkhole.\n– Bees and Honey class with\nNATURAMIS and tastings.\n– Cooking class with ADONIS VALLEY.\n– A promenade through the village of\nCHATINE with storytelling.\n– Terroir Lunch : a table of local\nspecialties and twists.\n– Arak.\n– Rosé and White wine.\n– Dessert table.\n– Coffee\, snacks\, juices \nLIMITED PLACES! Book now on +961 70 302 833
URL:https://gobatroun.com/event/the-hills-are-alive/2024-07-27/
LOCATION:Snounou Rural Life\, 5VRP+58 Chatin\, Chatin\, Lebanon
CATEGORIES:Community,Sports
ATTACH;FMTTYPE=image/jpeg:https://gobatroun.com/wp-content/uploads/2024/07/The-Hills-are-Aliveee.jpg
GEO:34.190413448483;35.885857992208
X-APPLE-STRUCTURED-LOCATION;VALUE=URI;X-ADDRESS=Snounou Rural Life 5VRP+58 Chatin Chatin Lebanon;X-APPLE-RADIUS=500;X-TITLE=5VRP+58 Chatin:geo:35.885857992208,34.190413448483
END:VEVENT
BEGIN:VEVENT
DTSTART;VALUE=DATE:20240727
DTEND;VALUE=DATE:20240728
DTSTAMP:20260421T080800
CREATED:20240724T063125Z
LAST-MODIFIED:20240724T063125Z
UID:10006450-1722096000-1722096000@gobatroun.com
SUMMARY:The Islands Unfolds
DESCRIPTION:The Islands Unfolds \nThu July 25 VICE VERSA House \nFri July 26 Afro House & Commercial – Audio Kult. \nSat July 20 Afro House & Commercial- Rayan Woods \nSun July 28 AOB \nRSVP +961 81 488 471 or +961 71 009 776
URL:https://gobatroun.com/event/the-islands-unfolds-5/2024-07-27/
LOCATION:Île Beach Bar\, 6MW5+M8 Batroun\, Heri\, Lebanon
CATEGORIES:Performing Arts
ATTACH;FMTTYPE=image/jpeg:https://gobatroun.com/wp-content/uploads/2024/07/Events-for-25-26-27-28.jpg
GEO:34.246743804228;35.658362321019
X-APPLE-STRUCTURED-LOCATION;VALUE=URI;X-ADDRESS=Île Beach Bar 6MW5+M8 Batroun Heri Lebanon;X-APPLE-RADIUS=500;X-TITLE=6MW5+M8 Batroun:geo:35.658362321019,34.246743804228
END:VEVENT
BEGIN:VEVENT
DTSTART;TZID=Asia/Beirut:20240727T160000
DTEND;TZID=Asia/Beirut:20240727T160000
DTSTAMP:20260421T080800
CREATED:20240725T052506Z
LAST-MODIFIED:20240725T052506Z
UID:10006457-1722096000-1722096000@gobatroun.com
SUMMARY:Joud Dallal at Rocca Island
DESCRIPTION:Joud Dallal at Rocca Island \nJoin for a Day of music and live entertainment this Saturday at 4pm. \nJouddallal Official will be performing – don’t miss it! \nIt’s sure to be a lively atmosphere\, so bring your friends and family for an enjoyable afternoon on the island. \nRSVP +961 81 714 444
URL:https://gobatroun.com/event/joud-dallal-at-rocca-island-2/
LOCATION:Rocca Island\, 8M5X+R33 Heri\, Heri\, Lebanon
CATEGORIES:Performing Arts
ATTACH;FMTTYPE=image/jpeg:https://gobatroun.com/wp-content/uploads/2024/07/July-27-Event-3.jpg
ORGANIZER;CN="Rocca Island":MAILTO:Claudetabar@gmail.com
GEO:34.309506728335;35.697695714621
X-APPLE-STRUCTURED-LOCATION;VALUE=URI;X-ADDRESS=Rocca Island 8M5X+R33 Heri Heri Lebanon;X-APPLE-RADIUS=500;X-TITLE=8M5X+R33 Heri:geo:35.697695714621,34.309506728335
END:VEVENT
BEGIN:VEVENT
DTSTART;TZID=Asia/Beirut:20240727T170000
DTEND;TZID=Asia/Beirut:20240727T170000
DTSTAMP:20260421T080800
CREATED:20240722T054705Z
LAST-MODIFIED:20240722T055615Z
UID:10006434-1722099600-1722099600@gobatroun.com
SUMMARY:Starlight Event at Wadi Tannourine
DESCRIPTION:Dive into the starlit adventure of a lifetime at our Starlight event guided by Tannourine Trails! \nJoin us this summer on July 26th and 27th for an unforgettable experience under the celestial canopy. \nPackage includes: \nGuided stargazing and captivating storytelling \nComfortable camping with premium mattresses \nDelightful sandwiches under the open sky (tawouk/ kafta/ kabab) (potato\, corn\, 1 beer) \nCultural hiking tour through breathtaking landscapes \nLive guitar entertainment to serenade your night \nDelicious breakfast to greet the morning \nContribution: $45 \n(you can bring your own tents and mattresses) \nReserve your spot \n+961 76 965 003 \n+961 03 999 853
URL:https://gobatroun.com/event/starlight-event-at-wadi-tannourine/2024-07-27/
LOCATION:Paul’s Haven\, 6V2J+4J Tannourine El Tahta\, Tannourine El Tahta\, Lebanon
CATEGORIES:Sports
ATTACH;FMTTYPE=image/jpeg:https://gobatroun.com/wp-content/uploads/2024/07/Starlight-adventure.jpg
GEO:34.200341016948;35.881539203477
X-APPLE-STRUCTURED-LOCATION;VALUE=URI;X-ADDRESS=Paul’s Haven 6V2J+4J Tannourine El Tahta Tannourine El Tahta Lebanon;X-APPLE-RADIUS=500;X-TITLE=6V2J+4J Tannourine El Tahta:geo:35.881539203477,34.200341016948
END:VEVENT
BEGIN:VEVENT
DTSTART;TZID=Asia/Beirut:20240727T190000
DTEND;TZID=Asia/Beirut:20240727T190000
DTSTAMP:20260421T080800
CREATED:20240716T053736Z
LAST-MODIFIED:20240716T053736Z
UID:10006401-1722106800-1722106800@gobatroun.com
SUMMARY:Au Pays des Chédid
DESCRIPTION:Celebrate music and heritage at the 3rd edition of Festival de Vin et de Musique! \nJuly 26-27: “-M- au pays des Chédid” at Smar Jbeil Citadel\nJuly 28: “Chamber music in the cellar” at IXSIR winery. \nTickets on sale soon at TICKETING BOXOFFICE Virgin Megastore
URL:https://gobatroun.com/event/au-pays-des-chedid/2024-07-27/
LOCATION:Smar Jbeil Citadel\, 6M9Q+263\, Smar Jbeil\, Smar Jbeil\, Lebanon
CATEGORIES:Performing Arts
ATTACH;FMTTYPE=image/jpeg:https://gobatroun.com/wp-content/uploads/2024/07/July-26-and-27-Events.jpg
GEO:34.217513450762;35.688068118894
X-APPLE-STRUCTURED-LOCATION;VALUE=URI;X-ADDRESS=Smar Jbeil Citadel 6M9Q+263 Smar Jbeil Smar Jbeil Lebanon;X-APPLE-RADIUS=500;X-TITLE=6M9Q+263\, Smar Jbeil:geo:35.688068118894,34.217513450762
END:VEVENT
BEGIN:VEVENT
DTSTART;TZID=Asia/Beirut:20240727T200000
DTEND;TZID=Asia/Beirut:20240727T200000
DTSTAMP:20260421T080800
CREATED:20240717T070033Z
LAST-MODIFIED:20240717T070033Z
UID:10006427-1722110400-1722110400@gobatroun.com
SUMMARY:Joyce Khoury at Yazz
DESCRIPTION:Joyce Khoury at Yazz \nThe sensational Joyce Khoury live! ✨ \nImmerse yourself in the unique fusion of genres\, blending diverse musical styles like never before. An unforgettable night awaits! \nBook your table now: +961 71 999 745 or +961 71 999 748
URL:https://gobatroun.com/event/joyce-khoury-at-yazz-2/
LOCATION:YAZZ\, 7M45+HF Batroun\, Batroun\, Lebanon
CATEGORIES:Performing Arts
ATTACH;FMTTYPE=image/jpeg:https://gobatroun.com/wp-content/uploads/2024/07/July-27-Event.jpg
GEO:34.256452437297;35.65875069844
X-APPLE-STRUCTURED-LOCATION;VALUE=URI;X-ADDRESS=YAZZ 7M45+HF Batroun Batroun Lebanon;X-APPLE-RADIUS=500;X-TITLE=7M45+HF Batroun:geo:35.65875069844,34.256452437297
END:VEVENT
BEGIN:VEVENT
DTSTART;TZID=Asia/Beirut:20240727T200000
DTEND;TZID=Asia/Beirut:20240727T200000
DTSTAMP:20260421T080800
CREATED:20240724T071522Z
LAST-MODIFIED:20240724T071629Z
UID:10006455-1722110400-1722110400@gobatroun.com
SUMMARY:Laho: This Week's Events Schedule
DESCRIPTION:Laho: This Week’s Events Schedule \nThursday 25 GIO \nFriday 26 JOE \nSaturday 27 Elie Dona \nSunday 28 Christina Haddad Ft. GIO
URL:https://gobatroun.com/event/laho-this-weeks-events-schedule-2/2024-07-27/
LOCATION:Laho Rooftop\, 7M25+8G Batroun\, Batroun\, Lebanon
CATEGORIES:Performing Arts
ATTACH;FMTTYPE=image/jpeg:https://gobatroun.com/wp-content/uploads/2024/07/July-25-26-27-28-Events.jpg
GEO:34.250857358408;35.658874045674
X-APPLE-STRUCTURED-LOCATION;VALUE=URI;X-ADDRESS=Laho Rooftop 7M25+8G Batroun Batroun Lebanon;X-APPLE-RADIUS=500;X-TITLE=7M25+8G Batroun:geo:35.658874045674,34.250857358408
END:VEVENT
BEGIN:VEVENT
DTSTART;TZID=Asia/Beirut:20240727T203000
DTEND;TZID=Asia/Beirut:20240727T203000
DTSTAMP:20260421T080800
CREATED:20240710T074648Z
LAST-MODIFIED:20240717T093840Z
UID:10006379-1722112200-1722112200@gobatroun.com
SUMMARY:Ahmad Ibrahim and Michel Najem at le Marin
DESCRIPTION:Ahmad Ibrahim and Michel Najem live at le Marin \nInfo and Reservation +961 03 328 678 or +961 06 744 016
URL:https://gobatroun.com/event/ahmad-ibrahim-and-michel-najem-at-le-marin/2024-07-27/
LOCATION:Le Marin\, 7M35+38 Batroun\, Batroun\, Lebanon
CATEGORIES:Performing Arts
ATTACH;FMTTYPE=image/jpeg:https://gobatroun.com/wp-content/uploads/2024/07/Saturday-Events.jpg
END:VEVENT
BEGIN:VEVENT
DTSTART;TZID=Asia/Beirut:20240727T213000
DTEND;TZID=Asia/Beirut:20240727T213000
DTSTAMP:20260421T080800
CREATED:20240314T133658Z
LAST-MODIFIED:20240816T102023Z
UID:10006192-1722115800-1722115800@gobatroun.com
SUMMARY:Dj Stephy Diab at Yazz
DESCRIPTION:Dj Stephy Diab at Yazz \nVibe with DJ Stephy’s hits\, every Saturday at Yazz Batroun. \nEvenings of sensational dancing\, cocktails\, and bites await! \n  \n  \n 
URL:https://gobatroun.com/event/dj-stephy-diab-at-yazz-2/2024-07-27/
LOCATION:YAZZ\, 7M45+HF Batroun\, Batroun\, Lebanon
CATEGORIES:Performing Arts
ATTACH;FMTTYPE=image/jpeg:https://gobatroun.com/wp-content/uploads/2024/03/DJStephy-Saturdays.jpg
GEO:34.256452437297;35.65875069844
X-APPLE-STRUCTURED-LOCATION;VALUE=URI;X-ADDRESS=YAZZ 7M45+HF Batroun Batroun Lebanon;X-APPLE-RADIUS=500;X-TITLE=7M45+HF Batroun:geo:35.65875069844,34.256452437297
END:VEVENT
BEGIN:VEVENT
DTSTART;TZID=Asia/Beirut:20240727T223000
DTEND;TZID=Asia/Beirut:20240727T223000
DTSTAMP:20260421T080800
CREATED:20240723T110341Z
LAST-MODIFIED:20240723T110341Z
UID:10006440-1722119400-1722119400@gobatroun.com
SUMMARY:Beats at BluBay
DESCRIPTION:Beats at BluBay \nFeaturing Againstcelebreties\, eliodib\, djsergiii \nFor Info & Reservations +961 76 149 944
URL:https://gobatroun.com/event/beats-at-blubay/
LOCATION:Blu Bay Batroun\, 6MW6+QJ Batroun\, Batroun\, Lebanon
CATEGORIES:Performing Arts|Sports
ATTACH;FMTTYPE=image/jpeg:https://gobatroun.com/wp-content/uploads/2024/07/July-27-Event-2.jpg
END:VEVENT
END:VCALENDAR