BEGIN:VCALENDAR
VERSION:2.0
PRODID:-//Go Batroun - ECPv6.14.2//NONSGML v1.0//EN
CALSCALE:GREGORIAN
METHOD:PUBLISH
X-WR-CALNAME:Go Batroun
X-ORIGINAL-URL:https://gobatroun.com
X-WR-CALDESC:Events for Go Batroun
REFRESH-INTERVAL;VALUE=DURATION:PT1H
X-Robots-Tag:noindex
X-PUBLISHED-TTL:PT1H
BEGIN:VTIMEZONE
TZID:Asia/Beirut
BEGIN:DAYLIGHT
TZOFFSETFROM:+0200
TZOFFSETTO:+0300
TZNAME:EEST
DTSTART:20240330T220000
END:DAYLIGHT
BEGIN:STANDARD
TZOFFSETFROM:+0300
TZOFFSETTO:+0200
TZNAME:EET
DTSTART:20241026T210000
END:STANDARD
END:VTIMEZONE
BEGIN:VEVENT
DTSTART;VALUE=DATE:20240725
DTEND;VALUE=DATE:20240727
DTSTAMP:20260422T030955
CREATED:20240724T063125Z
LAST-MODIFIED:20240724T063125Z
UID:10006448-1721887200-1721973599@gobatroun.com
SUMMARY:The Islands Unfolds
DESCRIPTION:The Islands Unfolds \nThu July 25 VICE VERSA House \nFri July 26 Afro House & Commercial – Audio Kult. \nSat July 20 Afro House & Commercial- Rayan Woods \nSun July 28 AOB \nRSVP +961 81 488 471 or +961 71 009 776
URL:https://gobatroun.com/event/the-islands-unfolds-5/2024-07-25/
LOCATION:Île Beach Bar\, 6MW5+M8 Batroun\, Heri\, Lebanon
CATEGORIES:Performing Arts
ATTACH;FMTTYPE=image/jpeg:https://gobatroun.com/wp-content/uploads/2024/07/Events-for-25-26-27-28.jpg
GEO:34.246743804228;35.658362321019
X-APPLE-STRUCTURED-LOCATION;VALUE=URI;X-ADDRESS=Île Beach Bar 6MW5+M8 Batroun Heri Lebanon;X-APPLE-RADIUS=500;X-TITLE=6MW5+M8 Batroun:geo:35.658362321019,34.246743804228
END:VEVENT
BEGIN:VEVENT
DTSTART;TZID=Asia/Beirut:20240725T200000
DTEND;TZID=Asia/Beirut:20240725T200000
DTSTAMP:20260422T030955
CREATED:20240724T071522Z
LAST-MODIFIED:20240724T071629Z
UID:10006453-1721937600-1721937600@gobatroun.com
SUMMARY:Laho: This Week's Events Schedule
DESCRIPTION:Laho: This Week’s Events Schedule \nThursday 25 GIO \nFriday 26 JOE \nSaturday 27 Elie Dona \nSunday 28 Christina Haddad Ft. GIO
URL:https://gobatroun.com/event/laho-this-weeks-events-schedule-2/2024-07-25/
LOCATION:Laho Rooftop\, 7M25+8G Batroun\, Batroun\, Lebanon
CATEGORIES:Performing Arts
ATTACH;FMTTYPE=image/jpeg:https://gobatroun.com/wp-content/uploads/2024/07/July-25-26-27-28-Events.jpg
GEO:34.250857358408;35.658874045674
X-APPLE-STRUCTURED-LOCATION;VALUE=URI;X-ADDRESS=Laho Rooftop 7M25+8G Batroun Batroun Lebanon;X-APPLE-RADIUS=500;X-TITLE=7M25+8G Batroun:geo:35.658874045674,34.250857358408
END:VEVENT
END:VCALENDAR