BEGIN:VCALENDAR
VERSION:2.0
PRODID:-//Go Batroun - ECPv6.14.2//NONSGML v1.0//EN
CALSCALE:GREGORIAN
METHOD:PUBLISH
X-WR-CALNAME:Go Batroun
X-ORIGINAL-URL:https://gobatroun.com
X-WR-CALDESC:Events for Go Batroun
REFRESH-INTERVAL;VALUE=DURATION:PT1H
X-Robots-Tag:noindex
X-PUBLISHED-TTL:PT1H
BEGIN:VTIMEZONE
TZID:Asia/Beirut
BEGIN:DAYLIGHT
TZOFFSETFROM:+0200
TZOFFSETTO:+0300
TZNAME:EEST
DTSTART:20240330T220000
END:DAYLIGHT
BEGIN:STANDARD
TZOFFSETFROM:+0300
TZOFFSETTO:+0200
TZNAME:EET
DTSTART:20241026T210000
END:STANDARD
END:VTIMEZONE
BEGIN:VEVENT
DTSTART;VALUE=DATE:20240711
DTEND;VALUE=DATE:20240713
DTSTAMP:20260422T030953
CREATED:20240709T085846Z
LAST-MODIFIED:20240709T085846Z
UID:10006346-1720677600-1720763999@gobatroun.com
SUMMARY:The Islands Unfolds
DESCRIPTION:The Islands Unfolds \nThu July 11 Nazir VICE VERSA \nFri July 12 Afro & Commercial – ABY. \nSat July 13 Afro House & Commercial- Audiokult- Gio \nRSVP +961 81 488 471 or +961 71 009 776
URL:https://gobatroun.com/event/the-islands-unfolds-3/2024-07-11/
LOCATION:Île Beach Bar\, 6MW5+M8 Batroun\, Heri\, Lebanon
CATEGORIES:Performing Arts
ATTACH;FMTTYPE=image/jpeg:https://gobatroun.com/wp-content/uploads/2024/07/Events-for-11-12-13.jpg
GEO:34.246743804228;35.658362321019
X-APPLE-STRUCTURED-LOCATION;VALUE=URI;X-ADDRESS=Île Beach Bar 6MW5+M8 Batroun Heri Lebanon;X-APPLE-RADIUS=500;X-TITLE=6MW5+M8 Batroun:geo:35.658362321019,34.246743804228
END:VEVENT
END:VCALENDAR