BEGIN:VCALENDAR
VERSION:2.0
PRODID:-//Go Batroun - ECPv6.14.2//NONSGML v1.0//EN
CALSCALE:GREGORIAN
METHOD:PUBLISH
X-WR-CALNAME:Go Batroun
X-ORIGINAL-URL:https://gobatroun.com
X-WR-CALDESC:Events for Go Batroun
REFRESH-INTERVAL;VALUE=DURATION:PT1H
X-Robots-Tag:noindex
X-PUBLISHED-TTL:PT1H
BEGIN:VTIMEZONE
TZID:Asia/Beirut
BEGIN:DAYLIGHT
TZOFFSETFROM:+0200
TZOFFSETTO:+0300
TZNAME:EEST
DTSTART:20240330T220000
END:DAYLIGHT
BEGIN:STANDARD
TZOFFSETFROM:+0300
TZOFFSETTO:+0200
TZNAME:EET
DTSTART:20241026T210000
END:STANDARD
END:VTIMEZONE
BEGIN:VEVENT
DTSTART;TZID=Asia/Beirut:20240707T123000
DTEND;TZID=Asia/Beirut:20240707T123000
DTSTAMP:20260421T131819
CREATED:20240702T075548Z
LAST-MODIFIED:20240702T075708Z
UID:10006302-1720355400-1720355400@gobatroun.com
SUMMARY:Aqua Flow schedule
DESCRIPTION:Aqua Flow schedule \nSaturday 12:30 PM \nSunday 12:30 PM \nDM or +961 76 338 762 to reserve a spot
URL:https://gobatroun.com/event/aqua-flow-schedule/2024-07-07/
LOCATION:Routes
CATEGORIES:Performing Arts
ATTACH;FMTTYPE=image/jpeg:https://gobatroun.com/wp-content/uploads/2024/07/July-6-and-7-Events.jpg
END:VEVENT
BEGIN:VEVENT
DTSTART;TZID=Asia/Beirut:20240707T183000
DTEND;TZID=Asia/Beirut:20240707T183000
DTSTAMP:20260421T131819
CREATED:20240702T074143Z
LAST-MODIFIED:20240702T074143Z
UID:10006300-1720377000-1720377000@gobatroun.com
SUMMARY:Ali Farahani\, Tia and JAD live at Pierre and Friends
DESCRIPTION:Ali Farahani Live at Pierre and Friends \nJoin on July 7th with Tia and Jād for an epic sunset. \nFor Reservations +961 3 352 930 \n 
URL:https://gobatroun.com/event/ali-farahani-tia-and-jad-live-at-pierre-and-friends/
LOCATION:Pierre and Friends\, 6J6X+XQ Madfoun\, Batroun\, Lebanon
CATEGORIES:Performing Arts
ATTACH;FMTTYPE=image/jpeg:https://gobatroun.com/wp-content/uploads/2024/07/July-7-Eventt-1.jpg
GEO:34.212423239859;35.649460262694
X-APPLE-STRUCTURED-LOCATION;VALUE=URI;X-ADDRESS=Pierre and Friends 6J6X+XQ Madfoun Batroun Lebanon;X-APPLE-RADIUS=500;X-TITLE=6J6X+XQ Madfoun:geo:35.649460262694,34.212423239859
END:VEVENT
BEGIN:VEVENT
DTSTART;TZID=Asia/Beirut:20240707T203000
DTEND;TZID=Asia/Beirut:20240707T203000
DTSTAMP:20260421T131819
CREATED:20240702T103945Z
LAST-MODIFIED:20240702T103945Z
UID:10006309-1720384200-1720384200@gobatroun.com
SUMMARY:Rafca Fares & Gilbert Rahbani live at Laho
DESCRIPTION:Rafca Fares & Gilbert Rahbani live at Laho \nJoin this Sunday\, July 7 for some oriental vibes like no other featuring the amazing DUO Rafca fares & Gilbertrahbani ! \nBook your tables on: +961 71 535 535
URL:https://gobatroun.com/event/rafca-fares-gilbert-rahbani-live-at-laho/
LOCATION:Laho Rooftop\, 7M25+8G Batroun\, Batroun\, Lebanon
CATEGORIES:Performing Arts
ATTACH;FMTTYPE=image/jpeg:https://gobatroun.com/wp-content/uploads/2024/07/July-7-event.jpg
GEO:34.250857358408;35.658874045674
X-APPLE-STRUCTURED-LOCATION;VALUE=URI;X-ADDRESS=Laho Rooftop 7M25+8G Batroun Batroun Lebanon;X-APPLE-RADIUS=500;X-TITLE=7M25+8G Batroun:geo:35.658874045674,34.250857358408
END:VEVENT
END:VCALENDAR