BEGIN:VCALENDAR
VERSION:2.0
PRODID:-//Go Batroun - ECPv6.14.2//NONSGML v1.0//EN
CALSCALE:GREGORIAN
METHOD:PUBLISH
X-ORIGINAL-URL:https://gobatroun.com
X-WR-CALDESC:Events for Go Batroun
REFRESH-INTERVAL;VALUE=DURATION:PT1H
X-Robots-Tag:noindex
X-PUBLISHED-TTL:PT1H
BEGIN:VTIMEZONE
TZID:Asia/Beirut
BEGIN:DAYLIGHT
TZOFFSETFROM:+0200
TZOFFSETTO:+0300
TZNAME:EEST
DTSTART:20240330T220000
END:DAYLIGHT
BEGIN:STANDARD
TZOFFSETFROM:+0300
TZOFFSETTO:+0200
TZNAME:EET
DTSTART:20241026T210000
END:STANDARD
END:VTIMEZONE
BEGIN:VEVENT
DTSTART;TZID=Asia/Beirut:20240623T080000
DTEND;TZID=Asia/Beirut:20240623T183000
DTSTAMP:20260420T064243
CREATED:20240614T073206Z
LAST-MODIFIED:20240614T073226Z
UID:10006253-1719129600-1719167400@gobatroun.com
SUMMARY:Honoring the Practice - celebrating community\, oneness and yoga
DESCRIPTION:Honoring the Practice – celebrating community\, oneness and yoga \nLet’s come together on June 23rd  @ohanayogabythesea to celebrate and express gratitude for the transformative effects that yoga brings to our lives. \nThis special day will be packed with a wide variety of classes: Vinyasa Flow\, Meditation and Sound\, SUP yoga\, Yin Yang and Chinese Medicine\, Chakra Dance\, Chanting and Celebration. \nYou will have some time to enjoy moments of serene solitude\, or venture into our Mindful Art Sessions hosted by @lesateliers.lb and get a chance to discover your human design with @sarah_berjaoui \nWhether you choose to join us for the full day or opt for the half-day experience\, we promise a journey filled with inspiration\, self-care\, and a sense of community. \nSwipe left for schedule details and contributions. \nBook your spot through the @joinin2 mobile app or message us on +961 76 409 351
URL:https://gobatroun.com/event/honoring-the-practice-celebrating-community-oneness-and-yoga/
LOCATION:Mayouli\, 7M88+PP Batroun\, Batroun\, Lebanon
CATEGORIES:Performing Arts,Sports
ATTACH;FMTTYPE=image/jpeg:https://gobatroun.com/wp-content/uploads/2024/06/June-23-Eventt.jpg
GEO:34.266795819013;35.666856562531
X-APPLE-STRUCTURED-LOCATION;VALUE=URI;X-ADDRESS=Mayouli 7M88+PP Batroun Batroun Lebanon;X-APPLE-RADIUS=500;X-TITLE=7M88+PP Batroun:geo:35.666856562531,34.266795819013
END:VEVENT
BEGIN:VEVENT
DTSTART;TZID=Asia/Beirut:20240623T150000
DTEND;TZID=Asia/Beirut:20240623T200000
DTSTAMP:20260420T064243
CREATED:20240612T061752Z
LAST-MODIFIED:20240612T063615Z
UID:10006239-1719154800-1719172800@gobatroun.com
SUMMARY:LAU event at Diaspora Village
DESCRIPTION:The School of Architecture & Design @ the Lebanese American University\, in collaboration with Batroun Municipality and Batroun International Festival hosted by the Diaspora Village\, cordially invites you to the exhibition of architectural projects. \nDate & Time: 21 June 2024 at 5pm \nProgram Schedule: \nBatroun Municipality speech (5min) \nDiaspora Village speech (5min) \nLebanese American University speech (5min) \nVenue: Diaspora Village Hall \nThe exhibition will stay till 23 June 2024 from 3:00 PM till 08:00 PM \nThe exhibition showcases the work of 11 architecture students from the Spring semester 2024\, featuring their innovative designs for a museum situated in the heart of the old city of Batroun. The event celebrates not only the creativity and dedication of these students but also contributes to the cultural enrichment and heritage preservation of this historic city. \nJoin us in celebrating the future of architecture and the rich heritage of Batroun \n 
URL:https://gobatroun.com/event/lau-event-at-diaspora-village/2024-06-23/
LOCATION:Diaspora Village\, 7M44+5WG 1400\, Batroun\, Batroun\, Lebanon
CATEGORIES:Conferences
ATTACH;FMTTYPE=image/jpeg:https://gobatroun.com/wp-content/uploads/2024/06/June-21-Event.jpg
GEO:34.255439713586;35.657307550695
X-APPLE-STRUCTURED-LOCATION;VALUE=URI;X-ADDRESS=Diaspora Village 7M44+5WG 1400 Batroun Batroun Lebanon;X-APPLE-RADIUS=500;X-TITLE=7M44+5WG 1400\, Batroun:geo:35.657307550695,34.255439713586
END:VEVENT
BEGIN:VEVENT
DTSTART;TZID=Asia/Beirut:20240623T200000
DTEND;TZID=Asia/Beirut:20240623T200000
DTSTAMP:20260420T064243
CREATED:20240621T121906Z
LAST-MODIFIED:20240621T121906Z
UID:10006277-1719172800-1719172800@gobatroun.com
SUMMARY:Barrio67 Weekend Lineup
DESCRIPTION:Friday 21 June: DJ Bob \nSaturday 22 June: DJ Yve \nSunday 23 June: DJ Gaby
URL:https://gobatroun.com/event/barrio67-weekend-lineup/2024-06-23/
LOCATION:Barrio67
CATEGORIES:Performing Arts
ATTACH;FMTTYPE=image/jpeg:https://gobatroun.com/wp-content/uploads/2024/06/Barrio67-Week-End-LineUp.jpg
END:VEVENT
END:VCALENDAR