BEGIN:VCALENDAR
VERSION:2.0
PRODID:-//Go Batroun - ECPv6.14.2//NONSGML v1.0//EN
CALSCALE:GREGORIAN
METHOD:PUBLISH
X-ORIGINAL-URL:https://gobatroun.com
X-WR-CALDESC:Events for Go Batroun
REFRESH-INTERVAL;VALUE=DURATION:PT1H
X-Robots-Tag:noindex
X-PUBLISHED-TTL:PT1H
BEGIN:VTIMEZONE
TZID:Asia/Beirut
BEGIN:DAYLIGHT
TZOFFSETFROM:+0200
TZOFFSETTO:+0300
TZNAME:EEST
DTSTART:20240330T220000
END:DAYLIGHT
BEGIN:STANDARD
TZOFFSETFROM:+0300
TZOFFSETTO:+0200
TZNAME:EET
DTSTART:20241026T210000
END:STANDARD
END:VTIMEZONE
BEGIN:VEVENT
DTSTART;TZID=Asia/Beirut:20240621T170000
DTEND;TZID=Asia/Beirut:20240621T170000
DTSTAMP:20260423T061921
CREATED:20240612T061752Z
LAST-MODIFIED:20240612T063615Z
UID:10006237-1718989200-1718989200@gobatroun.com
SUMMARY:LAU event at Diaspora Village
DESCRIPTION:The School of Architecture & Design @ the Lebanese American University\, in collaboration with Batroun Municipality and Batroun International Festival hosted by the Diaspora Village\, cordially invites you to the exhibition of architectural projects. \nDate & Time: 21 June 2024 at 5pm \nProgram Schedule: \nBatroun Municipality speech (5min) \nDiaspora Village speech (5min) \nLebanese American University speech (5min) \nVenue: Diaspora Village Hall \nThe exhibition will stay till 23 June 2024 from 3:00 PM till 08:00 PM \nThe exhibition showcases the work of 11 architecture students from the Spring semester 2024\, featuring their innovative designs for a museum situated in the heart of the old city of Batroun. The event celebrates not only the creativity and dedication of these students but also contributes to the cultural enrichment and heritage preservation of this historic city. \nJoin us in celebrating the future of architecture and the rich heritage of Batroun \n 
URL:https://gobatroun.com/event/lau-event-at-diaspora-village/2024-06-21/
LOCATION:Diaspora Village\, 7M44+5WG 1400\, Batroun\, Batroun\, Lebanon
CATEGORIES:Conferences
ATTACH;FMTTYPE=image/jpeg:https://gobatroun.com/wp-content/uploads/2024/06/June-21-Event.jpg
GEO:34.255439713586;35.657307550695
X-APPLE-STRUCTURED-LOCATION;VALUE=URI;X-ADDRESS=Diaspora Village 7M44+5WG 1400 Batroun Batroun Lebanon;X-APPLE-RADIUS=500;X-TITLE=7M44+5WG 1400\, Batroun:geo:35.657307550695,34.255439713586
END:VEVENT
BEGIN:VEVENT
DTSTART;TZID=Asia/Beirut:20240621T200000
DTEND;TZID=Asia/Beirut:20240621T200000
DTSTAMP:20260423T061921
CREATED:20240615T091950Z
LAST-MODIFIED:20240615T091950Z
UID:10006258-1719000000-1719000000@gobatroun.com
SUMMARY:Clara Atallah Featuring DJ JOE
DESCRIPTION:What are you waiting for? Grab your dancing shoes and head to KIR for Music Night! \nA fusion night with @claraattallah and @dj.joe.s Friday Jun 21 starting 8pm. \nRSVP +961 03 663 557
URL:https://gobatroun.com/event/clara-atallah-featuring-dj-joe/
LOCATION:Kir Restaurant & WineBar\, 6MPM+8RG\, Edde\, Batroun\, Lebanon
CATEGORIES:Performing Arts
ATTACH;FMTTYPE=image/jpeg:https://gobatroun.com/wp-content/uploads/2024/06/Kir-June-21.jpg
END:VEVENT
BEGIN:VEVENT
DTSTART;TZID=Asia/Beirut:20240621T200000
DTEND;TZID=Asia/Beirut:20240621T200000
DTSTAMP:20260423T061921
CREATED:20240620T081153Z
LAST-MODIFIED:20240620T081532Z
UID:10004844-1719000000-1719000000@gobatroun.com
SUMMARY:Dj Gio at Ile
DESCRIPTION:Catch Dj Gio at at Ile\nRSVP +961 81 488 417 or 961 71 009 776
URL:https://gobatroun.com/event/dj-gio-at-at-ile-2/
LOCATION:Île Beach Bar\, 6MW5+M8 Batroun\, Heri\, Lebanon
CATEGORIES:Performing Arts
ATTACH;FMTTYPE=image/jpeg:https://gobatroun.com/wp-content/uploads/2023/09/June-21-Event.jpg
GEO:34.246743804228;35.658362321019
X-APPLE-STRUCTURED-LOCATION;VALUE=URI;X-ADDRESS=Île Beach Bar 6MW5+M8 Batroun Heri Lebanon;X-APPLE-RADIUS=500;X-TITLE=6MW5+M8 Batroun:geo:35.658362321019,34.246743804228
END:VEVENT
BEGIN:VEVENT
DTSTART;TZID=Asia/Beirut:20240621T200000
DTEND;TZID=Asia/Beirut:20240621T200000
DTSTAMP:20260423T061921
CREATED:20240620T081832Z
LAST-MODIFIED:20240620T081832Z
UID:10006271-1719000000-1719000000@gobatroun.com
SUMMARY:Habib Bou Rouphael at Ile
DESCRIPTION:Catch Habib Bou Rouphael at at Ile\nRSVP +961 81 488 417 or 961 71 009 776
URL:https://gobatroun.com/event/habib-bou-rouphael-at-ile/
LOCATION:Île Beach Bar\, 6MW5+M8 Batroun\, Heri\, Lebanon
CATEGORIES:Performing Arts
ATTACH;FMTTYPE=image/jpeg:https://gobatroun.com/wp-content/uploads/2024/06/June-22-Eventt-1.jpg
GEO:34.246743804228;35.658362321019
X-APPLE-STRUCTURED-LOCATION;VALUE=URI;X-ADDRESS=Île Beach Bar 6MW5+M8 Batroun Heri Lebanon;X-APPLE-RADIUS=500;X-TITLE=6MW5+M8 Batroun:geo:35.658362321019,34.246743804228
END:VEVENT
BEGIN:VEVENT
DTSTART;TZID=Asia/Beirut:20240621T200000
DTEND;TZID=Asia/Beirut:20240621T200000
DTSTAMP:20260423T061921
CREATED:20240620T093225Z
LAST-MODIFIED:20240620T104250Z
UID:10006273-1719000000-1719000000@gobatroun.com
SUMMARY:The Father's Day
DESCRIPTION:Live Music with DJ GIO (Georges Nassar) \n  \n 
URL:https://gobatroun.com/event/the-fathers-day/
LOCATION:Omnia bistro bar\, 7M45+GQ Batroun\, Batroun\, Lebanon
CATEGORIES:Performing Arts
ATTACH;FMTTYPE=image/jpeg:https://gobatroun.com/wp-content/uploads/2024/06/June-21-event-2.jpg
GEO:34.256282323463;35.65947578638
X-APPLE-STRUCTURED-LOCATION;VALUE=URI;X-ADDRESS=Omnia bistro bar 7M45+GQ Batroun Batroun Lebanon;X-APPLE-RADIUS=500;X-TITLE=7M45+GQ Batroun:geo:35.65947578638,34.256282323463
END:VEVENT
BEGIN:VEVENT
DTSTART;TZID=Asia/Beirut:20240621T200000
DTEND;TZID=Asia/Beirut:20240621T200000
DTSTAMP:20260423T061921
CREATED:20240621T121906Z
LAST-MODIFIED:20240621T121906Z
UID:10006275-1719000000-1719000000@gobatroun.com
SUMMARY:Barrio67 Weekend Lineup
DESCRIPTION:Friday 21 June: DJ Bob \nSaturday 22 June: DJ Yve \nSunday 23 June: DJ Gaby
URL:https://gobatroun.com/event/barrio67-weekend-lineup/2024-06-21/
LOCATION:Barrio67
CATEGORIES:Performing Arts
ATTACH;FMTTYPE=image/jpeg:https://gobatroun.com/wp-content/uploads/2024/06/Barrio67-Week-End-LineUp.jpg
END:VEVENT
BEGIN:VEVENT
DTSTART;TZID=Asia/Beirut:20240621T203000
DTEND;TZID=Asia/Beirut:20240621T203000
DTSTAMP:20260423T061921
CREATED:20240607T061435Z
LAST-MODIFIED:20240607T061435Z
UID:10006202-1719001800-1719001800@gobatroun.com
SUMMARY:Binky Live at Colonel Reef
DESCRIPTION:BINKY Live at Colonel Reef! ✨ \nJune 21 at 8:30 PM \nDon’t miss out!\n@binky.music \nFor bookings +961 03 74 35 43
URL:https://gobatroun.com/event/binky-live-at-colonel-reef/
LOCATION:Colonel Reef\, 6MX5+R2 Batroun\, Batroun\, Lebanon
CATEGORIES:Performing Arts
ATTACH;FMTTYPE=image/jpeg:https://gobatroun.com/wp-content/uploads/2024/06/Binky-Event-June-21-Colonel-Reef.jpg
GEO:34.249604995751;35.657635266722
X-APPLE-STRUCTURED-LOCATION;VALUE=URI;X-ADDRESS=Colonel Reef 6MX5+R2 Batroun Batroun Lebanon;X-APPLE-RADIUS=500;X-TITLE=6MX5+R2 Batroun:geo:35.657635266722,34.249604995751
END:VEVENT
END:VCALENDAR