BEGIN:VCALENDAR
VERSION:2.0
PRODID:-//Go Batroun - ECPv6.14.2//NONSGML v1.0//EN
CALSCALE:GREGORIAN
METHOD:PUBLISH
X-ORIGINAL-URL:https://gobatroun.com
X-WR-CALDESC:Events for Go Batroun
REFRESH-INTERVAL;VALUE=DURATION:PT1H
X-Robots-Tag:noindex
X-PUBLISHED-TTL:PT1H
BEGIN:VTIMEZONE
TZID:Asia/Beirut
BEGIN:DAYLIGHT
TZOFFSETFROM:+0200
TZOFFSETTO:+0300
TZNAME:EEST
DTSTART:20240330T220000
END:DAYLIGHT
BEGIN:STANDARD
TZOFFSETFROM:+0300
TZOFFSETTO:+0200
TZNAME:EET
DTSTART:20241026T210000
END:STANDARD
END:VTIMEZONE
BEGIN:VEVENT
DTSTART;TZID=Asia/Beirut:20240616T090000
DTEND;TZID=Asia/Beirut:20240616T090000
DTSTAMP:20260421T080851
CREATED:20240611T084540Z
LAST-MODIFIED:20240611T084700Z
UID:10006232-1718528400-1718528400@gobatroun.com
SUMMARY:SUP & Kayak
DESCRIPTION:This weekend\, we’re going to enjoy the flat crystal clear water of Batroun \, high temperatures ☀️\, paddling tours ‍♂️ & SUP Yoga sessions ‍♀️. \nPlease find below this weekend’s schedule: \n• Tour 1 Saturday Morning Sup & Kayak tour at 8:00 AM “Fun level”. \n• Tour 2 Saturday Sunset Sup & Kayak tour at 5:00 PM “Fun level”. \n• Tour 3 Sunday Morning SUP Yoga Session at 9:00 AM “Fun level” with @alikflows \n• Tour 4 Sunday Sunset SUP Yoga Session at 6:00 PM “Fun level” with @alikflows \nWe will paddle for an approximate of 2 hours\, enjoying the morning energy boost and the sunset magical colors. We will end our events by the beach at @colonelreefbatroun for a nice gathering. \nEvents Participation Fees: \n* Stand Up Paddle 20$/Pers.\n* Kayak Double 15$/Pers (30$ Total).\n* SUP Yoga Session 25$/Pers. \nThese Events Include:\nStand up boards\, Kayaks\, Routes guides\, Yoga instructor\, Basic paddling lesson\, Paddles. \nFor Reservation please contact Routes team or via WhatsApp +961 76 338 762 ☎️ \nYou will also have the opportunity to spend the rest of the day roaming the breathtaking city of Batroun and its numerous activities. \n⚠️ Disclaimer: All tours are tentative to be canceled due to sudden weather change. \nSee you all!
URL:https://gobatroun.com/event/sup-kayak-4/2024-06-16/1/
LOCATION:Colonel Reef\, 6MX5+R2 Batroun\, Batroun\, Lebanon
CATEGORIES:Sports
ATTACH;FMTTYPE=image/jpeg:https://gobatroun.com/wp-content/uploads/2024/05/SUP-weekly.jpg
GEO:34.249604995751;35.657635266722
X-APPLE-STRUCTURED-LOCATION;VALUE=URI;X-ADDRESS=Colonel Reef 6MX5+R2 Batroun Batroun Lebanon;X-APPLE-RADIUS=500;X-TITLE=6MX5+R2 Batroun:geo:35.657635266722,34.249604995751
END:VEVENT
BEGIN:VEVENT
DTSTART;TZID=Asia/Beirut:20240616T090000
DTEND;TZID=Asia/Beirut:20240616T190000
DTSTAMP:20260421T080851
CREATED:20240528T072916Z
LAST-MODIFIED:20240610T110117Z
UID:10006219-1718528400-1718564400@gobatroun.com
SUMMARY:Le temps des Cherries
DESCRIPTION:⭐️ LE TEMPS DES CHERRIES is HERE! ⭐️ \nAnticipated and praised\, this outing is finally here for 3 dates: June 8\, 15 and 22. \nWhat to expect:\nWe’ll start the day in Sayed’s orchard\, where he’ll be delighted to tell us all about cherries and teach us how to pick them. You’ll hear stories about these ruddy fruits\, and after picking\, you can buy directly from him. \nWe’ll then head to our friends who are hosting SNOUNOU and his guests in their garden to relax\, and enjoy a terroir lunch made of local specialties and twists prepared by the ladies of the village. \nIn the afternoon\, we’ll take a cultural stroll through the village\, learning about its history and anecdotes and enjoying its beauty. \nDate: Saturday 15 June.\nDeparture from Beirut: 09:00\nReturn to Beirut: approx. 19:00. \nPrice per person: 45$\nGroup of 10 and up: 40$\nGroup of 20 and up: 35$\nChildren under 12 = $25\nChildren under 5 = free \nIncluding:\n– Round trip transportation by bus.\n– Cherry picking with Sayed\n– A promenade through the village of CHATINE with storytelling\n– Terroir Lunch : a table of local specialties and twists.\n– Arak.\n– Rosé and White wine.\n– Dessert table.\n– Coffee\, snacks\, juices \nHurry and reserve now on +961 70 302 833\nPlaces are limited.
URL:https://gobatroun.com/event/le-temps-des-cherries/2024-06-16/
LOCATION:Snounou Rural Life\, 5VRP+58 Chatin\, Chatin\, Lebanon
CATEGORIES:Sports
ATTACH;FMTTYPE=image/jpeg:https://gobatroun.com/wp-content/uploads/2024/05/June-Cherry-Harvest-Events.jpg
GEO:34.190413448483;35.885857992208
X-APPLE-STRUCTURED-LOCATION;VALUE=URI;X-ADDRESS=Snounou Rural Life 5VRP+58 Chatin Chatin Lebanon;X-APPLE-RADIUS=500;X-TITLE=5VRP+58 Chatin:geo:35.885857992208,34.190413448483
END:VEVENT
BEGIN:VEVENT
DTSTART;TZID=Asia/Beirut:20240616T170000
DTEND;TZID=Asia/Beirut:20240616T170000
DTSTAMP:20260421T080851
CREATED:20240611T084540Z
LAST-MODIFIED:20240611T084700Z
UID:10006233-1718557200-1718557200@gobatroun.com
SUMMARY:SUP & Kayak
DESCRIPTION:This weekend\, we’re going to enjoy the flat crystal clear water of Batroun \, high temperatures ☀️\, paddling tours ‍♂️ & SUP Yoga sessions ‍♀️. \nPlease find below this weekend’s schedule: \n• Tour 1 Saturday Morning Sup & Kayak tour at 8:00 AM “Fun level”. \n• Tour 2 Saturday Sunset Sup & Kayak tour at 5:00 PM “Fun level”. \n• Tour 3 Sunday Morning SUP Yoga Session at 9:00 AM “Fun level” with @alikflows \n• Tour 4 Sunday Sunset SUP Yoga Session at 6:00 PM “Fun level” with @alikflows \nWe will paddle for an approximate of 2 hours\, enjoying the morning energy boost and the sunset magical colors. We will end our events by the beach at @colonelreefbatroun for a nice gathering. \nEvents Participation Fees: \n* Stand Up Paddle 20$/Pers.\n* Kayak Double 15$/Pers (30$ Total).\n* SUP Yoga Session 25$/Pers. \nThese Events Include:\nStand up boards\, Kayaks\, Routes guides\, Yoga instructor\, Basic paddling lesson\, Paddles. \nFor Reservation please contact Routes team or via WhatsApp +961 76 338 762 ☎️ \nYou will also have the opportunity to spend the rest of the day roaming the breathtaking city of Batroun and its numerous activities. \n⚠️ Disclaimer: All tours are tentative to be canceled due to sudden weather change. \nSee you all!
URL:https://gobatroun.com/event/sup-kayak-4/2024-06-16/2/
LOCATION:Colonel Reef\, 6MX5+R2 Batroun\, Batroun\, Lebanon
CATEGORIES:Sports
ATTACH;FMTTYPE=image/jpeg:https://gobatroun.com/wp-content/uploads/2024/05/SUP-weekly.jpg
GEO:34.249604995751;35.657635266722
X-APPLE-STRUCTURED-LOCATION;VALUE=URI;X-ADDRESS=Colonel Reef 6MX5+R2 Batroun Batroun Lebanon;X-APPLE-RADIUS=500;X-TITLE=6MX5+R2 Batroun:geo:35.657635266722,34.249604995751
END:VEVENT
BEGIN:VEVENT
DTSTART;TZID=Asia/Beirut:20240616T203000
DTEND;TZID=Asia/Beirut:20240616T203000
DTSTAMP:20260421T080851
CREATED:20240611T092922Z
LAST-MODIFIED:20240611T092922Z
UID:10006235-1718569800-1718569800@gobatroun.com
SUMMARY:Casa Bar Events for the Week
DESCRIPTION:RSVP +961 81 328 117
URL:https://gobatroun.com/event/casa-bar-events-for-the-week/2024-06-16/
LOCATION:Casa Bar
CATEGORIES:Performing Arts
ATTACH;FMTTYPE=image/jpeg:https://gobatroun.com/wp-content/uploads/2024/06/June-15-16-Events.jpg
END:VEVENT
BEGIN:VEVENT
DTSTART;TZID=Asia/Beirut:20240616T210000
DTEND;TZID=Asia/Beirut:20240616T210000
DTSTAMP:20260421T080851
CREATED:20240614T060149Z
LAST-MODIFIED:20240614T064748Z
UID:10006250-1718571600-1718571600@gobatroun.com
SUMMARY:Mohammad El Majzoub at Kai Beach
DESCRIPTION:Mohammad El Majzoub Live Performance at Kai Beach \nInfo & Reservations +961 79 188 988
URL:https://gobatroun.com/event/mohammad-el-majzoub-at-kai-beach/
LOCATION:Kai Beach\, 6J7X+FV Madfoun\, Madfoun\, Lebanon
CATEGORIES:Performing Arts
ATTACH;FMTTYPE=image/jpeg:https://gobatroun.com/wp-content/uploads/2024/06/June-16-Eventt.jpg
END:VEVENT
END:VCALENDAR