BEGIN:VCALENDAR
VERSION:2.0
PRODID:-//Go Batroun - ECPv6.14.2//NONSGML v1.0//EN
CALSCALE:GREGORIAN
METHOD:PUBLISH
X-ORIGINAL-URL:https://gobatroun.com
X-WR-CALDESC:Events for Go Batroun
REFRESH-INTERVAL;VALUE=DURATION:PT1H
X-Robots-Tag:noindex
X-PUBLISHED-TTL:PT1H
BEGIN:VTIMEZONE
TZID:Asia/Beirut
BEGIN:DAYLIGHT
TZOFFSETFROM:+0200
TZOFFSETTO:+0300
TZNAME:EEST
DTSTART:20240330T220000
END:DAYLIGHT
BEGIN:STANDARD
TZOFFSETFROM:+0300
TZOFFSETTO:+0200
TZNAME:EET
DTSTART:20241026T210000
END:STANDARD
END:VTIMEZONE
BEGIN:VEVENT
DTSTART;TZID=Asia/Beirut:20240609T090000
DTEND;TZID=Asia/Beirut:20240609T090000
DTSTAMP:20260421T132214
CREATED:20240531T063430Z
LAST-MODIFIED:20240604T072714Z
UID:10006179-1717923600-1717923600@gobatroun.com
SUMMARY:SUP & Kayak
DESCRIPTION:This weekend\, we’re going to enjoy the flat crystal clear water of Batroun \, high temperatures ☀️\, paddling tours ‍♂️ & SUP Yoga sessions ‍♀️. \nPlease find below this weekend’s schedule: \n• Tour 1 Saturday Morning Sup & Kayak tour at 8:00 AM “Fun level”. \n• Tour 2 Saturday Sunset Sup & Kayak tour at 5:00 PM “Fun level”. \n• Tour 3 Sunday Morning SUP Yoga Session at 9:00 AM “Fun level” with @alikflows \n• Tour 4 Sunday Sunset SUP Yoga Session at 6:00 PM “Fun level” with @alikflows \nWe will paddle for an approximate of 2 hours\, enjoying the morning energy boost and the sunset magical colors. We will end our events by the beach at @colonelreefbatroun for a nice gathering. \nEvents Participation Fees: \n* Stand Up Paddle 20$/Pers.\n* Kayak Double 15$/Pers (30$ Total).\n* SUP Yoga Session 25$/Pers. \nThese Events Include:\nStand up boards\, Kayaks\, Routes guides\, Yoga instructor\, Basic paddling lesson\, Paddles. \nFor Reservation please contact Routes team or via WhatsApp +961 76 338 762 ☎️ \nYou will also have the opportunity to spend the rest of the day roaming the breathtaking city of Batroun and its numerous activities. \n⚠️ Disclaimer: All tours are tentative to be canceled due to sudden weather change. \nSee you all!
URL:https://gobatroun.com/event/sup-kayak-2/2024-06-09/1/
LOCATION:Colonel Reef\, 6MX5+R2 Batroun\, Batroun\, Lebanon
CATEGORIES:Sports
ATTACH;FMTTYPE=image/jpeg:https://gobatroun.com/wp-content/uploads/2024/05/SUP-weekly.jpg
GEO:34.249604995751;35.657635266722
X-APPLE-STRUCTURED-LOCATION;VALUE=URI;X-ADDRESS=Colonel Reef 6MX5+R2 Batroun Batroun Lebanon;X-APPLE-RADIUS=500;X-TITLE=6MX5+R2 Batroun:geo:35.657635266722,34.249604995751
END:VEVENT
BEGIN:VEVENT
DTSTART;TZID=Asia/Beirut:20240609T090000
DTEND;TZID=Asia/Beirut:20240609T090000
DTSTAMP:20260421T132214
CREATED:20240604T072831Z
LAST-MODIFIED:20240604T072921Z
UID:10006183-1717923600-1717923600@gobatroun.com
SUMMARY:SUP & Kayak
DESCRIPTION:This weekend\, we’re going to enjoy the flat crystal clear water of Batroun \, high temperatures ☀️\, paddling tours ‍♂️ & SUP Yoga sessions ‍♀️. \nPlease find below this weekend’s schedule: \n• Tour 1 Saturday Morning Sup & Kayak tour at 8:00 AM “Fun level”. \n• Tour 2 Saturday Sunset Sup & Kayak tour at 5:00 PM “Fun level”. \n• Tour 3 Sunday Morning SUP Yoga Session at 9:00 AM “Fun level” with @alikflows \n• Tour 4 Sunday Sunset SUP Yoga Session at 6:00 PM “Fun level” with @alikflows \nWe will paddle for an approximate of 2 hours\, enjoying the morning energy boost and the sunset magical colors. We will end our events by the beach at @colonelreefbatroun for a nice gathering. \nEvents Participation Fees: \n* Stand Up Paddle 20$/Pers.\n* Kayak Double 15$/Pers (30$ Total).\n* SUP Yoga Session 25$/Pers. \nThese Events Include:\nStand up boards\, Kayaks\, Routes guides\, Yoga instructor\, Basic paddling lesson\, Paddles. \nFor Reservation please contact Routes team or via WhatsApp +961 76 338 762 ☎️ \nYou will also have the opportunity to spend the rest of the day roaming the breathtaking city of Batroun and its numerous activities. \n⚠️ Disclaimer: All tours are tentative to be canceled due to sudden weather change. \nSee you all!
URL:https://gobatroun.com/event/sup-kayak-3/2024-06-09/1/
LOCATION:Colonel Reef\, 6MX5+R2 Batroun\, Batroun\, Lebanon
CATEGORIES:Sports
ATTACH;FMTTYPE=image/jpeg:https://gobatroun.com/wp-content/uploads/2024/05/SUP-weekly.jpg
GEO:34.249604995751;35.657635266722
X-APPLE-STRUCTURED-LOCATION;VALUE=URI;X-ADDRESS=Colonel Reef 6MX5+R2 Batroun Batroun Lebanon;X-APPLE-RADIUS=500;X-TITLE=6MX5+R2 Batroun:geo:35.657635266722,34.249604995751
END:VEVENT
BEGIN:VEVENT
DTSTART;TZID=Asia/Beirut:20240609T170000
DTEND;TZID=Asia/Beirut:20240609T170000
DTSTAMP:20260421T132214
CREATED:20240531T063430Z
LAST-MODIFIED:20240604T072714Z
UID:10006180-1717952400-1717952400@gobatroun.com
SUMMARY:SUP & Kayak
DESCRIPTION:This weekend\, we’re going to enjoy the flat crystal clear water of Batroun \, high temperatures ☀️\, paddling tours ‍♂️ & SUP Yoga sessions ‍♀️. \nPlease find below this weekend’s schedule: \n• Tour 1 Saturday Morning Sup & Kayak tour at 8:00 AM “Fun level”. \n• Tour 2 Saturday Sunset Sup & Kayak tour at 5:00 PM “Fun level”. \n• Tour 3 Sunday Morning SUP Yoga Session at 9:00 AM “Fun level” with @alikflows \n• Tour 4 Sunday Sunset SUP Yoga Session at 6:00 PM “Fun level” with @alikflows \nWe will paddle for an approximate of 2 hours\, enjoying the morning energy boost and the sunset magical colors. We will end our events by the beach at @colonelreefbatroun for a nice gathering. \nEvents Participation Fees: \n* Stand Up Paddle 20$/Pers.\n* Kayak Double 15$/Pers (30$ Total).\n* SUP Yoga Session 25$/Pers. \nThese Events Include:\nStand up boards\, Kayaks\, Routes guides\, Yoga instructor\, Basic paddling lesson\, Paddles. \nFor Reservation please contact Routes team or via WhatsApp +961 76 338 762 ☎️ \nYou will also have the opportunity to spend the rest of the day roaming the breathtaking city of Batroun and its numerous activities. \n⚠️ Disclaimer: All tours are tentative to be canceled due to sudden weather change. \nSee you all!
URL:https://gobatroun.com/event/sup-kayak-2/2024-06-09/2/
LOCATION:Colonel Reef\, 6MX5+R2 Batroun\, Batroun\, Lebanon
CATEGORIES:Sports
ATTACH;FMTTYPE=image/jpeg:https://gobatroun.com/wp-content/uploads/2024/05/SUP-weekly.jpg
GEO:34.249604995751;35.657635266722
X-APPLE-STRUCTURED-LOCATION;VALUE=URI;X-ADDRESS=Colonel Reef 6MX5+R2 Batroun Batroun Lebanon;X-APPLE-RADIUS=500;X-TITLE=6MX5+R2 Batroun:geo:35.657635266722,34.249604995751
END:VEVENT
BEGIN:VEVENT
DTSTART;TZID=Asia/Beirut:20240609T170000
DTEND;TZID=Asia/Beirut:20240609T170000
DTSTAMP:20260421T132214
CREATED:20240604T072831Z
LAST-MODIFIED:20240604T072921Z
UID:10006184-1717952400-1717952400@gobatroun.com
SUMMARY:SUP & Kayak
DESCRIPTION:This weekend\, we’re going to enjoy the flat crystal clear water of Batroun \, high temperatures ☀️\, paddling tours ‍♂️ & SUP Yoga sessions ‍♀️. \nPlease find below this weekend’s schedule: \n• Tour 1 Saturday Morning Sup & Kayak tour at 8:00 AM “Fun level”. \n• Tour 2 Saturday Sunset Sup & Kayak tour at 5:00 PM “Fun level”. \n• Tour 3 Sunday Morning SUP Yoga Session at 9:00 AM “Fun level” with @alikflows \n• Tour 4 Sunday Sunset SUP Yoga Session at 6:00 PM “Fun level” with @alikflows \nWe will paddle for an approximate of 2 hours\, enjoying the morning energy boost and the sunset magical colors. We will end our events by the beach at @colonelreefbatroun for a nice gathering. \nEvents Participation Fees: \n* Stand Up Paddle 20$/Pers.\n* Kayak Double 15$/Pers (30$ Total).\n* SUP Yoga Session 25$/Pers. \nThese Events Include:\nStand up boards\, Kayaks\, Routes guides\, Yoga instructor\, Basic paddling lesson\, Paddles. \nFor Reservation please contact Routes team or via WhatsApp +961 76 338 762 ☎️ \nYou will also have the opportunity to spend the rest of the day roaming the breathtaking city of Batroun and its numerous activities. \n⚠️ Disclaimer: All tours are tentative to be canceled due to sudden weather change. \nSee you all!
URL:https://gobatroun.com/event/sup-kayak-3/2024-06-09/2/
LOCATION:Colonel Reef\, 6MX5+R2 Batroun\, Batroun\, Lebanon
CATEGORIES:Sports
ATTACH;FMTTYPE=image/jpeg:https://gobatroun.com/wp-content/uploads/2024/05/SUP-weekly.jpg
GEO:34.249604995751;35.657635266722
X-APPLE-STRUCTURED-LOCATION;VALUE=URI;X-ADDRESS=Colonel Reef 6MX5+R2 Batroun Batroun Lebanon;X-APPLE-RADIUS=500;X-TITLE=6MX5+R2 Batroun:geo:35.657635266722,34.249604995751
END:VEVENT
BEGIN:VEVENT
DTSTART;TZID=Asia/Beirut:20240609T170000
DTEND;TZID=Asia/Beirut:20240609T170000
DTSTAMP:20260421T132214
CREATED:20240606T053424Z
LAST-MODIFIED:20240606T055734Z
UID:10006198-1717952400-1717952400@gobatroun.com
SUMMARY:Batroun Souks Dinner
DESCRIPTION:Happening on June 9\, the proceeds of the event will go towards the greenery initiative. Dinner will include open buffet and open bar with live band oriental music \nDoor fee $50 \nFor info +961 70 709 706
URL:https://gobatroun.com/event/batroun-souks-dinner/
LOCATION:Batroun Old Souk\, 7M45+JG Batroun\, Lebanon
CATEGORIES:Performing Arts
ATTACH;FMTTYPE=image/jpeg:https://gobatroun.com/wp-content/uploads/2024/06/Sq-June-9-Souk.jpg
END:VEVENT
BEGIN:VEVENT
DTSTART;TZID=Asia/Beirut:20240609T173000
DTEND;TZID=Asia/Beirut:20240609T173000
DTSTAMP:20260421T132214
CREATED:20240603T120956Z
LAST-MODIFIED:20240603T124306Z
UID:10006173-1717954200-1717954200@gobatroun.com
SUMMARY:The Dream Continues: Calisthenics Park
DESCRIPTION:الرياضة هي لغة عالمية تفهمها جميع الشعوب… \nتتشرف شبيبة كاريتاس لبنان، بلدية البترون، ونادي ميدل ايست وريورز\nبدعوتكم لافتتاح Calisthenics Park \nالمكان: الحديقة العامة – البترون – مدخل المدينة قرب مركز الدفاع المدني \nالزمان: نهار الاحد ٩ حزيران ٢٠٢٤ الساعة ٥:٣٠ مساءً \nحضوركم يشرفنا ويشجّع شبيبتنا
URL:https://gobatroun.com/event/the-dream-continues-calisthenics-park/
LOCATION:Batroun Park\, 6MX8+7G4\, Batroun\, Batroun\, Lebanon
CATEGORIES:Sports
ATTACH;FMTTYPE=image/jpeg:https://gobatroun.com/wp-content/uploads/2024/06/June-9th-event.jpg
END:VEVENT
BEGIN:VEVENT
DTSTART;TZID=Asia/Beirut:20240609T210000
DTEND;TZID=Asia/Beirut:20240609T210000
DTSTAMP:20260421T132214
CREATED:20240604T081853Z
LAST-MODIFIED:20240604T081853Z
UID:10006195-1717966800-1717966800@gobatroun.com
SUMMARY:Comedy Night
DESCRIPTION:Brace yourself for an evening of non-stop laughter! We’re thrilled to present a stellar comedy lineup on June 9th.\n• Gstrings\n• Stephanie Ghalbouni\n• Rodrigue Ghosn (Host) \n Date: June 9th\n⏰ Doors Open: 8 PM\n Show Starts: 9 PM\n 15$
URL:https://gobatroun.com/event/comedy-night/
LOCATION:HANGLOOSE\, 6MW6+PQ Batroun\, Batroun\, Lebanon
CATEGORIES:Performing Arts
ATTACH;FMTTYPE=image/jpeg:https://gobatroun.com/wp-content/uploads/2024/06/June-9th.jpg
ORGANIZER;CN="HANGLOOSE":MAILTO:contact@info.com
GEO:34.246771332534;35.661930198875
X-APPLE-STRUCTURED-LOCATION;VALUE=URI;X-ADDRESS=HANGLOOSE 6MW6+PQ Batroun Batroun Lebanon;X-APPLE-RADIUS=500;X-TITLE=6MW6+PQ Batroun:geo:35.661930198875,34.246771332534
END:VEVENT
END:VCALENDAR