BEGIN:VCALENDAR
VERSION:2.0
PRODID:-//Go Batroun - ECPv6.14.2//NONSGML v1.0//EN
CALSCALE:GREGORIAN
METHOD:PUBLISH
X-WR-CALNAME:Go Batroun
X-ORIGINAL-URL:https://gobatroun.com
X-WR-CALDESC:Events for Go Batroun
REFRESH-INTERVAL;VALUE=DURATION:PT1H
X-Robots-Tag:noindex
X-PUBLISHED-TTL:PT1H
BEGIN:VTIMEZONE
TZID:Asia/Beirut
BEGIN:DAYLIGHT
TZOFFSETFROM:+0200
TZOFFSETTO:+0300
TZNAME:EEST
DTSTART:20240330T220000
END:DAYLIGHT
BEGIN:STANDARD
TZOFFSETFROM:+0300
TZOFFSETTO:+0200
TZNAME:EET
DTSTART:20241026T210000
END:STANDARD
END:VTIMEZONE
BEGIN:VEVENT
DTSTART;TZID=Asia/Beirut:20240601T080000
DTEND;TZID=Asia/Beirut:20240601T080000
DTSTAMP:20260424T065650
CREATED:20240515T105806Z
LAST-MODIFIED:20240531T062732Z
UID:10006158-1717228800-1717228800@gobatroun.com
SUMMARY:SUP & Kayak
DESCRIPTION:This weekend\, we’re going to enjoy the flat crystal clear water of Batroun \, high temperatures ☀️\, paddling tours ‍♂️ & SUP Yoga sessions ‍♀️. \nPlease find below this weekend’s schedule: \n• Tour 1 Saturday Morning Sup & Kayak tour at 8:00 AM “Fun level”. \n• Tour 2 Saturday Sunset Sup & Kayak tour at 5:00 PM “Fun level”. \n• Tour 3 Sunday Morning SUP Yoga Session at 9:00 AM “Fun level” with @alikflows \n• Tour 4 Sunday Sunset SUP Yoga Session at 6:00 PM “Fun level” with @alikflows \nWe will paddle for an approximate of 2 hours\, enjoying the morning energy boost and the sunset magical colors. We will end our events by the beach at @colonelreefbatroun for a nice gathering. \nEvents Participation Fees: \n* Stand Up Paddle 20$/Pers.\n* Kayak Double 15$/Pers (30$ Total).\n* SUP Yoga Session 25$/Pers. \nThese Events Include:\nStand up boards\, Kayaks\, Routes guides\, Yoga instructor\, Basic paddling lesson\, Paddles. \nFor Reservation please contact Routes team or via WhatsApp +961 76 338 762 ☎️ \nYou will also have the opportunity to spend the rest of the day roaming the breathtaking city of Batroun and its numerous activities. \n⚠️ Disclaimer: All tours are tentative to be canceled due to sudden weather change. \nSee you all!
URL:https://gobatroun.com/event/sup-kayak/2024-06-01/1/
LOCATION:Colonel Reef\, 6MX5+R2 Batroun\, Batroun\, Lebanon
CATEGORIES:Sports
ATTACH;FMTTYPE=image/jpeg:https://gobatroun.com/wp-content/uploads/2024/05/SUP-weekly.jpg
GEO:34.249604995751;35.657635266722
X-APPLE-STRUCTURED-LOCATION;VALUE=URI;X-ADDRESS=Colonel Reef 6MX5+R2 Batroun Batroun Lebanon;X-APPLE-RADIUS=500;X-TITLE=6MX5+R2 Batroun:geo:35.657635266722,34.249604995751
END:VEVENT
BEGIN:VEVENT
DTSTART;TZID=Asia/Beirut:20240601T150000
DTEND;TZID=Asia/Beirut:20240601T150000
DTSTAMP:20260424T065650
CREATED:20240527T114726Z
LAST-MODIFIED:20240527T114726Z
UID:10006137-1717254000-1717254000@gobatroun.com
SUMMARY:Snawbar Camping Retreat
DESCRIPTION:**Join Us for the Snawbar Camping Retreat!** ️ \nWe are thrilled to invite you to our upcoming Snawbar Camping Retreat! Join us for a rejuvenating weekend filled with meditation\, hiking\, creative sessions\, and more. Below is the full schedule and details for the event: \n**Event Schedule:** \n**Saturday**\n2:00 PM – 3:00 PM: Arrival\, Welcome & Settling Down\n3:30 PM: Breathwork Circle with @heal.shine.rita ️\n5:30 PM: Painting Your Emotions with @fa_tima_is_art  (Additional $20 for those who wish to paint on a canvas and take it home)\n6:30 PM: Sunset Yoga with @massoudjoanna ‍♀️\n8:00 PM: Pizza Dinner\n9:00 PM: Jamming Session Around the Bonfire\n9:30 PM: Sound Journey Under the Stars with @heal.shine.rita ✨ \n**Sunday**\n7:30 AM: Morning Meditation with Rita\n8:00 AM: Lebanese Heartful Breakfast\n9:00 AM: Departure for a Beautiful Hike in the Forest Towards Batroun\n9:30 AM: Standing Shamanic Flow Among Pine Trees with Rita\n10:45 AM: Arrival to Batroun – Wander the Old Streets of Batroun or Join the Adventure of Stand Up Paddle Along the Phoenician Wall with @Routes\n12:00 PM: Fun Tuk Tuk Ride Back to Snawbar Camping\n1:00 PM: Buffet Soulful Lunch\n2:30 PM: Clay Therapy Session with @fa_tima_is_art (Additional $20)\n4:00 PM: Embodiment Session and Closing Ceremony with Rita  \n**Fee:**\nDay 1: $65\nDay 2: $85 \n**Accommodation options:** Additional fees apply .\n1. Tent rental ⛺\n2. Bungalow rental\n3. Caravan rental  \n**Location:** Snawbar Camping Grounds\, Ijdabra – Batroun\n**For more information and for reservations:**  +961 03 959 554 \nWe look forward to having you with us for an unforgettable experience!  \nWarm regards\,
URL:https://gobatroun.com/event/snawbar-camping-retreat/
LOCATION:Snaw Bar Camping\, 6MRV+PW Ijdabra\, Ijdabra\, Lebanon
CATEGORIES:Sports
ATTACH;FMTTYPE=image/jpeg:https://gobatroun.com/wp-content/uploads/2024/05/June-1st-and-2nd-eventss.jpg
GEO:34.241856415941;35.694771331139
X-APPLE-STRUCTURED-LOCATION;VALUE=URI;X-ADDRESS=Snaw Bar Camping 6MRV+PW Ijdabra Ijdabra Lebanon;X-APPLE-RADIUS=500;X-TITLE=6MRV+PW Ijdabra:geo:35.694771331139,34.241856415941
END:VEVENT
BEGIN:VEVENT
DTSTART;TZID=Asia/Beirut:20240601T150000
DTEND;TZID=Asia/Beirut:20240601T180000
DTSTAMP:20260424T065650
CREATED:20240531T071722Z
LAST-MODIFIED:20240531T071722Z
UID:10006166-1717254000-1717264800@gobatroun.com
SUMMARY:International Children Day
DESCRIPTION:Juggling Show\, Face Painting\, Mascots\, Cooking\, Craft\, Games. \n10$ / Kid \nReservation is a must +961 70 224 987 \n  \n 
URL:https://gobatroun.com/event/international-children-day/
LOCATION:Dream Ville
CATEGORIES:Performing Arts
ATTACH;FMTTYPE=image/jpeg:https://gobatroun.com/wp-content/uploads/2024/05/June-1st-event-3.jpg
END:VEVENT
BEGIN:VEVENT
DTSTART;TZID=Asia/Beirut:20240601T180000
DTEND;TZID=Asia/Beirut:20240601T180000
DTSTAMP:20260424T065650
CREATED:20240515T105806Z
LAST-MODIFIED:20240531T062732Z
UID:10006159-1717264800-1717264800@gobatroun.com
SUMMARY:SUP & Kayak
DESCRIPTION:This weekend\, we’re going to enjoy the flat crystal clear water of Batroun \, high temperatures ☀️\, paddling tours ‍♂️ & SUP Yoga sessions ‍♀️. \nPlease find below this weekend’s schedule: \n• Tour 1 Saturday Morning Sup & Kayak tour at 8:00 AM “Fun level”. \n• Tour 2 Saturday Sunset Sup & Kayak tour at 5:00 PM “Fun level”. \n• Tour 3 Sunday Morning SUP Yoga Session at 9:00 AM “Fun level” with @alikflows \n• Tour 4 Sunday Sunset SUP Yoga Session at 6:00 PM “Fun level” with @alikflows \nWe will paddle for an approximate of 2 hours\, enjoying the morning energy boost and the sunset magical colors. We will end our events by the beach at @colonelreefbatroun for a nice gathering. \nEvents Participation Fees: \n* Stand Up Paddle 20$/Pers.\n* Kayak Double 15$/Pers (30$ Total).\n* SUP Yoga Session 25$/Pers. \nThese Events Include:\nStand up boards\, Kayaks\, Routes guides\, Yoga instructor\, Basic paddling lesson\, Paddles. \nFor Reservation please contact Routes team or via WhatsApp +961 76 338 762 ☎️ \nYou will also have the opportunity to spend the rest of the day roaming the breathtaking city of Batroun and its numerous activities. \n⚠️ Disclaimer: All tours are tentative to be canceled due to sudden weather change. \nSee you all!
URL:https://gobatroun.com/event/sup-kayak/2024-06-01/2/
LOCATION:Colonel Reef\, 6MX5+R2 Batroun\, Batroun\, Lebanon
CATEGORIES:Sports
ATTACH;FMTTYPE=image/jpeg:https://gobatroun.com/wp-content/uploads/2024/05/SUP-weekly.jpg
GEO:34.249604995751;35.657635266722
X-APPLE-STRUCTURED-LOCATION;VALUE=URI;X-ADDRESS=Colonel Reef 6MX5+R2 Batroun Batroun Lebanon;X-APPLE-RADIUS=500;X-TITLE=6MX5+R2 Batroun:geo:35.657635266722,34.249604995751
END:VEVENT
BEGIN:VEVENT
DTSTART;TZID=Asia/Beirut:20240601T193000
DTEND;TZID=Asia/Beirut:20240601T193000
DTSTAMP:20260424T065650
CREATED:20240530T054335Z
LAST-MODIFIED:20240530T054335Z
UID:10006153-1717270200-1717270200@gobatroun.com
SUMMARY:Saturday with ABE
DESCRIPTION:Join us for an unforgettable evening with Abe\, live at Vine\nRSVP now to secure your spot +961 71 455 882
URL:https://gobatroun.com/event/saturday-with-abe/
LOCATION:Vine\, Smar Jbeil\, 6M9R+95 Smar Jbeil\, Smar Jbeil\, Lebanon
CATEGORIES:Performing Arts
ATTACH;FMTTYPE=image/jpeg:https://gobatroun.com/wp-content/uploads/2024/05/June-1st-Event.jpg
END:VEVENT
BEGIN:VEVENT
DTSTART;TZID=Asia/Beirut:20240601T210000
DTEND;TZID=Asia/Beirut:20240601T210000
DTSTAMP:20260424T065650
CREATED:20240527T112920Z
LAST-MODIFIED:20240527T113245Z
UID:10006136-1717275600-1717275600@gobatroun.com
SUMMARY:Natalya Safy & The Band
DESCRIPTION:A Musical Night with Natalya Safy and the Band” \nJoin us at Bistr’eau Saturday\, June 1st\, for an enchanting evening of live music! \nNatalya Safy and her talented band will serenade you with soulful melodies and captivating rhythms. \nContact us at +961 70 222 151 to secure your spot! \nDon’t miss this unforgettable night of music\, good company\, and delicious food. ✨ See you there!
URL:https://gobatroun.com/event/natalya-safy-the-band/
LOCATION:Bistr’eau\, 7M45+R6 Batroun\, Batroun\, Lebanon
CATEGORIES:Performing Arts
ATTACH;FMTTYPE=image/jpeg:https://gobatroun.com/wp-content/uploads/2024/05/Event-1st-June.jpg
GEO:34.257087531138;35.658026709096
X-APPLE-STRUCTURED-LOCATION;VALUE=URI;X-ADDRESS=Bistr’eau 7M45+R6 Batroun Batroun Lebanon;X-APPLE-RADIUS=500;X-TITLE=7M45+R6 Batroun:geo:35.658026709096,34.257087531138
END:VEVENT
BEGIN:VEVENT
DTSTART;TZID=Asia/Beirut:20240601T210000
DTEND;TZID=Asia/Beirut:20240601T210000
DTSTAMP:20260424T065650
CREATED:20240531T072926Z
LAST-MODIFIED:20240531T072926Z
UID:10006167-1717275600-1717275600@gobatroun.com
SUMMARY:Sunset Spritz FT. Jad
DESCRIPTION:Sunset Spritz FT.Jad every Saturday \nRSVP: +961 71 872 417
URL:https://gobatroun.com/event/sunset-spritz-ft-jad/
LOCATION:HANGLOOSE\, 6MW6+PQ Batroun\, Batroun\, Lebanon
CATEGORIES:Performing Arts
ATTACH;FMTTYPE=image/jpeg:https://gobatroun.com/wp-content/uploads/2024/05/June-1st-Eventt.jpg
ORGANIZER;CN="HANGLOOSE":MAILTO:contact@info.com
GEO:34.246771332534;35.661930198875
X-APPLE-STRUCTURED-LOCATION;VALUE=URI;X-ADDRESS=HANGLOOSE 6MW6+PQ Batroun Batroun Lebanon;X-APPLE-RADIUS=500;X-TITLE=6MW6+PQ Batroun:geo:35.661930198875,34.246771332534
END:VEVENT
BEGIN:VEVENT
DTSTART;TZID=Asia/Beirut:20240601T210000
DTEND;TZID=Asia/Beirut:20240601T210000
DTSTAMP:20260424T065650
CREATED:20240531T080908Z
LAST-MODIFIED:20240531T081005Z
UID:10006169-1717275600-1717275600@gobatroun.com
SUMMARY:Oriental Night with a twist
DESCRIPTION:Oriental Night by Ghinwa & Joe FT DJ GIO (George Nassar) \nMenu A La Carte
URL:https://gobatroun.com/event/oriental-night-with-a-twist-2/
LOCATION:Omnia bistro bar\, 7M45+GQ Batroun\, Batroun\, Lebanon
CATEGORIES:Performing Arts
ATTACH;FMTTYPE=image/jpeg:https://gobatroun.com/wp-content/uploads/2024/05/June-1st-event-Omnia-Batroun.jpg
GEO:34.256282323463;35.65947578638
X-APPLE-STRUCTURED-LOCATION;VALUE=URI;X-ADDRESS=Omnia bistro bar 7M45+GQ Batroun Batroun Lebanon;X-APPLE-RADIUS=500;X-TITLE=7M45+GQ Batroun:geo:35.65947578638,34.256282323463
END:VEVENT
END:VCALENDAR