BEGIN:VCALENDAR
VERSION:2.0
PRODID:-//Go Batroun - ECPv6.14.2//NONSGML v1.0//EN
CALSCALE:GREGORIAN
METHOD:PUBLISH
X-WR-CALNAME:Go Batroun
X-ORIGINAL-URL:https://gobatroun.com
X-WR-CALDESC:Events for Go Batroun
REFRESH-INTERVAL;VALUE=DURATION:PT1H
X-Robots-Tag:noindex
X-PUBLISHED-TTL:PT1H
BEGIN:VTIMEZONE
TZID:Asia/Beirut
BEGIN:DAYLIGHT
TZOFFSETFROM:+0200
TZOFFSETTO:+0300
TZNAME:EEST
DTSTART:20240330T220000
END:DAYLIGHT
BEGIN:STANDARD
TZOFFSETFROM:+0300
TZOFFSETTO:+0200
TZNAME:EET
DTSTART:20241026T210000
END:STANDARD
END:VTIMEZONE
BEGIN:VEVENT
DTSTART;TZID=Asia/Beirut:20240530T190000
DTEND;TZID=Asia/Beirut:20240530T190000
DTSTAMP:20260423T065334
CREATED:20240527T104808Z
LAST-MODIFIED:20240527T110729Z
UID:10006135-1717095600-1717095600@gobatroun.com
SUMMARY:DJ MB at Blubay
DESCRIPTION:DJ MB’s Live Performance at BluBay
URL:https://gobatroun.com/event/dj-mb-at-blubay/
LOCATION:Blu Bay Batroun\, 6MW6+QJ Batroun\, Batroun\, Lebanon
CATEGORIES:Performing Arts
ATTACH;FMTTYPE=image/jpeg:https://gobatroun.com/wp-content/uploads/2024/05/Event-30-May-.jpg
END:VEVENT
BEGIN:VEVENT
DTSTART;TZID=Asia/Beirut:20240530T200000
DTEND;TZID=Asia/Beirut:20240530T200000
DTSTAMP:20260423T065334
CREATED:20230531T132138Z
LAST-MODIFIED:20240528T064939Z
UID:10003387-1717099200-1717099200@gobatroun.com
SUMMARY:Open Wings and Beer at Casa Bar
DESCRIPTION:Doors Open 8:00 PM\nRSVP & Info : +961 81 328 117
URL:https://gobatroun.com/event/open-wings-and-beer-at-casa-bar-2/
LOCATION:Casa Bar
CATEGORIES:Performing Arts
ATTACH;FMTTYPE=image/jpeg:https://gobatroun.com/wp-content/uploads/2023/05/may-30-event.jpg
END:VEVENT
BEGIN:VEVENT
DTSTART;TZID=Asia/Beirut:20240530T200000
DTEND;TZID=Asia/Beirut:20240530T200000
DTSTAMP:20260423T065334
CREATED:20240508T060950Z
LAST-MODIFIED:20240508T060950Z
UID:10006105-1717099200-1717099200@gobatroun.com
SUMMARY:حبر وألوان: مئوية نبي
DESCRIPTION:ثانوية راهبات القلبين الأقدسين- ألبترون \nحبر وألوان: مئوية نبي \nمسرحية غنائية راقصة بمناسبة مئوية كتاب النبي للمبدع اللبناني الكبير جبران خليل جبران \nألخميس 30 أيار 2024 – ألثامنة مساء \nمدرج كاتدرائية مار اسطفان – ألبترون \nلحجز البطاقات: \n+961 71 022 054
URL:https://gobatroun.com/event/%d8%ad%d8%a8%d8%b1-%d9%88%d8%a3%d9%84%d9%88%d8%a7%d9%86-%d9%85%d8%a6%d9%88%d9%8a%d8%a9-%d9%86%d8%a8%d9%8a/
LOCATION:St. Stephen Cathedral\, 7M45+RFX \, Batroun\, Batroun\, Lebanon
CATEGORIES:Performing Arts
ATTACH;FMTTYPE=image/jpeg:https://gobatroun.com/wp-content/uploads/2024/05/حبر-وألوان.jpg
ORGANIZER;CN="%D8%AB%D8%A7%D9%86%D9%88%D9%8A%D8%A9 %D8%B1%D8%A7%D9%87%D8%A8%D8%A7%D8%AA %D8%A7%D9%84%D9%82%D9%84%D8%A8%D9%8A%D9%86 %D8%A7%D9%84%D8%A3%D9%82%D8%AF%D8%B3%D9%8A%D9%86- %D8%A3%D9%84%D8%A8%D8%AA%D8%B1%D9%88%D9%86":MAILTO:info@bp.sscc.edu.lb
GEO:34.257127548512;35.658741221432
X-APPLE-STRUCTURED-LOCATION;VALUE=URI;X-ADDRESS=St. Stephen Cathedral 7M45+RFX  Batroun Batroun Lebanon;X-APPLE-RADIUS=500;X-TITLE=7M45+RFX \, Batroun:geo:35.658741221432,34.257127548512
END:VEVENT
BEGIN:VEVENT
DTSTART;TZID=Asia/Beirut:20240531T000000
DTEND;TZID=Asia/Beirut:20240531T000000
DTSTAMP:20260423T065334
CREATED:20240531T054833Z
LAST-MODIFIED:20240531T054833Z
UID:10006155-1717113600-1717113600@gobatroun.com
SUMMARY:Blushing Martini
DESCRIPTION:Welcome Summer with Blushing Martini featuring  ALNKVN\, JON JAY\, MARVEN\, ROY MANOUK \nEntrance Fee 20$ \nFor Tables & Lounges\, contact:  +961 70 436 244
URL:https://gobatroun.com/event/blushing-martini/
CATEGORIES:Performing Arts
ATTACH;FMTTYPE=image/jpeg:https://gobatroun.com/wp-content/uploads/2024/05/June-1st-Event-1.jpg
END:VEVENT
END:VCALENDAR